BEGIN:VCALENDAR
VERSION:2.0
PRODID:-//NSSC Volleyball Club | Cape Girardeau, MO - ECPv6.15.20//NONSGML v1.0//EN
CALSCALE:GREGORIAN
METHOD:PUBLISH
X-WR-CALNAME:NSSC Volleyball Club | Cape Girardeau, MO
X-ORIGINAL-URL:https://nsscvolleyball.com
X-WR-CALDESC:Events for NSSC Volleyball Club | Cape Girardeau, MO
REFRESH-INTERVAL;VALUE=DURATION:PT1H
X-Robots-Tag:noindex
X-PUBLISHED-TTL:PT1H
BEGIN:VTIMEZONE
TZID:America/Chicago
BEGIN:DAYLIGHT
TZOFFSETFROM:-0600
TZOFFSETTO:-0500
TZNAME:CDT
DTSTART:20250309T080000
END:DAYLIGHT
BEGIN:STANDARD
TZOFFSETFROM:-0500
TZOFFSETTO:-0600
TZNAME:CST
DTSTART:20251102T070000
END:STANDARD
BEGIN:DAYLIGHT
TZOFFSETFROM:-0600
TZOFFSETTO:-0500
TZNAME:CDT
DTSTART:20260308T080000
END:DAYLIGHT
BEGIN:STANDARD
TZOFFSETFROM:-0500
TZOFFSETTO:-0600
TZNAME:CST
DTSTART:20261101T070000
END:STANDARD
BEGIN:DAYLIGHT
TZOFFSETFROM:-0600
TZOFFSETTO:-0500
TZNAME:CDT
DTSTART:20270314T080000
END:DAYLIGHT
BEGIN:STANDARD
TZOFFSETFROM:-0500
TZOFFSETTO:-0600
TZNAME:CST
DTSTART:20271107T070000
END:STANDARD
END:VTIMEZONE
BEGIN:VEVENT
DTSTART;VALUE=DATE:20260320
DTEND;VALUE=DATE:20260323
DTSTAMP:20260421T061847
CREATED:20251109T222403Z
LAST-MODIFIED:20260217T023056Z
UID:10007221-1773964800-1774223999@nsscvolleyball.com
SUMMARY:Nike MEQ National Qualifier
DESCRIPTION:America Center Convention\n\n701 Convention Center PlazaSt. Louis\, MO 63101\n\nschedule – https://www.advancedeventsystems.com/events/40900 \n\n11 Nike will be competing in the 11 National Division\n12 Nike will be competing in the 12 American Division\n14 Nike will be competing in the 14 Liberty Division\n\nFor 12s\, they expect 1 National and American and 2 USA bids and for 11s\, 1 National Bid. \nMEQ Weekend #2 St. Louis (3/20-3/22) \nStart Times for day 1 of MEQ #2 in St. Louis. These are tentative\, but we will do our best to stay within the general guidelines. \n8 AM:\nAll Open\n11 National\, 12 National\n13 Liberty\, 14 Liberty\n13 USA \n230 PM\n14 American\n14 Select\n12 USA \n8 AM or 230 PM  (depending on seeding):\n13 American\n12 American \n  \nCompetitive Divisions:\nThe order of strength for nationals will be Open (13-18s)\, National\, USA\, Liberty\, American\, Freedom (from regions only) and Patriot. \n\nOpen: The highest level of competition\, designed for teams looking to compete against the best in the country.\nUSA: A high-level division\, typically one level below Open.\nNational: A high-level division for 11s-17s\, with 11s-12s earning bids at qualifiers/regions\, and 13s-18s primarily through region events.\nLiberty: A competitive level that requires a bid earned at a Qualifier.\nAmerican: A mid-level division allowing teams to compete at a national level\, with bids earned at qualifiers or regional events.\nFreedom: A division for 14s-17s\, with bids earned through regional events.\nPatriot: A division that does not require a bid to participate in the National Championship; it is open to teams that want to compete without having to qualify.
URL:https://nsscvolleyball.com/event/nike-meq-national-qualifier-2/
LOCATION:America Center\, 701 Convention Plaza\, St. Louis\, 63101\, United States
CATEGORIES:Girls 11 Nike,Girls 12 Nike,Girls 14 Nike
END:VEVENT
BEGIN:VEVENT
DTSTART;VALUE=DATE:20260313
DTEND;VALUE=DATE:20260316
DTSTAMP:20260421T061848
CREATED:20251109T211346Z
LAST-MODIFIED:20260302T184929Z
UID:10007218-1773360000-1773619199@nsscvolleyball.com
SUMMARY:Nike MEQ National Qualifier
DESCRIPTION:Nike Mideast Qualifier STL \n\n15 Nike is competing in the 15 USA Division\n16 Nike is competing in the 16 American Red Division\n\nMEQ gives 3 bids in Open\, USA\, Liberty\, and 2 in American. \nHost: Capitol Sports Center\nLocation: America Center Convention\n701 Convention Center PlazaSt. Louis\, MO 63101\nSchedule – https://www.advancedeventsystems.com/events/40898 \nMEQ Weekend #1 St. Louis (3/13-3/15) \nStart Times for day 1 of MEQ #1 in St. Louis. These are tentative\, but we will do our best to stay within the general guidelines. \n8 AM:\nAll Open\n15 USA – 15 NIke\n15 Liberty \n230 PM\n14 USA\n15 Select\n16 Liberty\n16 Select \n8 AM or 230 PM  (depending on seeding):\n15 American (about half of the pools will be at the Beal Center)\n16 American Red (2:30p start) \n  \n  \nOur Hotel – Crowne Plaza Airport St. Louis\, 11228 Lone Eagle Drive\, St. Louis\, MO 63044 \nCompetitive Divisions:\nThe order of strength for nationals will be Open (13-18s)\, National\, USA\, Liberty\, American\, Freedom (from regions only) and Patriot. \n\nOpen: The highest level of competition\, designed for teams looking to compete against the best in the country.\nUSA: A high-level division\, typically one level below Open.\nNational: A high-level division for 11s-17s\, with 11s-12s earning bids at qualifiers/regions\, and 13s-18s primarily through region events.\nLiberty: A competitive level that requires a bid earned at a Qualifier.\nAmerican: A mid-level division allowing teams to compete at a national level\, with bids earned at qualifiers or regional events.\nFreedom: A division for 14s-17s\, with bids earned through regional events.\nPatriot: A division that does not require a bid to participate in the National Championship; it is open to teams that want to compete without having to qualify.
URL:https://nsscvolleyball.com/event/nike-meq-national-qualifier/
LOCATION:America Center\, 701 Convention Plaza\, St. Louis\, 63101\, United States
CATEGORIES:Girls 15 Nike,Girls 16 Nike
END:VEVENT
BEGIN:VEVENT
DTSTART;VALUE=DATE:20260214
DTEND;VALUE=DATE:20260217
DTSTAMP:20260421T061848
CREATED:20251109T191957Z
LAST-MODIFIED:20260212T171121Z
UID:10007203-1771027200-1771286399@nsscvolleyball.com
SUMMARY:Nike President's Day Classic in St. Louis
DESCRIPTION:Host: Capitol Sports Center\n\n· America’s Center – 701 Convention Plaza\, St Louis\, MO 63101 (Courts 1-94) \n· The Beal Center– 150 N. Eatherton Rd. Chesterfield\, MO 63005 (Courts 95-108) \n\n  \nSchedule – \nhttps://www.advancedeventsystems.com/events/40882 \nCourts 1-25 are in the dome\, and 26-87 are in the main halls.  All of these courts are only accessible via the hall 4 entrance.  Courts 88-91 are in the upstairs ballroom and 92-94 are in the atrium.   Courts 95-108 are at the Chesterfield location\, Beal Fieldhouse. \n  \nStL Parking Map – https://cdn3.sportngin.com/attachments/document/e704-3136451/STL_Preferred_Parking.pdf?_gl=1*1hj5kdc*_ga*MTM3ODA3MzE0NC4xNzcwOTEzNDYz#_ga=2.83574878.992171798.1770913463-1378073144.1770913463 \nWave Times for STL \n8 AM:\nAll Open\n15 Premier\n15 Club (14 of 16 pools will be at Beal Center)\, 17 Club\n11 Open/12 Premier\n11 Girls \n230 PM:\n18\, 17\, 16\, 14\, 13 Premier\n18\, 16\, 13 Club\n14 Club (14 of 16 Pools will be a at Beal Center) \n8 AM or 230 PM (depending on seeding):\n12 Club: 4 Pools AM & 4 Pools PM \n  \nADMISSION INFO – STL NIKE PRES DAY CLASSIC 2026 (Feb 14-16) \nCoaches / Parents / Spectators – \nThank you for attending the 2026 Nike President’s Day Classic in St. Louis. We will be using our traditional method for Admission in 2026. Everyone will be required to show a wristband for the weekend or for the day (except for players who only need to show their uniform). Beginning Friday night (Feb 13th)\, wristbands (3 day wristbands only!) will be available from 3:00pm – 7:30pm in Room 120 (outside Hall 2 at the Convention Center) and then available throughout the weekend in that same room. Admissions will open at 6:45am on Saturday\, Sunday & Monday morning at the convention center. We will also be using The Beal Center in Chesterfield this year. This facility will have wristbands available Saturday – Monday (Daily and Weekend) for purchase starting at 7am each day. Please be aware that credit card lines can become long. To avoid delays\, we are recommending that everyone use cash to purchase wristbands when possible. The cash lines move much quicker and will not delay you in getting to your court. You do not have to come to the convention center to purchase a wristband if you play at The Beal Center\, as they are available on site there. Wristbands will work for entry at both facilities. Single Day passes are available only on the day they are used. \nPrices will be as follows: \n1 Day Pass – $20 \n3 Day Pass – $50 \n12 and under are Free \nWe are advising everyone to always keep your wristband on. If you lose or forget it\, you will be expected to purchase a new one. \nWe will NOT be offering an option to pay online in advance of the tournament. All wristbands will be sold at the event. \n  \nFull Tournament Info – https://www.capitolsportscenter.com/presidentsdayclassic \n 
URL:https://nsscvolleyball.com/event/nike-presidents-day-classic-in-st-louis/
LOCATION:America Center\, 701 Convention Plaza\, St. Louis\, 63101\, United States
CATEGORIES:Girls 11 Nike,Girls 12 Nike,Girls 14 Nike,Girls 15 Nike,Girls 16 Nike,Girls 17 Nike
END:VEVENT
BEGIN:VEVENT
DTSTART;VALUE=DATE:20260207
DTEND;VALUE=DATE:20260210
DTSTAMP:20260421T061848
CREATED:20251007T221101Z
LAST-MODIFIED:20251007T222538Z
UID:10006848-1770422400-1770681599@nsscvolleyball.com
SUMMARY:Dennis Lafata Boys Bid Classic
DESCRIPTION:USAV National Qualifier – Boys\n\nGateway (GW)\n\nHost: Capitol Sports Center\, Gateway Region\n\nLocation:\nAmerica Center\n\nAddress \n701 Convention PlazaSt. Louis\, MO 63101\n\n \nhttps://www.advancedeventsystems.com/events/40922
URL:https://nsscvolleyball.com/event/dennis-lafata-boys-bid-classic/
LOCATION:America Center\, 701 Convention Plaza\, St. Louis\, 63101\, United States
CATEGORIES:Boys 12 Nike,Boys 18 Nike
END:VEVENT
END:VCALENDAR