BEGIN:VCALENDAR
VERSION:2.0
PRODID:-//NSSC Volleyball Club | Cape Girardeau, MO - ECPv6.15.20//NONSGML v1.0//EN
CALSCALE:GREGORIAN
METHOD:PUBLISH
X-ORIGINAL-URL:https://nsscvolleyball.com
X-WR-CALDESC:Events for NSSC Volleyball Club | Cape Girardeau, MO
REFRESH-INTERVAL;VALUE=DURATION:PT1H
X-Robots-Tag:noindex
X-PUBLISHED-TTL:PT1H
BEGIN:VTIMEZONE
TZID:America/Chicago
BEGIN:DAYLIGHT
TZOFFSETFROM:-0600
TZOFFSETTO:-0500
TZNAME:CDT
DTSTART:20240310T080000
END:DAYLIGHT
BEGIN:STANDARD
TZOFFSETFROM:-0500
TZOFFSETTO:-0600
TZNAME:CST
DTSTART:20241103T070000
END:STANDARD
BEGIN:DAYLIGHT
TZOFFSETFROM:-0600
TZOFFSETTO:-0500
TZNAME:CDT
DTSTART:20250309T080000
END:DAYLIGHT
BEGIN:STANDARD
TZOFFSETFROM:-0500
TZOFFSETTO:-0600
TZNAME:CST
DTSTART:20251102T070000
END:STANDARD
BEGIN:DAYLIGHT
TZOFFSETFROM:-0600
TZOFFSETTO:-0500
TZNAME:CDT
DTSTART:20260308T080000
END:DAYLIGHT
BEGIN:STANDARD
TZOFFSETFROM:-0500
TZOFFSETTO:-0600
TZNAME:CST
DTSTART:20261101T070000
END:STANDARD
END:VTIMEZONE
BEGIN:VEVENT
DTSTART;TZID=America/Chicago:20251123T173000
DTEND;TZID=America/Chicago:20251123T193000
DTSTAMP:20260424T132633
CREATED:20251109T163110Z
LAST-MODIFIED:20251109T174407Z
UID:10007178-1763919000-1763926200@nsscvolleyball.com
SUMMARY:Practice
DESCRIPTION:5:30 – 7:30 PM at Sportsplex \n15 Nike 1a \n15 Black 6a \n15 White 6a \n15 Gray 6b \n15 Yellow 6b \n16 Nike 1a \n16 Black 2b \n16 White 2a \n17 Nike 1b \n17 Black 1b \n17 White 5a \n18 Black 5a \n18 Boys 5b
URL:https://nsscvolleyball.com/event/practice-7/
LOCATION:Sportsplex\, 526 Jim Drury Way\, Cape Girardeau\, MO\, 63701\, United States
CATEGORIES:Boys 18 Nike,Girls 15 Black,Girls 15 Gray,Girls 15 Nike,Girls 15 White,Girls 15 Yellow,Girls 16 Black,Girls 16 Nike,Girls 16 White,Girls 17 Black,Girls 17 Nike,Girls 17 White,Girls 18 Black
END:VEVENT
BEGIN:VEVENT
DTSTART;TZID=America/Chicago:20251119T183000
DTEND;TZID=America/Chicago:20251119T203000
DTSTAMP:20260424T132633
CREATED:20251109T173009Z
LAST-MODIFIED:20251117T181740Z
UID:10007151-1763577000-1763584200@nsscvolleyball.com
SUMMARY:15U-18U Practice
DESCRIPTION:Practice is at Sportsplex unless otherwise noted below \n15 Nike 1a \n15 Black – 5a \n15 White – 5b \n15 Gray – 6a \n15 Yellow 6a \n15 Slate 6b \n15 Pink 6b \n16 Nike – 1b \n16 Black – 5b \n16 White 2a \n17 Nike – 1b \n17 Black – 1a \n17 White 2b \n18 Black 2b
URL:https://nsscvolleyball.com/event/15u-18u-practice-2-3/
LOCATION:MO
CATEGORIES:Girls 15,Girls 15 Black,Girls 15 Gray,Girls 15 Nike,Girls 15 Pink,Girls 15 Slate,Girls 15 White,Girls 15 Yellow,Girls 16,Girls 16 Black,Girls 16 Nike,Girls 16 White,Girls 17,Girls 17 Black,Girls 17 Nike,Girls 17 White,Girls 18 Black
END:VEVENT
BEGIN:VEVENT
DTSTART;TZID=America/Chicago:20251116T173000
DTEND;TZID=America/Chicago:20251116T193000
DTSTAMP:20260424T132633
CREATED:20251109T161644Z
LAST-MODIFIED:20251114T190152Z
UID:10007174-1763314200-1763321400@nsscvolleyball.com
SUMMARY:Practice
DESCRIPTION:Time TBD based on basketball tournament this day – Tentative 5:30-7:30 PM  – all teams are at Sportsplex Courts unless otherwise noted below \n15 Nike – – AT OSAGE \n15 Black 2a \n15 White 2b \n15 Yellow 5b \n15 Gray – 5a \n16 Nike – AT OSAGE \n16 Black 6b \n16 White 6a \n17 Nike – AT OSAGE \n17 Black  1b \n17 White 1a \n18 Black – HOUCK FIELD HOUSE
URL:https://nsscvolleyball.com/event/practice-5/
LOCATION:MO
CATEGORIES:Girls 15 Black,Girls 15 Gray,Girls 15 Nike,Girls 15 White,Girls 15 Yellow,Girls 16 Black,Girls 16 Nike,Girls 16 White,Girls 17 Black,Girls 17 Nike,Girls 17 White,Girls 18 Black
END:VEVENT
BEGIN:VEVENT
DTSTART;TZID=America/Chicago:20251112T183000
DTEND;TZID=America/Chicago:20251112T203000
DTSTAMP:20260424T132633
CREATED:20251109T165728Z
LAST-MODIFIED:20251112T202359Z
UID:10006996-1762972200-1762979400@nsscvolleyball.com
SUMMARY:15U-18U Practice
DESCRIPTION:Girls 15U-17U Practice at the Sportsplex \nAT SPORTSPLEX: \n15U – Courts 1 and 6 \n16U Courts 2a\, 2b \n17U- Courts 5a\, 5b \n  \nAT HOUCK FIELD HOUSE: 18 Black Girls
URL:https://nsscvolleyball.com/event/15u-18u-practice-2-2/
LOCATION:MO
CATEGORIES:Girls 15,Girls 15 Black,Girls 15 Gray,Girls 15 Nike,Girls 15 Pink,Girls 15 Slate,Girls 15 White,Girls 15 Yellow,Girls 16,Girls 16 Black,Girls 16 Nike,Girls 16 White,Girls 17,Girls 17 Black,Girls 17 Nike,Girls 17 White,Girls 18 Black
END:VEVENT
BEGIN:VEVENT
DTSTART;VALUE=DATE:20251109
DTEND;VALUE=DATE:20251110
DTSTAMP:20260424T132633
CREATED:20251106T214318Z
LAST-MODIFIED:20251109T170418Z
UID:10007009-1762646400-1762732799@nsscvolleyball.com
SUMMARY:Club-Wide Practice
DESCRIPTION:2-3:30 PM – Sportsplex Courts  \n10U – courts 5a\, 5b \n11U – courts 1 and 6 \n12U – courts 2a\, 2b \n  \n3:30-5:30 – Sportsplex Courts \n13U – courts 2a\, 2b\, 5a \n14U – courts 1 and 6 \n  \n5:30-7:30 Sportsplex Courts \n15U – Courts 1 and 6 \n16U – Courts 2a\, 2b \n17U – Courts 5a\, 5b \n  \nGirls 18U at Houck Field House 6-8 PM \n 
URL:https://nsscvolleyball.com/event/club-wide-practice/
LOCATION:Sportsplex\, 526 Jim Drury Way\, Cape Girardeau\, MO\, 63701\, United States
CATEGORIES:Girls 10,Girls 11,Girls 12,Girls 13,Girls 14,Girls 15,Girls 16,Girls 17 Black,Girls 17 Nike,Girls 18 Black
END:VEVENT
BEGIN:VEVENT
DTSTART;TZID=America/Chicago:20251107T180000
DTEND;TZID=America/Chicago:20251107T210000
DTSTAMP:20260424T132633
CREATED:20251020T124846Z
LAST-MODIFIED:20251020T124950Z
UID:10006856-1762538400-1762549200@nsscvolleyball.com
SUMMARY:NSSC Volleyball Club Night at SEMO Volleyball Game
DESCRIPTION:🏐 NSSC Club Night at SEMO Women’s Volleyball\nFriday\, November 7th | SEMO vs. Lindenwood | Game starts at 6:00 PM | Houck Field House \nJoin us for a special evening celebrating the NSSC Volleyball family at the SEMO Women’s Volleyball game! This is more than just a game—it’s a chance to come together\, cheer loud\, and give our athletes a moment they’ll never forget. \nHere’s what makes this night extra special: \n\nFree Youth Ticket Offer: Every paid adult ticket comes with a free youth ticket when purchased online.\n🎟 Get your tickets at: semoredhawks.com/tickets\nNational Anthem Performance by “Double Take” — NSSC’s own Will and Wyatt Stinnett (Boys 18 Nike).\nHigh 5 Tunnel featuring NSSC athletes! This is a team favorite and a fun way for kids to be part of the action.\n\nWhether you’re a returning family or just starting your volleyball journey\, we’d love to see you there. Mark your calendar\, grab your tickets\, and let’s pack the gym with NSSC energy! \n💬 Questions? Reach out to your coach or one of our club directors—we’ll make sure you’ve got all the details. \nLet’s show up strong—on and off the court.
URL:https://nsscvolleyball.com/event/nssc-volleyball-club-night-at-semo-volleyball-game/
LOCATION:Houck Field House\, 400 Houck Pl.\, Cape Girardeau\, 63701\, United States
CATEGORIES:Boys 12 Nike,Boys 18 Nike,Girls 10,Girls 11,Girls 12,Girls 13,Girls 14,Girls 15,Girls 16,Girls 17 Black,Girls 17 Nike,Girls 18 Black
END:VEVENT
BEGIN:VEVENT
DTSTART;TZID=America/Chicago:20251105T183000
DTEND;TZID=America/Chicago:20251105T203000
DTSTAMP:20260424T132633
CREATED:20251029T233206Z
LAST-MODIFIED:20251029T233248Z
UID:10006995-1762367400-1762374600@nsscvolleyball.com
SUMMARY:15U-18U Practice
DESCRIPTION:Girls 15U-17U Practice at the Sportsplex\, 18U at Osage Center.
URL:https://nsscvolleyball.com/event/15u-18u-practice/
LOCATION:MO
CATEGORIES:Girls 15,Girls 16,Girls 17 Black,Girls 17 Nike,Girls 18 Black
END:VEVENT
BEGIN:VEVENT
DTSTART;VALUE=DATE:20251102
DTEND;VALUE=DATE:20251103
DTSTAMP:20260424T132633
CREATED:20250728T150756Z
LAST-MODIFIED:20251101T214631Z
UID:10006830-1762041600-1762127999@nsscvolleyball.com
SUMMARY:1st Day of Club-Wide Practice!
DESCRIPTION:2-3:30 PM – Sportsplex Courts  \nGIRLS 10U\, 11U\, 12U\, BOYS 12U \n1a -12 boys\n1b – 11s\n6a – 11s\n6b – 11s\n2a- 12s\n2b – 10s \n3:30-5:30 – Sportsplex Courts \nGIRLS 13U\, 14U \nCourts 1 and 6a 14 short seasons\nCourts 6b – 13 long\nCourt 2 – 14 long/ Nike\nCourts 2 – 13 short seasons \n5:30-7:30 Sportsplex Courts \nGIRLS 15U\, 16U\, 17U \nCourt 1a- 15\nCourt 1b-15\nCourt 6a – 15\nCourt 6b -15\nCourt 2a-16\nCourt 2b – 16\nCourt 3a-17\nCourt 3b 17 \nOsage Center Courts \nGIRLS & BOYS 18U 6P-8P \nGirls 18 Osage 6-8\nBoys 18 Osage 6-8 \n 
URL:https://nsscvolleyball.com/event/1st-day-of-club-wide-practice/
LOCATION:Sportsplex\, 526 Jim Drury Way\, Cape Girardeau\, MO\, 63701\, United States
CATEGORIES:Girls 10,Girls 11,Girls 11 Nike,Girls 12,Girls 12 Nike,Girls 13,Girls 14,Girls 14 Nike,Girls 15,Girls 15 Nike,Girls 16,Girls 16 Nike,Girls 17 Black,Girls 17 Nike,Girls 18 Black
END:VEVENT
BEGIN:VEVENT
DTSTART;TZID=America/Chicago:20251025T104500
DTEND;TZID=America/Chicago:20251025T114500
DTSTAMP:20260424T132633
CREATED:20251023T115119Z
LAST-MODIFIED:20251023T115119Z
UID:10006857-1761389100-1761392700@nsscvolleyball.com
SUMMARY:17U Hitter Tryout
DESCRIPTION:🔍 17U Girls Hitter – One Roster Spot Open\nTryout: Saturday\, October 25 @ 10:45 AM\nLocation: The Sportsplex\n(1-hour session | RSVP required) \nWe have one open spot on our 17U girls teams—and we’re looking for a dedicated hitter ready to grow\, compete\, and work hard this season. \nWhether you’ve played club before or you’re just now finding a passion for the sport\, this could be your opportunity to train with purpose\, challenge yourself\, and become part of a team that believes in earned excellence. \nTryout Details: \n\n🕥 Time: Saturday\, October 25 at 10:45 AM\n📍 Location: The Sportsplex (1-hour session)\n💲 Fee: $25 (pay at check-in)\n\nAlready tried out with us in July? Your fee is waived.\n\n\n✅ RSVP is required – Register below\n\nReady to see if this is the right fit? We’d love to meet you on the court. \nPLEASE LOG IN TO YOUR ACCOUNT TO RSVP!
URL:https://nsscvolleyball.com/event/17u-hitter-tryout/
LOCATION:Sportsplex\, 526 Jim Drury Way\, Cape Girardeau\, MO\, 63701\, United States
CATEGORIES:Girls 17 Black,Girls 17 Nike
END:VEVENT
BEGIN:VEVENT
DTSTART;TZID=America/Chicago:20251025T080000
DTEND;TZID=America/Chicago:20251025T120000
DTSTAMP:20260424T132633
CREATED:20250618T152026Z
LAST-MODIFIED:20251024T133643Z
UID:10006819-1761379200-1761393600@nsscvolleyball.com
SUMMARY:Girls 10U-14U NSSC Club Tryouts
DESCRIPTION:We will be holding a one-day tryout for our 2025-2026 club season. This tryout is for 10U-14U-aged female athletes only. \nSaturday\, October 25th\, 2025\n13U & 14U runs 8AM – 10:30AM\n10U\, 11U\, & 12U runs 12PM – 2PM\nCheck in opens ONE HOUR before tryouts start. \n$25.00 non-refundable fee \n📌 Please Note: To be eligible for our youngest 10U team\, participants must turn 8 years old before July 1st\, 2026. \nNOTE: If you are selected for a spot in our club – Commitment Night and Uniform Sizing is on Sunday\, Oct 26th between 4-7 PM where a $600 down payment is required. \nTryouts and Commitment Night take place at The Sportsplex\, Cape Girardeau\, MO. \n$25 + $1 Service Fee = $26 \nPLEASE DO NOT REFRESH SCREEN WHEN YOU PROCESS YOUR PAYMENT. CHECK YOUR EMAIL FOR A RECEIPT. AS MANY TIMES AS THE CONFIRMATION SCREEN WILL NOT APPEAR\, BUT YOUR ORDER WILL GO THROUGH. To view purchased tickets\, go to MY ACCOUNT on the top left navigation bar\, then scroll down to view your tickets.
URL:https://nsscvolleyball.com/event/girls-10u-14u-nssc-club-tryouts/
LOCATION:Sportsplex\, 526 Jim Drury Way\, Cape Girardeau\, MO\, 63701\, United States
CATEGORIES:Girls 10,Girls 11,Girls 12,Girls 13,Girls 15,Girls 16,Girls 17 Black,Girls 18 Black,Tryouts
ATTACH;FMTTYPE=image/png:https://nsscvolleyball.com/wp-content/uploads/2025/04/NSSC-Templates-Header-Presentation-1.png
END:VEVENT
BEGIN:VEVENT
DTSTART;TZID=America/Chicago:20250727T160000
DTEND;TZID=America/Chicago:20250727T190000
DTSTAMP:20260424T132633
CREATED:20250720T115231Z
LAST-MODIFIED:20250729T093516Z
UID:10006829-1753632000-1753642800@nsscvolleyball.com
SUMMARY:15U-18U Commitment Night
DESCRIPTION:If your athlete was invited to join NSSC this season after their Saturday tryouts\, the next step is to attend our Commitment Night. This event is REQUIRED to secure their spot on the team. Please stop by anytime between 4:00 PM and 7:00 PM. We will be located in the backroom of the Sportsplex. A $600 down payment is required.
URL:https://nsscvolleyball.com/event/15u-18u-commitment-night/
LOCATION:Sportsplex\, 526 Jim Drury Way\, Cape Girardeau\, MO\, 63701\, United States
CATEGORIES:Girls 15,Girls 16,Girls 17 Black,Girls 18 Black,Tryouts
END:VEVENT
BEGIN:VEVENT
DTSTART;TZID=America/Chicago:20250726T080000
DTEND;TZID=America/Chicago:20250726T123000
DTSTAMP:20260424T132633
CREATED:20250409T002341Z
LAST-MODIFIED:20250729T093515Z
UID:10006792-1753516800-1753533000@nsscvolleyball.com
SUMMARY:High School NSSC Club Tryouts
DESCRIPTION:We will be holding a one-day tryout for our 2025-2026 club season. This tryout for high school-aged athletes will take place on Saturday\, July 26th \n\n\n\n15U & 18U  runs 8AM – 10AM\n\n\n\n16U & 17U runs 10:30AM-12:30PM\n\n\n\nCheck in opens ONE HOUR before tryouts start.\n\n\n\n$25.00 non-refundable fee\n\n\n$25 + $1 Service Fee = $26 PLEASE DO NOT REFRESH SCREEN WHEN YOU PROCESS YOUR PAYMENT. CHECK YOUR EMAIL FOR A RECEIPT. AS MANY TIMES AS THE CONFIRMATION SCREEN WILL NOT APPEAR\, BUT YOUR ORDER WILL GO THROUGH. To view purchased tickets\, go to MY ACCOUNT on the top left navigation bar\, then scroll down to view your tickets.
URL:https://nsscvolleyball.com/event/high-school-nssc-club-try-outs/
LOCATION:Sportsplex\, 526 Jim Drury Way\, Cape Girardeau\, MO\, 63701\, United States
CATEGORIES:Girls 15,Girls 16,Girls 17 Black,Girls 18 Black,Tryouts
ATTACH;FMTTYPE=image/png:https://nsscvolleyball.com/wp-content/uploads/2025/04/NSSC-Templates-Header-Presentation-1.png
END:VEVENT
BEGIN:VEVENT
DTSTART;TZID=America/Chicago:20250724T180000
DTEND;TZID=America/Chicago:20250724T200000
DTSTAMP:20260424T132633
CREATED:20250409T001332Z
LAST-MODIFIED:20250729T093520Z
UID:10006791-1753380000-1753387200@nsscvolleyball.com
SUMMARY:High School Open Gym
DESCRIPTION:This two-hour clinic is for girls entering their freshman through senior seasons. There are three total open gym dates to help prepare the athletes for our NSSC Tryouts on July 26th. Cost is $5 – pay at the door. You must RSVP online prior to arriving!
URL:https://nsscvolleyball.com/event/high-school-open-gym-3/
LOCATION:Sportsplex\, 526 Jim Drury Way\, Cape Girardeau\, MO\, 63701\, United States
CATEGORIES:Girls 15,Girls 16,Girls 17 Black,Girls 18 Black,Tryouts
END:VEVENT
BEGIN:VEVENT
DTSTART;TZID=America/Chicago:20250722T180000
DTEND;TZID=America/Chicago:20250722T200000
DTSTAMP:20260424T132633
CREATED:20250409T001114Z
LAST-MODIFIED:20250729T093521Z
UID:10006790-1753207200-1753214400@nsscvolleyball.com
SUMMARY:High School Open Gym
DESCRIPTION:This two-hour clinic is for girls entering their freshman through senior seasons. There are three total open gym dates to help prepare the athletes for our NSSC Tryouts on July 26th. Cost is $5 – pay at the door. You must RSVP online prior to arriving!
URL:https://nsscvolleyball.com/event/high-school-open-gym-2/
LOCATION:Sportsplex\, 526 Jim Drury Way\, Cape Girardeau\, MO\, 63701\, United States
CATEGORIES:Girls 15,Girls 16,Girls 17 Black,Girls 18 Black,Tryouts
END:VEVENT
BEGIN:VEVENT
DTSTART;TZID=America/Chicago:20250717T180000
DTEND;TZID=America/Chicago:20250717T200000
DTSTAMP:20260424T132633
CREATED:20250408T234533Z
LAST-MODIFIED:20250729T093522Z
UID:10006789-1752775200-1752782400@nsscvolleyball.com
SUMMARY:High School Open Gym
DESCRIPTION:This two-hour clinic is for girls entering their freshman through senior seasons. There are three total open gym dates to help prepare the athletes for our NSSC Tryouts on July 26th. Cost is $5 – pay at the door. You must RSVP online prior to arriving!
URL:https://nsscvolleyball.com/event/high-school-open-gym/
LOCATION:Sportsplex\, 526 Jim Drury Way\, Cape Girardeau\, MO\, 63701\, United States
CATEGORIES:Girls 15,Girls 16,Girls 17 Black,Girls 18 Black,Tryouts
END:VEVENT
END:VCALENDAR