BEGIN:VCALENDAR
VERSION:2.0
PRODID:-//NSSC Volleyball Club | Cape Girardeau, MO - ECPv6.15.20//NONSGML v1.0//EN
CALSCALE:GREGORIAN
METHOD:PUBLISH
X-WR-CALNAME:NSSC Volleyball Club | Cape Girardeau, MO
X-ORIGINAL-URL:https://nsscvolleyball.com
X-WR-CALDESC:Events for NSSC Volleyball Club | Cape Girardeau, MO
REFRESH-INTERVAL;VALUE=DURATION:PT1H
X-Robots-Tag:noindex
X-PUBLISHED-TTL:PT1H
BEGIN:VTIMEZONE
TZID:America/Chicago
BEGIN:DAYLIGHT
TZOFFSETFROM:-0600
TZOFFSETTO:-0500
TZNAME:CDT
DTSTART:20250309T080000
END:DAYLIGHT
BEGIN:STANDARD
TZOFFSETFROM:-0500
TZOFFSETTO:-0600
TZNAME:CST
DTSTART:20251102T070000
END:STANDARD
BEGIN:DAYLIGHT
TZOFFSETFROM:-0600
TZOFFSETTO:-0500
TZNAME:CDT
DTSTART:20260308T080000
END:DAYLIGHT
BEGIN:STANDARD
TZOFFSETFROM:-0500
TZOFFSETTO:-0600
TZNAME:CST
DTSTART:20261101T070000
END:STANDARD
BEGIN:DAYLIGHT
TZOFFSETFROM:-0600
TZOFFSETTO:-0500
TZNAME:CDT
DTSTART:20270314T080000
END:DAYLIGHT
BEGIN:STANDARD
TZOFFSETFROM:-0500
TZOFFSETTO:-0600
TZNAME:CST
DTSTART:20271107T070000
END:STANDARD
END:VTIMEZONE
BEGIN:VEVENT
DTSTART;VALUE=DATE:20260313
DTEND;VALUE=DATE:20260316
DTSTAMP:20260424T104903
CREATED:20251109T211346Z
LAST-MODIFIED:20260302T184929Z
UID:10007218-1773360000-1773619199@nsscvolleyball.com
SUMMARY:Nike MEQ National Qualifier
DESCRIPTION:Nike Mideast Qualifier STL \n\n15 Nike is competing in the 15 USA Division\n16 Nike is competing in the 16 American Red Division\n\nMEQ gives 3 bids in Open\, USA\, Liberty\, and 2 in American. \nHost: Capitol Sports Center\nLocation: America Center Convention\n701 Convention Center PlazaSt. Louis\, MO 63101\nSchedule – https://www.advancedeventsystems.com/events/40898 \nMEQ Weekend #1 St. Louis (3/13-3/15) \nStart Times for day 1 of MEQ #1 in St. Louis. These are tentative\, but we will do our best to stay within the general guidelines. \n8 AM:\nAll Open\n15 USA – 15 NIke\n15 Liberty \n230 PM\n14 USA\n15 Select\n16 Liberty\n16 Select \n8 AM or 230 PM  (depending on seeding):\n15 American (about half of the pools will be at the Beal Center)\n16 American Red (2:30p start) \n  \n  \nOur Hotel – Crowne Plaza Airport St. Louis\, 11228 Lone Eagle Drive\, St. Louis\, MO 63044 \nCompetitive Divisions:\nThe order of strength for nationals will be Open (13-18s)\, National\, USA\, Liberty\, American\, Freedom (from regions only) and Patriot. \n\nOpen: The highest level of competition\, designed for teams looking to compete against the best in the country.\nUSA: A high-level division\, typically one level below Open.\nNational: A high-level division for 11s-17s\, with 11s-12s earning bids at qualifiers/regions\, and 13s-18s primarily through region events.\nLiberty: A competitive level that requires a bid earned at a Qualifier.\nAmerican: A mid-level division allowing teams to compete at a national level\, with bids earned at qualifiers or regional events.\nFreedom: A division for 14s-17s\, with bids earned through regional events.\nPatriot: A division that does not require a bid to participate in the National Championship; it is open to teams that want to compete without having to qualify.
URL:https://nsscvolleyball.com/event/nike-meq-national-qualifier/
LOCATION:America Center\, 701 Convention Plaza\, St. Louis\, 63101\, United States
CATEGORIES:Girls 15 Nike,Girls 16 Nike
END:VEVENT
BEGIN:VEVENT
DTSTART;VALUE=DATE:20260315
DTEND;VALUE=DATE:20260316
DTSTAMP:20260424T104903
CREATED:20251109T205531Z
LAST-MODIFIED:20260313T023109Z
UID:10007216-1773532800-1773619199@nsscvolleyball.com
SUMMARY:CANCELLED - C3 Splashdown #14
DESCRIPTION:***Due to a water main break this event has been cancelled *****\n\nLocation\nCrossfire Champion Courts\n\n824 Lone Star DriveO’Fallon\, MO 63366\n\nSchedule \nhttps://www.advancedeventsystems.com/events/42875 \n17 White – schedule (attached) \n \n16 Black Schedule – (image attached)
URL:https://nsscvolleyball.com/event/c3-splashdown-14/
LOCATION:MO
CATEGORIES:Girls 16 Black,Girls 17 White
END:VEVENT
BEGIN:VEVENT
DTSTART;TZID=America/Chicago:20260315T173000
DTEND;TZID=America/Chicago:20260315T193000
DTSTAMP:20260424T104903
CREATED:20251130T213430Z
LAST-MODIFIED:20260314T000528Z
UID:10007343-1773595800-1773603000@nsscvolleyball.com
SUMMARY:Practice
DESCRIPTION:Practice is at Sportsplex unless otherwise noted below \nCourt 1 – 16 black / 16 white\nCourt 2 – 17 Nike / 17 black\nCourt 3 – 17 white / 14 nike\nCourt 4 – 14 Nike moves there at 6:00pm
URL:https://nsscvolleyball.com/event/practice-9-5-9/
LOCATION:The Osage Center – Cape Girardeau\, 1625 N Kingshighway St\, Cape Girardeau\, 63701\, United States
CATEGORIES:Girls 14 Nike,Girls 16 Black,Girls 16 White,Girls 17 Black,Girls 17 Nike,Girls 17 White
END:VEVENT
END:VCALENDAR