BEGIN:VCALENDAR
VERSION:2.0
PRODID:-//NSSC Volleyball Club | Cape Girardeau, MO - ECPv6.15.20//NONSGML v1.0//EN
CALSCALE:GREGORIAN
METHOD:PUBLISH
X-ORIGINAL-URL:https://nsscvolleyball.com
X-WR-CALDESC:Events for NSSC Volleyball Club | Cape Girardeau, MO
REFRESH-INTERVAL;VALUE=DURATION:PT1H
X-Robots-Tag:noindex
X-PUBLISHED-TTL:PT1H
BEGIN:VTIMEZONE
TZID:America/Chicago
BEGIN:DAYLIGHT
TZOFFSETFROM:-0600
TZOFFSETTO:-0500
TZNAME:CDT
DTSTART:20240310T080000
END:DAYLIGHT
BEGIN:STANDARD
TZOFFSETFROM:-0500
TZOFFSETTO:-0600
TZNAME:CST
DTSTART:20241103T070000
END:STANDARD
BEGIN:DAYLIGHT
TZOFFSETFROM:-0600
TZOFFSETTO:-0500
TZNAME:CDT
DTSTART:20250309T080000
END:DAYLIGHT
BEGIN:STANDARD
TZOFFSETFROM:-0500
TZOFFSETTO:-0600
TZNAME:CST
DTSTART:20251102T070000
END:STANDARD
BEGIN:DAYLIGHT
TZOFFSETFROM:-0600
TZOFFSETTO:-0500
TZNAME:CDT
DTSTART:20260308T080000
END:DAYLIGHT
BEGIN:STANDARD
TZOFFSETFROM:-0500
TZOFFSETTO:-0600
TZNAME:CST
DTSTART:20261101T070000
END:STANDARD
END:VTIMEZONE
BEGIN:VEVENT
DTSTART;TZID=America/Chicago:20251222T090000
DTEND;TZID=America/Chicago:20251222T110000
DTSTAMP:20260420T105032
CREATED:20251130T161007Z
LAST-MODIFIED:20251203T124644Z
UID:10007156-1766394000-1766401200@nsscvolleyball.com
SUMMARY:15U-18U Practice
DESCRIPTION:The week of Christmas – Practice for entire club is Monday\, Dec. 22nd – Practice is at Sportsplex unless otherwise noted below \n15 Nike – court #1a \n15 Black- court #6b \n15 White- court #6a \n15 Gray- court #2b \n16 Nike – court #4a \n16 Black – court #5a \n16 White – court #1b \n17 Nike – court #5b \n17 Black – court #2a \n17 White – court #4a \n18 Black – court #3b \nBoys 18 – 3a
URL:https://nsscvolleyball.com/event/15u-18u-practice-2-4-3/
LOCATION:MO
CATEGORIES:Boys 18 Nike,Girls 15,Girls 15 Black,Girls 15 Gray,Girls 15 Nike,Girls 15 White,Girls 16,Girls 16 Black,Girls 16 Nike,Girls 16 White,Girls 17,Girls 17 Black,Girls 17 Nike,Girls 17 White,Girls 18 Black
END:VEVENT
BEGIN:VEVENT
DTSTART;TZID=America/Chicago:20251221T173000
DTEND;TZID=America/Chicago:20251221T193000
DTSTAMP:20260420T105032
CREATED:20251203T124318Z
LAST-MODIFIED:20251221T231640Z
UID:10007331-1766338200-1766345400@nsscvolleyball.com
SUMMARY:Holiday Cheer Practice
DESCRIPTION:Everyone will be practicing at the Sportsplex! Each NSSC club team is invited to dress up in a holiday theme for their Sunday practice. From cozy PJ vibes to creative reindeer formations—we’re bringing joy to the court before the holiday break. \n\n\nPhotos will be taken on Sunday at the beginning of practice\, and voting will take place during the practice slot on social media. Families\, friends\, and fans can cast their vote by liking their favorite team photo on Instagram and Facebook. 🎁🏐\n\n\n\n\nThe team with the most combined likes wins a fun team treat and\, of course\, major bragging rights heading into the new year!\n\n\n\n\n\n\n\n\n15 Nike\n1a\n\n\n15 Black\n2a\n\n\n15 White\n6a\n\n\n15 Gray\n3b\n\n\n15 Yellow\n3b\n\n\n16 Nike\n4a\n\n\n16 Black\n3a\n\n\n16 White\n6b\n\n\n17 Nike\n1b\n\n\n17 Black\n2b\n\n\n17 White\n5b\n\n\n18 Black\nHouck\n\n\n\nBoys 4b
URL:https://nsscvolleyball.com/event/practice-9-6/
LOCATION:MO
CATEGORIES:Boys 18 Nike,Girls 15 Black,Girls 15 Gray,Girls 15 Nike,Girls 15 White,Girls 15 Yellow,Girls 16 Black,Girls 16 Nike,Girls 16 White,Girls 17 Black,Girls 17 Nike,Girls 17 White,Girls 18 Black
END:VEVENT
BEGIN:VEVENT
DTSTART;TZID=America/Chicago:20251217T183000
DTEND;TZID=America/Chicago:20251217T203000
DTSTAMP:20260420T105032
CREATED:20251203T123348Z
LAST-MODIFIED:20251203T123349Z
UID:10007155-1765996200-1766003400@nsscvolleyball.com
SUMMARY:15U-18U Practice
DESCRIPTION:Practice is at Sportsplex unless otherwise noted below \n15 Nike – court #1a \n15 Black- court #6b \n15 White- court #2b \n15 Gray- court #2a \n15 Yellow- court #5b \n15 Slate – court #5a \n15 Pink – court #5a \n16 Nike – court #1b \n16 Black – court #6a \n16 White – court #2a \n17 Nike – court #1a \n17 Black – court #1b \n17 White – court #6a \n18 Black – HOUCK FIELD HOUSE
URL:https://nsscvolleyball.com/event/15u-18u-practice-2-4-5/
LOCATION:MO
CATEGORIES:Girls 15,Girls 15 Black,Girls 15 Gray,Girls 15 Nike,Girls 15 Pink,Girls 15 Slate,Girls 15 White,Girls 15 Yellow,Girls 16,Girls 16 Black,Girls 16 Nike,Girls 16 White,Girls 17,Girls 17 Black,Girls 17 Nike,Girls 17 White,Girls 18 Black
END:VEVENT
BEGIN:VEVENT
DTSTART;TZID=America/Chicago:20251217T170000
DTEND;TZID=America/Chicago:20251217T183000
DTSTAMP:20260420T105032
CREATED:20251114T182242Z
LAST-MODIFIED:20251118T161406Z
UID:10007311-1765990800-1765996200@nsscvolleyball.com
SUMMARY:📸 Media Day
DESCRIPTION:It’s time for team photos! Cheekwood Photography will be at practices December 17 to take individual and team pictures for the 2025–2026 season. \n\n5:00pm – Individual photos\n6:00pm – team photos\n6:30pm – team practice\n\n  \n📸 Here’s what to know: Girls 15U-18U\, Boys 18U \n\nIndividual photos are optional\, but everyone must be present for the team photo.\nUniforms will be handed out on Sunday\, December 14\, so athletes should arrive wearing their full uniform—jersey\, shorts\, and kneepads.\nPhoto forms will be filled out on site when you arrive—no need to complete anything in advance.\n\nIf all Jerseys are not in by this date we will move it to the next week.
URL:https://nsscvolleyball.com/event/%f0%9f%93%b8-media-day-3/
LOCATION:Sportsplex\, 526 Jim Drury Way\, Cape Girardeau\, MO\, 63701\, United States
CATEGORIES:Boys 18 Nike,Girls 15,Girls 15 Black,Girls 15 Gray,Girls 15 Nike,Girls 15 Pink,Girls 15 Slate,Girls 15 White,Girls 15 Yellow,Girls 16,Girls 16 Black,Girls 16 Nike,Girls 16 White,Girls 17,Girls 17 Black,Girls 17 Nike,Girls 17 White,Girls 18 Black
END:VEVENT
BEGIN:VEVENT
DTSTART;VALUE=DATE:20251214
DTEND;VALUE=DATE:20251215
DTSTAMP:20260420T105032
CREATED:20251102T131801Z
LAST-MODIFIED:20251109T182458Z
UID:10006998-1765670400-1765756799@nsscvolleyball.com
SUMMARY:Sportsplex Blast Jefferson College Holiday Bash II
DESCRIPTION:Admission will be taken for spectators ages 12 and up.  Students under the age of 12 will be admitted free. Admission will be $10.  There is no charge for parking. Tournament play will begin at 8:30am and doors to the Sportsplex will open at 7:45am. \n15 Nike\, 15 Black\, 15 White\, 15 Gray\, 15 Yellow\, 15 Slate\, 15 Pink\, 16 Nike\, 16 Black\, 16 White\, 17 Nike\, 17 Black\, 17 White\, 18 Black \nSchedule – \nhttps://www.advancedeventsystems.com/41430 \n 
URL:https://nsscvolleyball.com/event/sportsplex-blast-jefferson-college-holiday-bash-ii-2/
LOCATION:Sportsplex\, 526 Jim Drury Way\, Cape Girardeau\, MO\, 63701\, United States
CATEGORIES:Girls 15,Girls 15 Black,Girls 15 Gray,Girls 15 Nike,Girls 15 Pink,Girls 15 Slate,Girls 15 White,Girls 15 Yellow,Girls 16,Girls 16 Black,Girls 16 Nike,Girls 16 White,Girls 17,Girls 17 Black,Girls 17 Nike,Girls 17 White,Girls 18 Black
END:VEVENT
BEGIN:VEVENT
DTSTART;TZID=America/Chicago:20251210T183000
DTEND;TZID=America/Chicago:20251210T203000
DTSTAMP:20260420T105032
CREATED:20251202T234422Z
LAST-MODIFIED:20251210T154940Z
UID:10007154-1765391400-1765398600@nsscvolleyball.com
SUMMARY:15U-18U Practice
DESCRIPTION:Practice is at Sportsplex unless otherwise noted below \n15 Nike – court #1a \n15 Black- court #6b \n15 White- court #2b \n15 Gray- OSAGE CENTER \n15 Yellow- – OSAGE CENTER \n15 Slate – – OSAGE CENTER \n15 Pink — OSAGE CENTER \n16 Nike – court #1b \n16 Black – court #6a \n16 White – court #2a \n17 Nike – court #1a \n17 Black – court #5a \n17 White – court #5b \n18 Black – court 5a
URL:https://nsscvolleyball.com/event/15u-18u-practice-2-4-4/
LOCATION:MO
CATEGORIES:Girls 15,Girls 15 Black,Girls 15 Gray,Girls 15 Nike,Girls 15 Pink,Girls 15 Slate,Girls 15 White,Girls 15 Yellow,Girls 16,Girls 16 Black,Girls 16 Nike,Girls 16 White,Girls 17,Girls 17 Black,Girls 17 Nike,Girls 17 White,Girls 18 Black
END:VEVENT
BEGIN:VEVENT
DTSTART;TZID=America/Chicago:20251207T173000
DTEND;TZID=America/Chicago:20251207T193000
DTSTAMP:20260420T105032
CREATED:20251115T161535Z
LAST-MODIFIED:20251207T135332Z
UID:10007329-1765128600-1765135800@nsscvolleyball.com
SUMMARY:Practice
DESCRIPTION:For the December 7th practice – please have your athlete arrive 90 minutes early – at 4pm for scorekeeping training. They will need to bring an iPad or Laptop with them to complete this training. They cannot practice without it being done. They may complete ahead of time at home as well.  \n\nLogin to their SportsEngine Account\n> Go to Credentials\n\n\n> USA Volleyball Academy (Launch)\n\n\n> Select Player (Launch)\n\n\n> Complete all six video trainings\n\n4p-5:30p – Scorekeeping training (they need device and their Sportsengine Login information) \n5:30p – Practice \n_________________ \n15 Nike – 1b \n15 Black – 2b \n15 White – 5a \n15 Gray – 5a \n15 Yellow – 5a \n  \n16 Nike – 1a \n16 Black – 6a \n16 White – 6b \n  \n17 Nike – 1a \n17 Black – 2a \n17 White – 6a \n  \n18 Black -2a
URL:https://nsscvolleyball.com/event/practice-9-2/
LOCATION:MO
CATEGORIES:Girls 15 Black,Girls 15 Gray,Girls 15 Nike,Girls 15 White,Girls 15 Yellow,Girls 16 Black,Girls 16 Nike,Girls 16 White,Girls 17 Black,Girls 17 Nike,Girls 17 White,Girls 18 Black
END:VEVENT
BEGIN:VEVENT
DTSTART;TZID=America/Chicago:20251203T183000
DTEND;TZID=America/Chicago:20251203T203000
DTSTAMP:20260420T105032
CREATED:20251130T144833Z
LAST-MODIFIED:20251130T144835Z
UID:10007153-1764786600-1764793800@nsscvolleyball.com
SUMMARY:15U-18U Practice
DESCRIPTION:Practice is at Sportsplex unless otherwise noted below \n15 Nike – court #1a \n15 Black- court #6b \n15 White- court #2b \n15 Gray- court #2a \n15 Yellow- court #5b \n15 Slate – court #5a \n15 Pink – court #5a \n16 Nike – court #1b \n16 Black – court #6a \n16 White – court #2a \n17 Nike – court #1a \n17 Black – court #1b \n17 White – court #6a \n18 Black – HOUCK FIELD HOUSE
URL:https://nsscvolleyball.com/event/15u-18u-practice-2-4-2/
LOCATION:MO
CATEGORIES:Girls 15,Girls 15 Black,Girls 15 Gray,Girls 15 Nike,Girls 15 Pink,Girls 15 Slate,Girls 15 White,Girls 15 Yellow,Girls 16,Girls 16 Black,Girls 16 Nike,Girls 16 White,Girls 17,Girls 17 Black,Girls 17 Nike,Girls 17 White,Girls 18 Black
END:VEVENT
BEGIN:VEVENT
DTSTART;TZID=America/Chicago:20251130T173000
DTEND;TZID=America/Chicago:20251130T193000
DTSTAMP:20260420T105032
CREATED:20251130T123041Z
LAST-MODIFIED:20251130T132400Z
UID:10007182-1764523800-1764531000@nsscvolleyball.com
SUMMARY:Practice
DESCRIPTION:Practice is at Sportsplex unless otherwise noted below \n15 Nike – at HOUCK FIELD HOUSE \n15 Black – 5a \n15 White 5b \n15 Gray – 6b \n15 Yellow  2b \n16 Nike 1b \n16 Black – OSAGE CENTER \n16 White – 1a \n17 Nike 6a \n17 Black – OSAGE CENTER \n17 White – OSAGE CENTER \n18 Black – at HOUCK FIELD HOUSE \n18 Boys- 2a
URL:https://nsscvolleyball.com/event/practice-9-3/
LOCATION:MO
CATEGORIES:Boys 18 Nike,Girls 15 Black,Girls 15 Gray,Girls 15 Nike,Girls 15 White,Girls 15 Yellow,Girls 16 Black,Girls 16 Nike,Girls 16 White,Girls 17 Black,Girls 17 Nike,Girls 17 White,Girls 18 Black
END:VEVENT
BEGIN:VEVENT
DTSTART;TZID=America/Chicago:20251126T183000
DTEND;TZID=America/Chicago:20251126T203000
DTSTAMP:20260420T105032
CREATED:20251029T233418Z
LAST-MODIFIED:20251109T175755Z
UID:10007152-1764181800-1764189000@nsscvolleyball.com
SUMMARY:15U-18U Practice
DESCRIPTION:Practice is at Sportsplex unless otherwise noted below \n15 Nike \n15 Black \n15 White \n15 Gray \n15 Yellow \n15 Slate \n15 Pink \n16 Nike \n16 Black \n16 White \n17 Nike \n17 Black \n17 White \n18 Black
URL:https://nsscvolleyball.com/event/15u-18u-practice-2/
LOCATION:MO
CATEGORIES:Girls 15,Girls 15 Black,Girls 15 Gray,Girls 15 Nike,Girls 15 Pink,Girls 15 Slate,Girls 15 White,Girls 15 Yellow,Girls 16,Girls 16 Black,Girls 16 Nike,Girls 16 White,Girls 17,Girls 17 Black,Girls 17 Nike,Girls 17 White,Girls 18 Black
END:VEVENT
BEGIN:VEVENT
DTSTART;TZID=America/Chicago:20251123T173000
DTEND;TZID=America/Chicago:20251123T193000
DTSTAMP:20260420T105032
CREATED:20251109T163110Z
LAST-MODIFIED:20251109T174407Z
UID:10007178-1763919000-1763926200@nsscvolleyball.com
SUMMARY:Practice
DESCRIPTION:5:30 – 7:30 PM at Sportsplex \n15 Nike 1a \n15 Black 6a \n15 White 6a \n15 Gray 6b \n15 Yellow 6b \n16 Nike 1a \n16 Black 2b \n16 White 2a \n17 Nike 1b \n17 Black 1b \n17 White 5a \n18 Black 5a \n18 Boys 5b
URL:https://nsscvolleyball.com/event/practice-7/
LOCATION:Sportsplex\, 526 Jim Drury Way\, Cape Girardeau\, MO\, 63701\, United States
CATEGORIES:Boys 18 Nike,Girls 15 Black,Girls 15 Gray,Girls 15 Nike,Girls 15 White,Girls 15 Yellow,Girls 16 Black,Girls 16 Nike,Girls 16 White,Girls 17 Black,Girls 17 Nike,Girls 17 White,Girls 18 Black
END:VEVENT
BEGIN:VEVENT
DTSTART;TZID=America/Chicago:20251119T183000
DTEND;TZID=America/Chicago:20251119T203000
DTSTAMP:20260420T105032
CREATED:20251109T173009Z
LAST-MODIFIED:20251117T181740Z
UID:10007151-1763577000-1763584200@nsscvolleyball.com
SUMMARY:15U-18U Practice
DESCRIPTION:Practice is at Sportsplex unless otherwise noted below \n15 Nike 1a \n15 Black – 5a \n15 White – 5b \n15 Gray – 6a \n15 Yellow 6a \n15 Slate 6b \n15 Pink 6b \n16 Nike – 1b \n16 Black – 5b \n16 White 2a \n17 Nike – 1b \n17 Black – 1a \n17 White 2b \n18 Black 2b
URL:https://nsscvolleyball.com/event/15u-18u-practice-2-3/
LOCATION:MO
CATEGORIES:Girls 15,Girls 15 Black,Girls 15 Gray,Girls 15 Nike,Girls 15 Pink,Girls 15 Slate,Girls 15 White,Girls 15 Yellow,Girls 16,Girls 16 Black,Girls 16 Nike,Girls 16 White,Girls 17,Girls 17 Black,Girls 17 Nike,Girls 17 White,Girls 18 Black
END:VEVENT
BEGIN:VEVENT
DTSTART;TZID=America/Chicago:20251116T173000
DTEND;TZID=America/Chicago:20251116T193000
DTSTAMP:20260420T105032
CREATED:20251109T161644Z
LAST-MODIFIED:20251114T190152Z
UID:10007174-1763314200-1763321400@nsscvolleyball.com
SUMMARY:Practice
DESCRIPTION:Time TBD based on basketball tournament this day – Tentative 5:30-7:30 PM  – all teams are at Sportsplex Courts unless otherwise noted below \n15 Nike – – AT OSAGE \n15 Black 2a \n15 White 2b \n15 Yellow 5b \n15 Gray – 5a \n16 Nike – AT OSAGE \n16 Black 6b \n16 White 6a \n17 Nike – AT OSAGE \n17 Black  1b \n17 White 1a \n18 Black – HOUCK FIELD HOUSE
URL:https://nsscvolleyball.com/event/practice-5/
LOCATION:MO
CATEGORIES:Girls 15 Black,Girls 15 Gray,Girls 15 Nike,Girls 15 White,Girls 15 Yellow,Girls 16 Black,Girls 16 Nike,Girls 16 White,Girls 17 Black,Girls 17 Nike,Girls 17 White,Girls 18 Black
END:VEVENT
BEGIN:VEVENT
DTSTART;TZID=America/Chicago:20251112T183000
DTEND;TZID=America/Chicago:20251112T203000
DTSTAMP:20260420T105032
CREATED:20251109T165728Z
LAST-MODIFIED:20251112T202359Z
UID:10006996-1762972200-1762979400@nsscvolleyball.com
SUMMARY:15U-18U Practice
DESCRIPTION:Girls 15U-17U Practice at the Sportsplex \nAT SPORTSPLEX: \n15U – Courts 1 and 6 \n16U Courts 2a\, 2b \n17U- Courts 5a\, 5b \n  \nAT HOUCK FIELD HOUSE: 18 Black Girls
URL:https://nsscvolleyball.com/event/15u-18u-practice-2-2/
LOCATION:MO
CATEGORIES:Girls 15,Girls 15 Black,Girls 15 Gray,Girls 15 Nike,Girls 15 Pink,Girls 15 Slate,Girls 15 White,Girls 15 Yellow,Girls 16,Girls 16 Black,Girls 16 Nike,Girls 16 White,Girls 17,Girls 17 Black,Girls 17 Nike,Girls 17 White,Girls 18 Black
END:VEVENT
BEGIN:VEVENT
DTSTART;VALUE=DATE:20250426
DTEND;VALUE=DATE:20250428
DTSTAMP:20260420T105032
CREATED:20241112T004156Z
LAST-MODIFIED:20250422T224526Z
UID:10000323-1745625600-1745798399@nsscvolleyball.com
SUMMARY:Donna Mayer Gateway Bid Event – St. Louis\, MO
DESCRIPTION:April 26 & 27 – Donna Mayer Gateway Bid Event – St. Louis\, MO \n\nGirls 15 White (Steel Shed)\nGirls 14 Black (Legacy)\n\nhttps://results.advancedeventsystems.com/event/PTAwMDAwMzgyNDI90/home \n 
URL:https://nsscvolleyball.com/event/donna-mayer-gateway-bid-event-st-louis-mo/
LOCATION:MO
CATEGORIES:Girls 14 Black-L,Girls 15 White
END:VEVENT
BEGIN:VEVENT
DTSTART;TZID=America/Chicago:20250423T183000
DTEND;TZID=America/Chicago:20250423T203000
DTSTAMP:20260420T105032
CREATED:20250323T013647Z
LAST-MODIFIED:20250423T222131Z
UID:10006777-1745433000-1745440200@nsscvolleyball.com
SUMMARY:Practice
DESCRIPTION:At Sportsplex unless noted below. \nGIRLS: \n\n13 Black – Sportsplex Court #5a\n14 Black – Sportsplex Court #6b\n15 Black – Sportsplex Court #1b\n15 White – Sportsplex Court #6a\n16 Black – Sportsplex Court #1a\n\n 
URL:https://nsscvolleyball.com/event/wednesday-practice-630-830-pm-20/
LOCATION:Sportsplex\, 526 Jim Drury Way\, Cape Girardeau\, MO\, 63701\, United States
CATEGORIES:Girls 13 Black-L,Girls 14 Black-L,Girls 15 Black,Girls 15 White,Girls 16 Black
END:VEVENT
BEGIN:VEVENT
DTSTART;TZID=America/Chicago:20250421T183000
DTEND;TZID=America/Chicago:20250421T203000
DTSTAMP:20260420T105032
CREATED:20250420T231203Z
LAST-MODIFIED:20250421T205723Z
UID:10006810-1745260200-1745267400@nsscvolleyball.com
SUMMARY:Practice
DESCRIPTION:At Sportsplex unless noted below. \nGIRLS: \n\n13 Black – Sportsplex Court #1b\n14 Black – Sportsplex Court #5b\n15 Black – Sportsplex Court #2b\n15 White – Sportsplex Court #5a\n16 Black – Sportsplex Court #2a\n\n 
URL:https://nsscvolleyball.com/event/practice/
LOCATION:Sportsplex\, 526 Jim Drury Way\, Cape Girardeau\, MO\, 63701\, United States
CATEGORIES:Girls 13 Black-L,Girls 14 Black-L,Girls 15 Black,Girls 15 White,Girls 16 Black
END:VEVENT
END:VCALENDAR