BEGIN:VCALENDAR
VERSION:2.0
PRODID:-//NSSC Volleyball Club | Cape Girardeau, MO - ECPv6.15.20//NONSGML v1.0//EN
CALSCALE:GREGORIAN
METHOD:PUBLISH
X-ORIGINAL-URL:https://nsscvolleyball.com
X-WR-CALDESC:Events for NSSC Volleyball Club | Cape Girardeau, MO
REFRESH-INTERVAL;VALUE=DURATION:PT1H
X-Robots-Tag:noindex
X-PUBLISHED-TTL:PT1H
BEGIN:VTIMEZONE
TZID:America/Chicago
BEGIN:DAYLIGHT
TZOFFSETFROM:-0600
TZOFFSETTO:-0500
TZNAME:CDT
DTSTART:20250309T080000
END:DAYLIGHT
BEGIN:STANDARD
TZOFFSETFROM:-0500
TZOFFSETTO:-0600
TZNAME:CST
DTSTART:20251102T070000
END:STANDARD
BEGIN:DAYLIGHT
TZOFFSETFROM:-0600
TZOFFSETTO:-0500
TZNAME:CDT
DTSTART:20260308T080000
END:DAYLIGHT
BEGIN:STANDARD
TZOFFSETFROM:-0500
TZOFFSETTO:-0600
TZNAME:CST
DTSTART:20261101T070000
END:STANDARD
BEGIN:DAYLIGHT
TZOFFSETFROM:-0600
TZOFFSETTO:-0500
TZNAME:CDT
DTSTART:20270314T080000
END:DAYLIGHT
BEGIN:STANDARD
TZOFFSETFROM:-0500
TZOFFSETTO:-0600
TZNAME:CST
DTSTART:20271107T070000
END:STANDARD
END:VTIMEZONE
BEGIN:VEVENT
DTSTART;VALUE=DATE:20260131
DTEND;VALUE=DATE:20260202
DTSTAMP:20260424T083241
CREATED:20251109T185800Z
LAST-MODIFIED:20251109T185800Z
UID:10007191-1769817600-1769990399@nsscvolleyball.com
SUMMARY:2026 Queen of Kentucky
DESCRIPTION:Host: Level 12 Sports\nLocation:\nKentucky Sports Factory\n\nMidtown Blvd.Madisonville\, KY 42431\n\nhttps://www.advancedeventsystems.com/events/41065
URL:https://nsscvolleyball.com/event/2026-queen-of-kentucky/
LOCATION:Kentucky Sports Factory\, Midtown Blvd.\, Madisonville\, 42431\, United States
CATEGORIES:Girls 11 Black,Girls 12 Black,Girls 13 Black-S,Girls 14 Black-S,Girls 14 White,Girls 15 Black
END:VEVENT
BEGIN:VEVENT
DTSTART;TZID=America/Chicago:20260201T173000
DTEND;TZID=America/Chicago:20260201T193000
DTSTAMP:20260424T083241
CREATED:20251130T210715Z
LAST-MODIFIED:20260129T203256Z
UID:10007320-1769967000-1769974200@nsscvolleyball.com
SUMMARY:Practice
DESCRIPTION:Osage:\n5:30-7:30pm\n14 Nike\, 15 slate and 15 pink
URL:https://nsscvolleyball.com/event/practice-8-6/
LOCATION:The Osage Center – Cape Girardeau\, 1625 N Kingshighway St\, Cape Girardeau\, 63701\, United States
CATEGORIES:Girls 14 Nike,Girls 15 Pink,Girls 15 Slate
END:VEVENT
BEGIN:VEVENT
DTSTART;TZID=America/Chicago:20260201T173000
DTEND;TZID=America/Chicago:20260201T193000
DTSTAMP:20260424T083241
CREATED:20251130T210909Z
LAST-MODIFIED:20260129T203405Z
UID:10007337-1769967000-1769974200@nsscvolleyball.com
SUMMARY:Practice
DESCRIPTION:Practice is at Sportsplex unless otherwise noted below \n15 Nike – Sportsplex Court TBD \n15 White – Sportsplex Court TBD \n15 Gray – Sportsplex Court TBD \n15 Yellow – Sportsplex Court TBD \n16 Nike – Sportsplex Court TBD \n16 White – Sportsplex Court TBD \n17 White – Sportsplex Court TBD \n18 Black – HOUCK
URL:https://nsscvolleyball.com/event/practice-9-5-4/
LOCATION:MO
CATEGORIES:Girls 15 Gray,Girls 15 Nike,Girls 15 Pink,Girls 15 Slate,Girls 15 White,Girls 15 Yellow,Girls 16 Nike,Girls 16 White,Girls 17 White,Girls 18 Black
END:VEVENT
BEGIN:VEVENT
DTSTART;TZID=America/Chicago:20260204T183000
DTEND;TZID=America/Chicago:20260204T203000
DTSTAMP:20260424T083241
CREATED:20260120T144039Z
LAST-MODIFIED:20260120T144040Z
UID:10007162-1770229800-1770237000@nsscvolleyball.com
SUMMARY:15U-18U Practice
DESCRIPTION:Practice is at Sportsplex unless otherwise noted below \n\n\n\n\n\n15 Nike\n1A\n\n\n15 Black\n2A\n\n\n15 White\n5A\n\n\n15 Gray\nOSAGE\n\n\n15 Yellow\nOSAGE\n\n\n15 Slate\nOSAGE\n\n\n15 Pink\nOSAGE\n\n\n16 Nike\n1B\n\n\n16 Black\n2B\n\n\n16 White\n5A\n\n\n17 Nike\n1A\n\n\n17 Black\n2A\n\n\n17 White\n6A\n\n\n18 Black\nHOUCK
URL:https://nsscvolleyball.com/event/15u-18u-practice-2-4-11/
LOCATION:MO
CATEGORIES:Girls 15,Girls 15 Black,Girls 15 Gray,Girls 15 Nike,Girls 15 Pink,Girls 15 Slate,Girls 15 White,Girls 15 Yellow,Girls 16,Girls 16 Black,Girls 16 Nike,Girls 16 White,Girls 17,Girls 17 Black,Girls 17 Nike,Girls 17 White,Girls 18 Black
END:VEVENT
BEGIN:VEVENT
DTSTART;VALUE=DATE:20260207
DTEND;VALUE=DATE:20260209
DTSTAMP:20260424T083241
CREATED:20251109T191456Z
LAST-MODIFIED:20260202T013353Z
UID:10007200-1770422400-1770595199@nsscvolleyball.com
SUMMARY:Gateway League Bid Event
DESCRIPTION:  \nSchedule – https://www.advancedeventsystems.com/events/40922 \nLocation: America Center\n\n701 Convention PlazaSt. Louis\, MO 63101
URL:https://nsscvolleyball.com/event/gateway-league-bid-event/
LOCATION:MO
CATEGORIES:Girls 11 Nike,Girls 12 Nike,Girls 14 Nike,Girls 15 Nike,Girls 16 Nike,Girls 17 Nike
END:VEVENT
BEGIN:VEVENT
DTSTART;TZID=America/Chicago:20260211T183000
DTEND;TZID=America/Chicago:20260211T203000
DTSTAMP:20260424T083241
CREATED:20260120T144603Z
LAST-MODIFIED:20260120T144604Z
UID:10007163-1770834600-1770841800@nsscvolleyball.com
SUMMARY:15U-18U Practice
DESCRIPTION:Practice is at Sportsplex unless otherwise noted below \n\n\n\n\n\n15 Nike\nOSAGE\n\n\n15 Black\n1A\n\n\n15 White\n2A\n\n\n15 Gray\n5A\n\n\n15 Yellow\n6A\n\n\n15 Slate\n6B\n\n\n15 Pink\n6A\n\n\n16 Nike\nOSAGE\n\n\n16 Black\n1B\n\n\n16 White\n2B\n\n\n17 Nike\nOSAGE\n\n\n17 Black\nOSAGE\n\n\n17 White\n5B\n\n\n18 Black\nHOUCK
URL:https://nsscvolleyball.com/event/15u-18u-practice-2-4-12/
LOCATION:MO
CATEGORIES:Girls 15,Girls 15 Black,Girls 15 Gray,Girls 15 Nike,Girls 15 Pink,Girls 15 Slate,Girls 15 White,Girls 15 Yellow,Girls 16,Girls 16 Black,Girls 16 Nike,Girls 16 White,Girls 17,Girls 17 Black,Girls 17 Nike,Girls 17 White,Girls 18 Black
END:VEVENT
BEGIN:VEVENT
DTSTART;VALUE=DATE:20260214
DTEND;VALUE=DATE:20260217
DTSTAMP:20260424T083241
CREATED:20251102T132226Z
LAST-MODIFIED:20260205T143532Z
UID:10007003-1771027200-1771286399@nsscvolleyball.com
SUMMARY:Sportsplex Blast Presidents Day Challenge
DESCRIPTION:schedule – \nhttps://www.advancedeventsystems.com/events/41458
URL:https://nsscvolleyball.com/event/sportsplex-blast-presidents-day-challenge-2/
LOCATION:Sportsplex\, 526 Jim Drury Way\, Cape Girardeau\, MO\, 63701\, United States
CATEGORIES:Boys 12 Nike,Girls 12 Black,Girls 13 Black-L,Girls 14 Black-L,Girls 15 Black,Girls 15 Gray,Girls 15 Pink,Girls 15 Slate,Girls 15 White,Girls 15 Yellow,Girls 16 Black,Girls 16 White,Girls 17 Black,Girls 17 White,Girls 18 Black
END:VEVENT
BEGIN:VEVENT
DTSTART;VALUE=DATE:20260214
DTEND;VALUE=DATE:20260217
DTSTAMP:20260424T083241
CREATED:20251109T191957Z
LAST-MODIFIED:20260212T171121Z
UID:10007203-1771027200-1771286399@nsscvolleyball.com
SUMMARY:Nike President's Day Classic in St. Louis
DESCRIPTION:Host: Capitol Sports Center\n\n· America’s Center – 701 Convention Plaza\, St Louis\, MO 63101 (Courts 1-94) \n· The Beal Center– 150 N. Eatherton Rd. Chesterfield\, MO 63005 (Courts 95-108) \n\n  \nSchedule – \nhttps://www.advancedeventsystems.com/events/40882 \nCourts 1-25 are in the dome\, and 26-87 are in the main halls.  All of these courts are only accessible via the hall 4 entrance.  Courts 88-91 are in the upstairs ballroom and 92-94 are in the atrium.   Courts 95-108 are at the Chesterfield location\, Beal Fieldhouse. \n  \nStL Parking Map – https://cdn3.sportngin.com/attachments/document/e704-3136451/STL_Preferred_Parking.pdf?_gl=1*1hj5kdc*_ga*MTM3ODA3MzE0NC4xNzcwOTEzNDYz#_ga=2.83574878.992171798.1770913463-1378073144.1770913463 \nWave Times for STL \n8 AM:\nAll Open\n15 Premier\n15 Club (14 of 16 pools will be at Beal Center)\, 17 Club\n11 Open/12 Premier\n11 Girls \n230 PM:\n18\, 17\, 16\, 14\, 13 Premier\n18\, 16\, 13 Club\n14 Club (14 of 16 Pools will be a at Beal Center) \n8 AM or 230 PM (depending on seeding):\n12 Club: 4 Pools AM & 4 Pools PM \n  \nADMISSION INFO – STL NIKE PRES DAY CLASSIC 2026 (Feb 14-16) \nCoaches / Parents / Spectators – \nThank you for attending the 2026 Nike President’s Day Classic in St. Louis. We will be using our traditional method for Admission in 2026. Everyone will be required to show a wristband for the weekend or for the day (except for players who only need to show their uniform). Beginning Friday night (Feb 13th)\, wristbands (3 day wristbands only!) will be available from 3:00pm – 7:30pm in Room 120 (outside Hall 2 at the Convention Center) and then available throughout the weekend in that same room. Admissions will open at 6:45am on Saturday\, Sunday & Monday morning at the convention center. We will also be using The Beal Center in Chesterfield this year. This facility will have wristbands available Saturday – Monday (Daily and Weekend) for purchase starting at 7am each day. Please be aware that credit card lines can become long. To avoid delays\, we are recommending that everyone use cash to purchase wristbands when possible. The cash lines move much quicker and will not delay you in getting to your court. You do not have to come to the convention center to purchase a wristband if you play at The Beal Center\, as they are available on site there. Wristbands will work for entry at both facilities. Single Day passes are available only on the day they are used. \nPrices will be as follows: \n1 Day Pass – $20 \n3 Day Pass – $50 \n12 and under are Free \nWe are advising everyone to always keep your wristband on. If you lose or forget it\, you will be expected to purchase a new one. \nWe will NOT be offering an option to pay online in advance of the tournament. All wristbands will be sold at the event. \n  \nFull Tournament Info – https://www.capitolsportscenter.com/presidentsdayclassic \n 
URL:https://nsscvolleyball.com/event/nike-presidents-day-classic-in-st-louis/
LOCATION:America Center\, 701 Convention Plaza\, St. Louis\, 63101\, United States
CATEGORIES:Girls 11 Nike,Girls 12 Nike,Girls 14 Nike,Girls 15 Nike,Girls 16 Nike,Girls 17 Nike
END:VEVENT
BEGIN:VEVENT
DTSTART;TZID=America/Chicago:20260218T183000
DTEND;TZID=America/Chicago:20260218T203000
DTSTAMP:20260424T083241
CREATED:20260120T145846Z
LAST-MODIFIED:20260120T145847Z
UID:10007164-1771439400-1771446600@nsscvolleyball.com
SUMMARY:15U-18U Practice
DESCRIPTION:Practice is at Sportsplex unless otherwise noted below \n\n\n\n\n\n15 Nike\n1A\n\n\n15 Black\nOSAGE\n\n\n15 White\n2A\n\n\n15 Gray\n5A\n\n\n15 Yellow\n5B\n\n\n15 Slate\n6A\n\n\n15 Pink\n6B\n\n\n16 Nike\n1A\n\n\n16 Black\nOSAGE\n\n\n16 White\nOSAGE\n\n\n17 Nike\n1B\n\n\n17 Black\n2B\n\n\n17 White\nOSAGE\n\n\n18 Black\nHOUCK
URL:https://nsscvolleyball.com/event/15u-18u-practice-2-4-13/
LOCATION:MO
CATEGORIES:Girls 15,Girls 15 Black,Girls 15 Gray,Girls 15 Nike,Girls 15 Pink,Girls 15 Slate,Girls 15 White,Girls 15 Yellow,Girls 16,Girls 16 Black,Girls 16 Nike,Girls 16 White,Girls 17,Girls 17 Black,Girls 17 Nike,Girls 17 White,Girls 18 Black
END:VEVENT
BEGIN:VEVENT
DTSTART;VALUE=DATE:20260221
DTEND;VALUE=DATE:20260223
DTSTAMP:20260424T083241
CREATED:20251102T132513Z
LAST-MODIFIED:20260218T145629Z
UID:10007007-1771632000-1771804799@nsscvolleyball.com
SUMMARY:Sportsplex Blast Elite Showcase
DESCRIPTION:Girls 10U-18U\nUSAV Two Day Format\nGateway (GW)\n\nHost: NSSC\nLocation: Cape Girardeau Sportsplex\nSchedule – \nhttps://www.advancedeventsystems.com/events/41459 \n\nDate & Location: February 21-22 at Cape Girardeau Sportsplex\nCompeting Clubs: 41 Clubs from across the Midwest\nMatch Format: All matches are best of three to 25 points\, with a deciding third set to 15 points if necessary. Each team is guaranteed a minimum of five matches.\n\n  \n\n\n10 Black\n\n\n\n\n\n\n\n\n\n\n\n10 White\n\n\n\n\n\n\n\n\n\n\n\n 11 Black \n\n\n\n\n\n\n\n\n\n\n\n11 White\n\n\n\n\n\n\n\n\n\n\n\n 11 Gray\n\n\n\n\n\n\n\n\n\n\n\n12 Nike\n\n\n\n\n\n\n\n\n\n\n\n12 Black\n\n\n\n\n\n\n\n\n\n\n\n13 Black L\n\n\n\n\n\n\n\n\n\n\n\n14 Black L\n\n\n\n\n\n\n\n\n\n\n\n15 Black\n\n\n\n\n\n\n\n\n\n\n\n15 Gray\n\n\n\n\n\n\n\n\n\n\n\n15 White\n\n\n\n\n\n\n\n\n\n\n\n 16 Black\n\n\n\n\n\n\n\n\n\n\n\n16 White\n\n\n\n\n\n\n\n\n\n\n\n 17 Black\n\n\n\n\n\n\n\n\n\n\n\n\n\n17 White \n\n\n\n\n\n\n\n\n\n\n\n18 Black
URL:https://nsscvolleyball.com/event/sportsplex-blast-elite-showcase-2/
LOCATION:Sportsplex\, 526 Jim Drury Way\, Cape Girardeau\, MO\, 63701\, United States
CATEGORIES:Girls 10,Girls 10 Black,Girls 10 White,Girls 11 Black,Girls 11 Gray,Girls 11 White,Girls 12 Black,Girls 12 Nike,Girls 13 Black-L,Girls 14 Black-L,Girls 15 Black,Girls 15 Gray,Girls 15 White,Girls 16 Black,Girls 16 White,Girls 17 Black,Girls 17 White,Girls 18 Black
END:VEVENT
BEGIN:VEVENT
DTSTART;TZID=America/Chicago:20260222T153000
DTEND;TZID=America/Chicago:20260222T173000
DTSTAMP:20260424T083241
CREATED:20251130T212217Z
LAST-MODIFIED:20251130T212219Z
UID:10007323-1771774200-1771781400@nsscvolleyball.com
SUMMARY:Practice
DESCRIPTION:Practice is at Sportsplex unless otherwise noted below \n14 Nike – \n15 Pink – \n15 Slate –
URL:https://nsscvolleyball.com/event/practice-8-8/
LOCATION:Sportsplex\, 526 Jim Drury Way\, Cape Girardeau\, MO\, 63701\, United States
CATEGORIES:Girls 14 Nike,Girls 15 Pink,Girls 15 Slate
END:VEVENT
BEGIN:VEVENT
DTSTART;TZID=America/Chicago:20260222T173000
DTEND;TZID=America/Chicago:20260222T193000
DTSTAMP:20260424T083241
CREATED:20251130T212344Z
LAST-MODIFIED:20251130T212346Z
UID:10007340-1771781400-1771788600@nsscvolleyball.com
SUMMARY:Practice
DESCRIPTION:Practice is at Sportsplex unless otherwise noted below \n15 Nike \n15 Yellow \n16 Nike \n17 Nike
URL:https://nsscvolleyball.com/event/practice-9-5-6/
LOCATION:MO
CATEGORIES:Girls 15 Nike,Girls 15 Yellow,Girls 16 Nike,Girls 17 Nike
END:VEVENT
BEGIN:VEVENT
DTSTART;TZID=America/Chicago:20260225T183000
DTEND;TZID=America/Chicago:20260225T203000
DTSTAMP:20260424T083241
CREATED:20260120T150503Z
LAST-MODIFIED:20260120T150504Z
UID:10007165-1772044200-1772051400@nsscvolleyball.com
SUMMARY:15U-18U Practice
DESCRIPTION:Practice is at Sportsplex unless otherwise noted below \n\n\n\n\n\n15 Nike\n1A\n\n\n15 Black\n2A\n\n\n15 White\n5A\n\n\n15 Gray\nOSAGE\n\n\n15 Yellow\nOSAGE\n\n\n15 Slate\nOSAGE\n\n\n15 Pink\nOSAGE\n\n\n16 Nike\n1B\n\n\n16 Black\n2B\n\n\n16 White\n5A\n\n\n17 Nike\n1A\n\n\n17 Black\n2A\n\n\n17 White\n6A\n\n\n18 Black\nHOUCK
URL:https://nsscvolleyball.com/event/15u-18u-practice-2-4-14/
LOCATION:MO
CATEGORIES:Girls 15,Girls 15 Black,Girls 15 Gray,Girls 15 Nike,Girls 15 Pink,Girls 15 Slate,Girls 15 White,Girls 15 Yellow,Girls 16,Girls 16 Black,Girls 16 Nike,Girls 16 White,Girls 17,Girls 17 Black,Girls 17 Nike,Girls 17 White,Girls 18 Black
END:VEVENT
BEGIN:VEVENT
DTSTART;VALUE=DATE:20260228
DTEND;VALUE=DATE:20260301
DTSTAMP:20260424T083241
CREATED:20251102T132312Z
LAST-MODIFIED:20260224T124940Z
UID:10007004-1772236800-1772323199@nsscvolleyball.com
SUMMARY:Sportsplex Blast III
DESCRIPTION:Girls 10\, 11\, 12\, 15/16/17/18 \nFull Day Format \n\nHost: NSSC \nLocation: Cape Girardeau Sportsplex \nAdmission will be taken for spectators ages 12 and up.  Students under the age of 12 will be admitted free. Admission will be $10. \nSchedule – \nhttps://www.advancedeventsystems.com/events/41505 \n\n\n\n10 Black\n10 White\n11 gray\n11 White\n12 Nike\n14 Nike\n15 Pink\n15 Slate\n15 Yellow\n16 White\n17 White\n18 Black\n\n\n\n 
URL:https://nsscvolleyball.com/event/sportsplex-blast-iii/
LOCATION:Sportsplex\, 526 Jim Drury Way\, Cape Girardeau\, MO\, 63701\, United States
CATEGORIES:Girls 10,Girls 10 Black,Girls 10 White,Girls 11 Gray,Girls 11 White,Girls 12 Nike,Girls 14 Nike,Girls 15 Pink,Girls 15 Slate,Girls 15 Yellow,Girls 16 White,Girls 17 White,Girls 18 Black
END:VEVENT
BEGIN:VEVENT
DTSTART;VALUE=DATE:20260228
DTEND;VALUE=DATE:20260301
DTSTAMP:20260424T083241
CREATED:20251109T193224Z
LAST-MODIFIED:20260224T170016Z
UID:10007205-1772236800-1772323199@nsscvolleyball.com
SUMMARY:Stratman Sports Series
DESCRIPTION:Center St. Louis\n\n6727 Langley Ave.Affton\, MO 63123\n \n\n\nNSSC 15 Black\nNSSC 17 Black\n\nhttps://www.advancedeventsystems.com/events/44247 \n  \n\nFormat:  Teams play a minimum of 8 sets and a minimum of 2 teams from each pool advance to playoffs.  Play begins at 8:00 AM; Doors Open at 7:00 AM. \nAdmissions & Parking:  Admission will be taken for adult spectators.  Single day admission will be $10.  Youth spectators under 10 will be admitted free. There is no charge for parking. \nConcession Stand:  Full concession stand available. NO OUTSIDE FOOD OR DRINK (NO COOLERS!) will be allowed inside Center St. Louis. \nGeneral Tournament Policies: https://www.stratmansports.com/tournamentpolicies \nFacility Policies:  https://www.stratmansports.com/page/show/3463138-center-st-louis-affton-mo- \n\n\nEvent Policy\nTeams will not be accepted into the tournament until payment has been received. \nVenue Rules \n\nFacility Access: Opens at 7 am.\nFood & Drink: Only bottled drinks are allowed on the team’s sideline. All other food and drinks must be consumed in designated areas.  Venue has a strict NO OUTSIDE FOOD OR DRINK POLICY.
URL:https://nsscvolleyball.com/event/stratman-sports-series-9/
LOCATION:Center St Louis\, 6727 Langley Ave\, St. Louis\, 63126\, United States
CATEGORIES:Girls 15 Black,Girls 17 Black
END:VEVENT
BEGIN:VEVENT
DTSTART;VALUE=DATE:20260228
DTEND;VALUE=DATE:20260301
DTSTAMP:20260424T083241
CREATED:20251109T193403Z
LAST-MODIFIED:20260225T124956Z
UID:10007206-1772236800-1772323199@nsscvolleyball.com
SUMMARY:C3 Splashdown #11
DESCRIPTION:Host: STL Crossfire Elite VBC \nLocation: Crossfire Champion Courts \n824 Lone Star DriveO’Fallon\, MO 63366\n  \nDoors Open: 7:00 AM (No earlier)\n Coaches Meeting: 7:45 AM \n\n  \n Tournament Protocol\n\n\nGame Balls: Provided. Teams must bring their own warm-up balls. \n\n\nPool Formats: \n\n\n5-Team Pools: 2 sets (19 pts each) \n\n\n4-Team Pools: 2 sets (19 pts each) \n\n\n3-Team Pools: 3 sets (19 pts each) \n\n\n\n\nPlayoffs (Gold & Silver): \n\n\nMatch Format: Best of 3 \n\n\nSets: 19 pts\, 19 pts\, and 15 pts (if needed) \n\n\nChampionship Match: 25 pts\, 25 pts\, and 15 pts (if needed) \n\n\n\n\n\n\nSpectator Seating: \n\n\nWhen your team is not playing\, please clear the chairs/bleachers for families of teams that are playing. \n\n\n\n\nOfficiating: \n\n\nTeams will Need to provide an R1\, an R2\, a scorekeeper\, a libero tracker\, a flip score\, and and two line judges \n\n\nA coach must be with the officiating team at all times. \n\n\n\n\n\n\nRosters \n\n\nPlease make sure your roster is uploaded into AES by Friday (USAV verified) \n \n \n\n  \n Warm-Up Protocol\n\n\nFirst Match of the Day: \n\n\n2 minutes shared court time \n\n\n4 minutes (serving included) \n\n\n\n\nAll Other Matches: \n\n\nNo shared court time \n\n\n4 minutes (serving included) \n\n\n\n\nCoin Toss Winner: \n\n\nThe team that earns the serve starts warm-ups. \n\n\n\n\n\n  \n Gym Protocol\n\n\nSeating: No outside chairs allowed. \n\n\nFood & Drinks: \n\n\nNO Coolers \n\n\n\n\nParking: \n\n\nNo parking in non-designated areas. \n\n\nAddress: 824 Lone Star Dr\, O’Fallon\, MO 63123 \n\n\n\n\n\n\nSmoking: Strictly prohibited inside the facility. \n\n\nEntry Fee: $5 per person (venmo or cash only) \n\n\n\n  \n Code of Conduct\n\n\nAttendance is voluntary and at your own risk. \n\n\nIf you disagree with the protocols\, we kindly ask you not to attend. \n\n\nBehavior: \n\n\nNo arguments from spectators or participants. \n\n\nTreat officials\, players\, coaches\, and other spectators with respect. \n\n\nThe tournament director reserves the right to remove anyone for inappropriate behavior. \n\n\n\n\n\n  \n Award Information\n\n\nGold Bracket: Awards for 1st and 2nd place. \n\n\nSilver Bracket: Award for 1st place.
URL:https://nsscvolleyball.com/event/c3-splashdown-11/
LOCATION:MO
CATEGORIES:Girls 15 Nike
END:VEVENT
BEGIN:VEVENT
DTSTART;VALUE=DATE:20260228
DTEND;VALUE=DATE:20260301
DTSTAMP:20260424T083241
CREATED:20251109T193605Z
LAST-MODIFIED:20260222T174102Z
UID:10007207-1772236800-1772323199@nsscvolleyball.com
SUMMARY:Old Settlement 15s
DESCRIPTION:Ste. Genevieve YMCA has provided the following information regarding the usage of their facility: \n\nDoors will open at 7:30 a.m. First game is at 8:30.\nNo outside chairs permitted\, bleacher space around both courts is provided and a lobby with tables and chairs is available between games\nA concession stand will be available from 10 a.m. to 3 p.m.(a bottle refill station is available).\nAdmission will be charged for all over 10 entry ($5)\n\nschedule image attached –
URL:https://nsscvolleyball.com/event/old-settlement-15s/
LOCATION:MO
CATEGORIES:Girls 15 Gray
END:VEVENT
END:VCALENDAR