BEGIN:VCALENDAR
VERSION:2.0
PRODID:-//NSSC Volleyball Club | Cape Girardeau, MO - ECPv6.15.20//NONSGML v1.0//EN
CALSCALE:GREGORIAN
METHOD:PUBLISH
X-WR-CALNAME:NSSC Volleyball Club | Cape Girardeau, MO
X-ORIGINAL-URL:https://nsscvolleyball.com
X-WR-CALDESC:Events for NSSC Volleyball Club | Cape Girardeau, MO
REFRESH-INTERVAL;VALUE=DURATION:PT1H
X-Robots-Tag:noindex
X-PUBLISHED-TTL:PT1H
BEGIN:VTIMEZONE
TZID:America/Chicago
BEGIN:DAYLIGHT
TZOFFSETFROM:-0600
TZOFFSETTO:-0500
TZNAME:CDT
DTSTART:20250309T080000
END:DAYLIGHT
BEGIN:STANDARD
TZOFFSETFROM:-0500
TZOFFSETTO:-0600
TZNAME:CST
DTSTART:20251102T070000
END:STANDARD
BEGIN:DAYLIGHT
TZOFFSETFROM:-0600
TZOFFSETTO:-0500
TZNAME:CDT
DTSTART:20260308T080000
END:DAYLIGHT
BEGIN:STANDARD
TZOFFSETFROM:-0500
TZOFFSETTO:-0600
TZNAME:CST
DTSTART:20261101T070000
END:STANDARD
BEGIN:DAYLIGHT
TZOFFSETFROM:-0600
TZOFFSETTO:-0500
TZNAME:CDT
DTSTART:20270314T080000
END:DAYLIGHT
BEGIN:STANDARD
TZOFFSETFROM:-0500
TZOFFSETTO:-0600
TZNAME:CST
DTSTART:20271107T070000
END:STANDARD
END:VTIMEZONE
BEGIN:VEVENT
DTSTART;VALUE=DATE:20260307
DTEND;VALUE=DATE:20260309
DTSTAMP:20260424T112230
CREATED:20251109T195726Z
LAST-MODIFIED:20260304T110144Z
UID:10007211-1772841600-1773014399@nsscvolleyball.com
SUMMARY:Red Plains Rendezvous
DESCRIPTION:Location: Allison Sports Town\n\n209 Airport BlvdSpringfield\, MO 65802\n\nschedule – https://www.advancedeventsystems.com/events/41110
URL:https://nsscvolleyball.com/event/red-plains-rendezvous/
LOCATION:MO
CATEGORIES:Girls 14 Nike
END:VEVENT
END:VCALENDAR