BEGIN:VCALENDAR
VERSION:2.0
PRODID:-//NSSC Volleyball Club | Cape Girardeau, MO - ECPv6.15.20//NONSGML v1.0//EN
CALSCALE:GREGORIAN
METHOD:PUBLISH
X-ORIGINAL-URL:https://nsscvolleyball.com
X-WR-CALDESC:Events for NSSC Volleyball Club | Cape Girardeau, MO
REFRESH-INTERVAL;VALUE=DURATION:PT1H
X-Robots-Tag:noindex
X-PUBLISHED-TTL:PT1H
BEGIN:VTIMEZONE
TZID:America/Chicago
BEGIN:DAYLIGHT
TZOFFSETFROM:-0600
TZOFFSETTO:-0500
TZNAME:CDT
DTSTART:20250309T080000
END:DAYLIGHT
BEGIN:STANDARD
TZOFFSETFROM:-0500
TZOFFSETTO:-0600
TZNAME:CST
DTSTART:20251102T070000
END:STANDARD
BEGIN:DAYLIGHT
TZOFFSETFROM:-0600
TZOFFSETTO:-0500
TZNAME:CDT
DTSTART:20260308T080000
END:DAYLIGHT
BEGIN:STANDARD
TZOFFSETFROM:-0500
TZOFFSETTO:-0600
TZNAME:CST
DTSTART:20261101T070000
END:STANDARD
BEGIN:DAYLIGHT
TZOFFSETFROM:-0600
TZOFFSETTO:-0500
TZNAME:CDT
DTSTART:20270314T080000
END:DAYLIGHT
BEGIN:STANDARD
TZOFFSETFROM:-0500
TZOFFSETTO:-0600
TZNAME:CST
DTSTART:20271107T070000
END:STANDARD
END:VTIMEZONE
BEGIN:VEVENT
DTSTART;VALUE=DATE:20260131
DTEND;VALUE=DATE:20260201
DTSTAMP:20260422T231418
CREATED:20251109T190220Z
LAST-MODIFIED:20260129T144744Z
UID:10007194-1769817600-1769903999@nsscvolleyball.com
SUMMARY:Old Settlement 14s
DESCRIPTION:Played at Progress Sports Complex located at 21390 HWY 32\, Ste. Genevieve MO 63670. \n\nNSSC 14 Gray\n\n\n\nDoors will open at 7:30 a.m. First game is at 8:30.\nNo outside chairs permitted\, bleacher space around both courts is provided and a lobby with tables and chairs is available between games\nA concession stand will be available from 10 a.m. to 3 p.m. (a bottle refill station is available).\nAdmission will be charged for all over 10 entry ($5)
URL:https://nsscvolleyball.com/event/old-settlement-14s/
LOCATION:MO
CATEGORIES:Girls 14 Gray
END:VEVENT
BEGIN:VEVENT
DTSTART;VALUE=DATE:20260131
DTEND;VALUE=DATE:20260202
DTSTAMP:20260422T231418
CREATED:20251109T185800Z
LAST-MODIFIED:20251109T185800Z
UID:10007191-1769817600-1769990399@nsscvolleyball.com
SUMMARY:2026 Queen of Kentucky
DESCRIPTION:Host: Level 12 Sports\nLocation:\nKentucky Sports Factory\n\nMidtown Blvd.Madisonville\, KY 42431\n\nhttps://www.advancedeventsystems.com/events/41065
URL:https://nsscvolleyball.com/event/2026-queen-of-kentucky/
LOCATION:Kentucky Sports Factory\, Midtown Blvd.\, Madisonville\, 42431\, United States
CATEGORIES:Girls 11 Black,Girls 12 Black,Girls 13 Black-S,Girls 14 Black-S,Girls 14 White,Girls 15 Black
END:VEVENT
BEGIN:VEVENT
DTSTART;VALUE=DATE:20260131
DTEND;VALUE=DATE:20260202
DTSTAMP:20260422T231418
CREATED:20251109T190541Z
LAST-MODIFIED:20260129T043242Z
UID:10007195-1769817600-1769990399@nsscvolleyball.com
SUMMARY:Central IL Challenge
DESCRIPTION:13 Black-L\n14 Black-L\n16 Black\n17 Black\n\nHost: Hype Nation\nLocation: Emerald Acres Sports Connection\n\n1201 Wooddell LaneMattoon\, IL 61938\n\nSchedule – \nhttps://www.advancedeventsystems.com/events/41042
URL:https://nsscvolleyball.com/event/central-il-challenge/
LOCATION:MO
CATEGORIES:Girls 13 Black-L,Girls 14 Black-L,Girls 16 Black,Girls 17 Black
END:VEVENT
END:VCALENDAR