BEGIN:VCALENDAR
VERSION:2.0
PRODID:-//NSSC Volleyball Club | Cape Girardeau, MO - ECPv6.15.20//NONSGML v1.0//EN
CALSCALE:GREGORIAN
METHOD:PUBLISH
X-ORIGINAL-URL:https://nsscvolleyball.com
X-WR-CALDESC:Events for NSSC Volleyball Club | Cape Girardeau, MO
REFRESH-INTERVAL;VALUE=DURATION:PT1H
X-Robots-Tag:noindex
X-PUBLISHED-TTL:PT1H
BEGIN:VTIMEZONE
TZID:America/Chicago
BEGIN:DAYLIGHT
TZOFFSETFROM:-0600
TZOFFSETTO:-0500
TZNAME:CDT
DTSTART:20250309T080000
END:DAYLIGHT
BEGIN:STANDARD
TZOFFSETFROM:-0500
TZOFFSETTO:-0600
TZNAME:CST
DTSTART:20251102T070000
END:STANDARD
BEGIN:DAYLIGHT
TZOFFSETFROM:-0600
TZOFFSETTO:-0500
TZNAME:CDT
DTSTART:20260308T080000
END:DAYLIGHT
BEGIN:STANDARD
TZOFFSETFROM:-0500
TZOFFSETTO:-0600
TZNAME:CST
DTSTART:20261101T070000
END:STANDARD
BEGIN:DAYLIGHT
TZOFFSETFROM:-0600
TZOFFSETTO:-0500
TZNAME:CDT
DTSTART:20270314T080000
END:DAYLIGHT
BEGIN:STANDARD
TZOFFSETFROM:-0500
TZOFFSETTO:-0600
TZNAME:CST
DTSTART:20271107T070000
END:STANDARD
END:VTIMEZONE
BEGIN:VEVENT
DTSTART;TZID=America/Chicago:20260120T180000
DTEND;TZID=America/Chicago:20260120T200000
DTSTAMP:20260423T000256
CREATED:20260110T022933Z
LAST-MODIFIED:20260110T023031Z
UID:10007148-1768932000-1768939200@nsscvolleyball.com
SUMMARY:13U-14U Practice
DESCRIPTION:Practice is at Sportsplex unless otherwise noted below \n\n\n\n\n\n13 Black-L\nSAXONY\n\n\n13 Black-S\n5a\n\n\n13 White\nSAXONY\n\n\n13 Gray\nSAXONY\n\n\n14 Nike\n2a\n\n\n14 Black-L\n5a\n\n\n14 Black-S\n2B\n\n\n14 White\n5b\n\n\n14 Gray\nSaxony
URL:https://nsscvolleyball.com/event/13u-14u-practice-2-4-9/
LOCATION:Sportsplex\, 526 Jim Drury Way\, Cape Girardeau\, MO\, 63701\, United States
CATEGORIES:Girls 13,Girls 13 Black-L,Girls 13 Black-S,Girls 13 Gray,Girls 13 White,Girls 14,Girls 14 Black-L,Girls 14 Black-S,Girls 14 Gray,Girls 14 Nike,Girls 14 White
END:VEVENT
END:VCALENDAR