BEGIN:VCALENDAR
VERSION:2.0
PRODID:-//NSSC Volleyball Club | Cape Girardeau, MO - ECPv6.15.20//NONSGML v1.0//EN
CALSCALE:GREGORIAN
METHOD:PUBLISH
X-WR-CALNAME:NSSC Volleyball Club | Cape Girardeau, MO
X-ORIGINAL-URL:https://nsscvolleyball.com
X-WR-CALDESC:Events for NSSC Volleyball Club | Cape Girardeau, MO
REFRESH-INTERVAL;VALUE=DURATION:PT1H
X-Robots-Tag:noindex
X-PUBLISHED-TTL:PT1H
BEGIN:VTIMEZONE
TZID:America/Chicago
BEGIN:DAYLIGHT
TZOFFSETFROM:-0600
TZOFFSETTO:-0500
TZNAME:CDT
DTSTART:20240310T080000
END:DAYLIGHT
BEGIN:STANDARD
TZOFFSETFROM:-0500
TZOFFSETTO:-0600
TZNAME:CST
DTSTART:20241103T070000
END:STANDARD
BEGIN:DAYLIGHT
TZOFFSETFROM:-0600
TZOFFSETTO:-0500
TZNAME:CDT
DTSTART:20250309T080000
END:DAYLIGHT
BEGIN:STANDARD
TZOFFSETFROM:-0500
TZOFFSETTO:-0600
TZNAME:CST
DTSTART:20251102T070000
END:STANDARD
BEGIN:DAYLIGHT
TZOFFSETFROM:-0600
TZOFFSETTO:-0500
TZNAME:CDT
DTSTART:20260308T080000
END:DAYLIGHT
BEGIN:STANDARD
TZOFFSETFROM:-0500
TZOFFSETTO:-0600
TZNAME:CST
DTSTART:20261101T070000
END:STANDARD
BEGIN:DAYLIGHT
TZOFFSETFROM:-0600
TZOFFSETTO:-0500
TZNAME:CDT
DTSTART:20270314T080000
END:DAYLIGHT
BEGIN:STANDARD
TZOFFSETFROM:-0500
TZOFFSETTO:-0600
TZNAME:CST
DTSTART:20271107T070000
END:STANDARD
END:VTIMEZONE
BEGIN:VEVENT
DTSTART;VALUE=DATE:20260207
DTEND;VALUE=DATE:20260209
DTSTAMP:20260419T232244
CREATED:20251109T191755Z
LAST-MODIFIED:20260205T135524Z
UID:10007202-1770422400-1770595199@nsscvolleyball.com
SUMMARY:Cape Girardeau Classic
DESCRIPTION:Host: Level 12 Sports\nLocation: Cape Girardeau Sportsplex\nSChedule – https://www.advancedeventsystems.com/events/41067 \n 
URL:https://nsscvolleyball.com/event/cape-girardeau-classic/
LOCATION:Sportsplex\, 526 Jim Drury Way\, Cape Girardeau\, MO\, 63701\, United States
CATEGORIES:Girls 13 Black-S,Girls 13 Gray,Girls 13 White,Girls 14 Black-S,Girls 14 Gray,Girls 14 White
END:VEVENT
BEGIN:VEVENT
DTSTART;TZID=America/Chicago:20260203T180000
DTEND;TZID=America/Chicago:20260203T200000
DTSTAMP:20260419T232244
CREATED:20260120T143805Z
LAST-MODIFIED:20260120T144236Z
UID:10007425-1770141600-1770148800@nsscvolleyball.com
SUMMARY:13U-14U Practice
DESCRIPTION:13 Black-L\n5A\n\n\n13 Black-S\n2A\n\n\n13 White\n5B\n\n\n13 Gray\n5B\n\n\n14 Nike\n1A\n\n\n14 Black-L\n1B\n\n\n14 Black-S\n1A\n\n\n14 White\n2A\n\n\n14 Gray\n2B
URL:https://nsscvolleyball.com/event/13u-14u-practice-3/
LOCATION:Sportsplex\, 526 Jim Drury Way\, Cape Girardeau\, MO\, 63701\, United States
CATEGORIES:Girls 13 Black-L,Girls 13 Black-S,Girls 13 Gray,Girls 13 White,Girls 14 Black-L,Girls 14 Black-S,Girls 14 Gray,Girls 14 Nike,Girls 14 White
END:VEVENT
BEGIN:VEVENT
DTSTART;VALUE=DATE:20260131
DTEND;VALUE=DATE:20260201
DTSTAMP:20260419T232244
CREATED:20251109T190109Z
LAST-MODIFIED:20260129T042003Z
UID:10007193-1769817600-1769903999@nsscvolleyball.com
SUMMARY:Stratman Sports Series
DESCRIPTION:13 Gray \nLocation: Legacy VTC\n\nAddress \n601 Gravois Bluffs Blvd STE GFenton\, MO 63026\n\nSchedule – \nhttps://www.advancedeventsystems.com/events/44231
URL:https://nsscvolleyball.com/event/stratman-sports-series-7/
LOCATION:MO
CATEGORIES:Girls 13 Gray
END:VEVENT
BEGIN:VEVENT
DTSTART;TZID=America/Chicago:20260128T180000
DTEND;TZID=America/Chicago:20260128T200000
DTSTAMP:20260419T232244
CREATED:20260110T023928Z
LAST-MODIFIED:20260128T005555Z
UID:10007161-1769623200-1769630400@nsscvolleyball.com
SUMMARY:15U-18U Practice
DESCRIPTION:Practice is at Sportsplex unless otherwise noted below \n\n\n\n\n\n15 Black\n\n\n16 Black\n\n\n17 Black\n\n\n13 Gray
URL:https://nsscvolleyball.com/event/15u-18u-practice-2-4-10/
LOCATION:MO
CATEGORIES:Girls 13 Gray,Girls 15,Girls 15 Black,Girls 16 Black,Girls 17 Black
END:VEVENT
BEGIN:VEVENT
DTSTART;VALUE=DATE:20260124
DTEND;VALUE=DATE:20260126
DTSTAMP:20260419T232244
CREATED:20251007T222502Z
LAST-MODIFIED:20260123T162351Z
UID:10006852-1769212800-1769385599@nsscvolleyball.com
SUMMARY:CANCELED - Sportsplex Blast Blizzard Battle
DESCRIPTION:Two Day Format\n\nHost: NSSC\n\nLocation:\nCape Girardeau Sportsplex – 2526 Jim Drury Way\n\nCape Girardeau\, MO 63701\n \n\n\n\n📆 Tournament Schedule:\n\n\nAM Wave | Begins at 8:00 AM\n\n\nDivisions: 14s\, 15s\, 16s\, 17s/18s\n\n\n \n\n\nPM Wave | Begins at 2:30 PM\n\n\nDivisions: 10s\, 11s\, 12s\, 13s\n\n\n \n\n\nDoors open 1 hour before the first match of the day\n\n\n \n\n\nAll matches are best of three sets to 25 points (third set to 15\, if needed)\, with a 5-match minimum guarantee for each team.\n\n\n\n \n\nhttps://www.advancedeventsystems.com/events/41434\n \n\n\n👕 Tournament Gear:\n\n\nBlizzard Battle merch will be available onsite—limited quantities of hoodies\, crewnecks\, and tees\, so be sure to swing by the table early if you’d like to take one home!
URL:https://nsscvolleyball.com/event/sportsplex-blast-blizzard-battle-2/
LOCATION:Sportsplex\, 526 Jim Drury Way\, Cape Girardeau\, MO\, 63701\, United States
CATEGORIES:Boys 12 Nike,Girls 10,Girls 10 Black,Girls 10 White,Girls 11 Black,Girls 11 Gray,Girls 11 White,Girls 12 Black,Girls 13 Gray,Girls 13 White,Girls 14 Black-L,Girls 14 Gray,Girls 14 White,Girls 15 Pink,Girls 15 Slate,Girls 15 Yellow,Girls 16 White,Girls 17 White
END:VEVENT
BEGIN:VEVENT
DTSTART;TZID=America/Chicago:20260120T180000
DTEND;TZID=America/Chicago:20260120T200000
DTSTAMP:20260419T232244
CREATED:20260110T022933Z
LAST-MODIFIED:20260110T023031Z
UID:10007148-1768932000-1768939200@nsscvolleyball.com
SUMMARY:13U-14U Practice
DESCRIPTION:Practice is at Sportsplex unless otherwise noted below \n\n\n\n\n\n13 Black-L\nSAXONY\n\n\n13 Black-S\n5a\n\n\n13 White\nSAXONY\n\n\n13 Gray\nSAXONY\n\n\n14 Nike\n2a\n\n\n14 Black-L\n5a\n\n\n14 Black-S\n2B\n\n\n14 White\n5b\n\n\n14 Gray\nSaxony
URL:https://nsscvolleyball.com/event/13u-14u-practice-2-4-9/
LOCATION:Sportsplex\, 526 Jim Drury Way\, Cape Girardeau\, MO\, 63701\, United States
CATEGORIES:Girls 13,Girls 13 Black-L,Girls 13 Black-S,Girls 13 Gray,Girls 13 White,Girls 14,Girls 14 Black-L,Girls 14 Black-S,Girls 14 Gray,Girls 14 Nike,Girls 14 White
END:VEVENT
BEGIN:VEVENT
DTSTART;VALUE=DATE:20260117
DTEND;VALUE=DATE:20260120
DTSTAMP:20260419T232244
CREATED:20251007T222319Z
LAST-MODIFIED:20260114T142713Z
UID:10006851-1768608000-1768867199@nsscvolleyball.com
SUMMARY:Sportsplex Blast Martin Luther King Extravaganza
DESCRIPTION:USAV Three Day Format\nGateway (GW)\n\n\nHost: NSSC\nLocation\nCape Girardeau Sportsplex\n\nAddress \n2526 Jim Drury WayCape Girardeau\, MO 63701\n \n\nhttps://www.advancedeventsystems.com/events/41433\n \n \n\n\nHere’s what to expect:\n\n\n \n\n\n🏐 12U–18U Teams\n\n\n📆 Saturday & Sunday – 3 matches per day\n\n\n🏆 Monday – Bracket play\n\n\n🌀 Matches are best of 3 (two to 25 points\, third to 15 if needed)\n\n\n✅ Minimum of 7 matches guaranteed per team\n\n\n \n\n\n🕗 Wave Times:\n\n\nAM Wave (8:00 AM Start): 15s\, 16s\, 17s/18s\n\n\nPM Wave (3:00 PM Start): 12s\, 13s\, 14s\n\n\nDoors open one hour before the first match each day\n\n\n \n\n\n🎟️ Admission:\n\n\n$10 per day\n\n\n$25 weekend wristband (3-day pass)\n\n\nFREE parking\n\n\n \n\n\nOfficial tournament apparel available onsite
URL:https://nsscvolleyball.com/event/sportsplex-blast-martin-luther-king-extravaganza-2/
LOCATION:Sportsplex\, 526 Jim Drury Way\, Cape Girardeau\, MO\, 63701\, United States
CATEGORIES:Boys 12 Nike,Girls 11 Nike,Girls 12,Girls 12 Black,Girls 12 Nike,Girls 13,Girls 13 Black-L,Girls 13 Black-S,Girls 13 Gray,Girls 13 White,Girls 14,Girls 14 Black-L,Girls 14 Black-S,Girls 14 Gray,Girls 14 Nike,Girls 14 White,Girls 15,Girls 15 Black,Girls 15 Gray,Girls 15 Nike,Girls 15 Pink,Girls 15 Slate,Girls 15 White,Girls 15 Yellow,Girls 16,Girls 16 Black,Girls 16 Nike,Girls 16 White,Girls 17,Girls 17 Black,Girls 17 Nike,Girls 17 White,Girls 18 Black
END:VEVENT
BEGIN:VEVENT
DTSTART;TZID=America/Chicago:20260115T180000
DTEND;TZID=America/Chicago:20260115T200000
DTSTAMP:20260419T232244
CREATED:20260110T022615Z
LAST-MODIFIED:20260110T022615Z
UID:10007423-1768500000-1768507200@nsscvolleyball.com
SUMMARY:Practice
DESCRIPTION:6-8 PM \n13 Black-L – Sportsplex 6B \n13 Gray – Sportsplex 6A \n14 Black L –  – Sportsplex 1B  \n14 Gray –  – Sportsplex 6B \n 
URL:https://nsscvolleyball.com/event/practice-15/
LOCATION:Sportsplex\, 526 Jim Drury Way\, Cape Girardeau\, MO\, 63701\, United States
CATEGORIES:Girls 13 Black-L,Girls 13 Gray,Girls 14 Black-L,Girls 14 Gray
END:VEVENT
BEGIN:VEVENT
DTSTART;VALUE=DATE:20260110
DTEND;VALUE=DATE:20260111
DTSTAMP:20260419T232244
CREATED:20251109T184557Z
LAST-MODIFIED:20260108T145416Z
UID:10007187-1768003200-1768089599@nsscvolleyball.com
SUMMARY:Stratman Sports Series
DESCRIPTION:13 Gray\n\nStratman Sports\nat Steel Shed\n\nAddress: \n590 Hartman LaneO’Fallon\, IL 62269\n\nSchedule – \nhttps://www.advancedeventsystems.com/events/44755
URL:https://nsscvolleyball.com/event/stratman-sports-series-5/
LOCATION:Steel Shed – Ofallon\, IL\, 590 Hartman Lane\, Ofallon\, Illinois\, 62269\, United States
CATEGORIES:Girls 13 Gray
END:VEVENT
BEGIN:VEVENT
DTSTART;TZID=America/Chicago:20260106T180000
DTEND;TZID=America/Chicago:20260106T200000
DTSTAMP:20260419T232244
CREATED:20251223T000720Z
LAST-MODIFIED:20251223T000721Z
UID:10007146-1767722400-1767729600@nsscvolleyball.com
SUMMARY:13U-14U Practice
DESCRIPTION:Practice is at Sportsplex unless otherwise noted below \n\n\n\n\n\n13 Black-L\n1A\n\n\n13 Black-S\n1B\n\n\n13 White\n2A\n\n\n13 Gray\n2B\n\n\n14 Nike\n6A\n\n\n14 Black-L\n5A\n\n\n14 Black-S\n6B\n\n\n14 White\n5B\n\n\n14 Gray\n4B
URL:https://nsscvolleyball.com/event/13u-14u-practice-2-4-7/
LOCATION:Sportsplex\, 526 Jim Drury Way\, Cape Girardeau\, MO\, 63701\, United States
CATEGORIES:Girls 13,Girls 13 Black-L,Girls 13 Black-S,Girls 13 Gray,Girls 13 White,Girls 14,Girls 14 Black-L,Girls 14 Black-S,Girls 14 Gray,Girls 14 Nike,Girls 14 White
END:VEVENT
BEGIN:VEVENT
DTSTART;VALUE=DATE:20260103
DTEND;VALUE=DATE:20260104
DTSTAMP:20260419T232244
CREATED:20251007T222110Z
LAST-MODIFIED:20251230T183121Z
UID:10006850-1767398400-1767484799@nsscvolleyball.com
SUMMARY:Sportsplex Blast I
DESCRIPTION:NSSC 10’s Black \nNSSC 10’s White \nNSSC 11’s Black \nNSSC 11’s Gray \nNSSC 11’s White \nNSSC 13 Black L \nNSSC 13’s Gray\n NSSC 13’s White \nNSSC Boy’s 12 Nike\n\nUSAV Full Day Format\nAges 10-13\nGateway (GW)\n\n\nHost: NSSC\nLocation: Cape Girardeau Sportsplex\n\nAddress \n2526 Jim Drury WayCape Girardeau\, MO 63701\n \n\nSCHEDULE:\nhttps://www.advancedeventsystems.com/events/41431 \nStudents under the age of 12 will be admitted free. Admission will be $10. There is no charge for parking. Tournament play will begin at 8:00am and doors to the Sportsplex will open at 7:15am.
URL:https://nsscvolleyball.com/event/sportsplex-blast-i/
LOCATION:Sportsplex\, 526 Jim Drury Way\, Cape Girardeau\, MO\, 63701\, United States
CATEGORIES:Boys 12 Nike,Girls 10,Girls 10 Black,Girls 10 White,Girls 11 Black,Girls 11 Gray,Girls 11 White,Girls 13 Black-L,Girls 13 Gray,Girls 13 White
END:VEVENT
BEGIN:VEVENT
DTSTART;TZID=America/Chicago:20251229T110000
DTEND;TZID=America/Chicago:20251229T130000
DTSTAMP:20260419T232244
CREATED:20251203T125944Z
LAST-MODIFIED:20251203T131100Z
UID:10007145-1767006000-1767013200@nsscvolleyball.com
SUMMARY:Practice
DESCRIPTION:Practice is at Sportsplex unless otherwise noted below – This practice is 11am-1PM \n13 Black-L – court #2b \n13 Black-S  – court #4b \n13 White – court #6a \n13 Gray – court #6b \n14 Nike – court #2a \n14 Black-L – court #5b \n14 Black-S – court #1b \n14 White – court #3b \n14 Gray – court #1a \n15 Yellow – 3a \n15 Slate – 4a \n15 Pink – 5a
URL:https://nsscvolleyball.com/event/13u-14u-practice-2-4-6/
LOCATION:Sportsplex\, 526 Jim Drury Way\, Cape Girardeau\, MO\, 63701\, United States
CATEGORIES:Girls 13,Girls 13 Black-L,Girls 13 Black-S,Girls 13 Gray,Girls 13 White,Girls 14,Girls 14 Black-L,Girls 14 Black-S,Girls 14 Gray,Girls 14 Nike,Girls 14 White,Girls 15 Pink,Girls 15 Slate,Girls 15 Yellow
END:VEVENT
BEGIN:VEVENT
DTSTART;TZID=America/Chicago:20251228T153000
DTEND;TZID=America/Chicago:20251228T173000
DTSTAMP:20260419T232244
CREATED:20251203T125439Z
LAST-MODIFIED:20251203T125440Z
UID:10007315-1766935800-1766943000@nsscvolleyball.com
SUMMARY:Practice
DESCRIPTION:Practice is at Sportsplex unless otherwise noted below \n13 Black-S – 5b \n13 White -1b \n13 Gray -1a \n14 Nike -OSAGE CENTER \n14 Black-L – 2a \n14 Black-S -OSAGE CENTER \n14 White – 2b \n14 Gray -5a \n15 Pink – 6a \n15 Slate – 6b
URL:https://nsscvolleyball.com/event/practice-8-13/
LOCATION:Sportsplex\, 526 Jim Drury Way\, Cape Girardeau\, MO\, 63701\, United States
CATEGORIES:Girls 13 Black-S,Girls 13 Gray,Girls 13 White,Girls 14 Black-L,Girls 14 Black-S,Girls 14 Gray,Girls 14 Nike,Girls 14 White,Girls 15 Pink,Girls 15 Slate
END:VEVENT
BEGIN:VEVENT
DTSTART;TZID=America/Chicago:20251222T110000
DTEND;TZID=America/Chicago:20251222T130000
DTSTAMP:20260419T232244
CREATED:20251130T160701Z
LAST-MODIFIED:20251203T124851Z
UID:10007144-1766401200-1766408400@nsscvolleyball.com
SUMMARY:Practice
DESCRIPTION:The week of Christmas – Practice for entire club is Monday\, Dec. 22nd – Practice is at Sportsplex unless otherwise noted below \n13 Black-L – court #2b \n13 Black-S  – court #4b \n13 White – court #6a \n13 Gray – court #6b \n14 Nike – court #2a \n14 Black-L – court #5b \n14 Black-S – court #1b \n14 White – court #3b \n14 Gray – court #1a \n15 Yellow – court #3a \n15 Slate – court #4a \n15 Pink  – court #5a
URL:https://nsscvolleyball.com/event/13u-14u-practice-2-4-3/
LOCATION:Sportsplex\, 526 Jim Drury Way\, Cape Girardeau\, MO\, 63701\, United States
CATEGORIES:Girls 13,Girls 13 Black-L,Girls 13 Black-S,Girls 13 Gray,Girls 13 White,Girls 14,Girls 14 Black-L,Girls 14 Black-S,Girls 14 Gray,Girls 14 Nike,Girls 14 White,Girls 15 Pink,Girls 15 Slate,Girls 15 Yellow
END:VEVENT
BEGIN:VEVENT
DTSTART;TZID=America/Chicago:20251221T153000
DTEND;TZID=America/Chicago:20251221T173000
DTSTAMP:20260419T232244
CREATED:20251203T123922Z
LAST-MODIFIED:20251220T204018Z
UID:10007314-1766331000-1766338200@nsscvolleyball.com
SUMMARY:Holiday Cheer Practice
DESCRIPTION:Everyone will be practicing at the Sportsplex! Each NSSC club team is invited to dress up in a holiday theme for their Sunday practice. From cozy PJ vibes to creative reindeer formations—we’re bringing joy to the court before the holiday break. \n\n\nPhotos will be taken on Sunday at the beginning of practice\, and voting will take place during the practice slot on social media. Families\, friends\, and fans can cast their vote by liking their favorite team photo on Instagram and Facebook. 🎁🏐\n\n\n\n\nThe team with the most combined likes wins a fun team treat and\, of course\, major bragging rights heading into the new year!\n\n\n13 Black-S – 2a \n13 White – 2b \n13 Gray – 5a \n14 Nike – 1a \n14 Black-L – 6a \n14 Black-S – 1b \n14 White – 6b \n14 Gray – 5b \n15 Pink – 5a \n15 Slate – 2a
URL:https://nsscvolleyball.com/event/practice-8-12/
LOCATION:Sportsplex\, 526 Jim Drury Way\, Cape Girardeau\, MO\, 63701\, United States
CATEGORIES:Girls 13 Black-S,Girls 13 Gray,Girls 13 White,Girls 14 Black-L,Girls 14 Black-S,Girls 14 Gray,Girls 14 Nike,Girls 14 White,Girls 15 Pink,Girls 15 Slate
END:VEVENT
BEGIN:VEVENT
DTSTART;TZID=America/Chicago:20251216T180000
DTEND;TZID=America/Chicago:20251216T200000
DTSTAMP:20260419T232244
CREATED:20251203T123103Z
LAST-MODIFIED:20251203T123105Z
UID:10007143-1765908000-1765915200@nsscvolleyball.com
SUMMARY:13U-14U Practice
DESCRIPTION:Practice is at Sportsplex unless otherwise noted below \n13 Black-L – court #2b \n13 Black-S  – court #5a \n13 White – court #5b \n13 Gray – court #4b \n14 Nike – court #1a \n14 Black-L – court #1b \n14 Black-S – court #6a \n14 White – court #6b \n14 Gray – court #2a
URL:https://nsscvolleyball.com/event/13u-14u-practice-2-4-5/
LOCATION:Sportsplex\, 526 Jim Drury Way\, Cape Girardeau\, MO\, 63701\, United States
CATEGORIES:Girls 13,Girls 13 Black-L,Girls 13 Black-S,Girls 13 Gray,Girls 13 White,Girls 14,Girls 14 Black-L,Girls 14 Black-S,Girls 14 Gray,Girls 14 Nike,Girls 14 White
END:VEVENT
BEGIN:VEVENT
DTSTART;TZID=America/Chicago:20251216T163000
DTEND;TZID=America/Chicago:20251216T180000
DTSTAMP:20260419T232244
CREATED:20251114T182104Z
LAST-MODIFIED:20251118T161333Z
UID:10007310-1765902600-1765908000@nsscvolleyball.com
SUMMARY:📸 Media Day
DESCRIPTION:It’s time for team photos! Cheekwood Photography will be at practices December 16 to take individual and team pictures for the 2025–2026 season. \n\n4:30pm – Individual photos\n5:30pm – Team photos\n6:00pm – Team practice\n\n  \n📸 Here’s what to know: Girls 13U-14U \n\nIndividual photos are optional\, but everyone must be present for the team photo.\nUniforms will be handed out on Sunday\, December 14\, so athletes should arrive wearing their full uniform—jersey\, shorts\, and kneepads.\nPhoto forms will be filled out on site when you arrive—no need to complete anything in advance.\n\nIf all Jerseys are not in by this date we will move it to the next week. \n 
URL:https://nsscvolleyball.com/event/%f0%9f%93%b8-media-day-2/
LOCATION:Sportsplex\, 526 Jim Drury Way\, Cape Girardeau\, MO\, 63701\, United States
CATEGORIES:Girls 13,Girls 13 Black-L,Girls 13 Black-S,Girls 13 Gray,Girls 13 White,Girls 14,Girls 14 Black-L,Girls 14 Black-S,Girls 14 Gray,Girls 14 Nike,Girls 14 White
END:VEVENT
BEGIN:VEVENT
DTSTART;VALUE=DATE:20251213
DTEND;VALUE=DATE:20251214
DTSTAMP:20260419T232244
CREATED:20251007T221559Z
LAST-MODIFIED:20251210T233134Z
UID:10006849-1765584000-1765670399@nsscvolleyball.com
SUMMARY:Sportsplex Blast Jefferson College Holiday Bash I
DESCRIPTION:USAV Full Day Format \n\nGateway (GW)\n\nHost: NSSC VOLLEYBALL CLUB\nLocation: Cape Girardeau Sportsplex\n\n \n\n \nSchedule: \nhttps://www.advancedeventsystems.com/events/41429
URL:https://nsscvolleyball.com/event/sportsplex-blast-jefferson-college-holiday-bash-i/
LOCATION:Sportsplex\, 526 Jim Drury Way\, Cape Girardeau\, MO\, 63701\, United States
CATEGORIES:Boys 12 Nike,Girls 10,Girls 10 Black,Girls 10 White,Girls 11,Girls 11 Black,Girls 11 Gray,Girls 11 Nike,Girls 11 White,Girls 12,Girls 12 Black,Girls 12 Nike,Girls 13,Girls 13 Black-L,Girls 13 Black-S,Girls 13 Gray,Girls 13 White,Girls 14,Girls 14 Black-L,Girls 14 Black-S,Girls 14 Gray,Girls 14 Nike,Girls 14 White
END:VEVENT
BEGIN:VEVENT
DTSTART;TZID=America/Chicago:20251209T180000
DTEND;TZID=America/Chicago:20251209T200000
DTSTAMP:20260419T232244
CREATED:20251202T234153Z
LAST-MODIFIED:20251202T234154Z
UID:10007142-1765303200-1765310400@nsscvolleyball.com
SUMMARY:13U-14U Practice
DESCRIPTION:Practice is at Sportsplex unless otherwise noted below \n13 Black-L – court #2b \n13 Black-S  – court #5a \n13 White – court #5b \n13 Gray – court #4b \n14 Nike – court #1a \n14 Black-L – court #1b \n14 Black-S – court #6a \n14 White – court #6a \n14 Gray – court #2a
URL:https://nsscvolleyball.com/event/13u-14u-practice-2-4-4/
LOCATION:Sportsplex\, 526 Jim Drury Way\, Cape Girardeau\, MO\, 63701\, United States
CATEGORIES:Girls 13,Girls 13 Black-L,Girls 13 Black-S,Girls 13 Gray,Girls 13 White,Girls 14,Girls 14 Black-L,Girls 14 Black-S,Girls 14 Gray,Girls 14 Nike,Girls 14 White
END:VEVENT
BEGIN:VEVENT
DTSTART;TZID=America/Chicago:20251207T140000
DTEND;TZID=America/Chicago:20251207T173000
DTSTAMP:20260419T232244
CREATED:20251115T160952Z
LAST-MODIFIED:20251130T205950Z
UID:10007312-1765116000-1765128600@nsscvolleyball.com
SUMMARY:Practice
DESCRIPTION:For the December 7th practice – please have your athlete arrive 90 minutes early – at 2pm for scorekeeping training. They will need to bring an iPad or Laptop with them to complete this training. They cannot practice without it being done. They may complete ahead of time at home as well.  \n\nLogin to their SportsEngine Account\n> Go to Credentials\n\n\n> USA Volleyball Academy (Launch)\n\n\n> Select Player (Launch)\n\n\n> Complete all six video trainings\n\n2p-3:30p – Scorekeeping training (they need device and their Sportsengine Login information) \n3:30p – Practice \n_________________ \n13 Black-S –  2a \n13 White – 2b \n13 Gray – 2b \n14 Nike – 1a \n14 Black-L – 1a \n14 Black-S – 1b \n14 White – 5b \n14 Gray – 5a \n15 Pink – 6a \n15 Slate – 6b
URL:https://nsscvolleyball.com/event/practice-8-2/
LOCATION:Sportsplex\, 526 Jim Drury Way\, Cape Girardeau\, MO\, 63701\, United States
CATEGORIES:Girls 13 Black-S,Girls 13 Gray,Girls 13 White,Girls 14 Black-L,Girls 14 Black-S,Girls 14 Gray,Girls 14 Nike,Girls 14 White,Girls 15 Pink,Girls 15 Slate
END:VEVENT
BEGIN:VEVENT
DTSTART;TZID=America/Chicago:20251202T180000
DTEND;TZID=America/Chicago:20251202T200000
DTSTAMP:20260419T232244
CREATED:20251130T144623Z
LAST-MODIFIED:20251130T144625Z
UID:10007141-1764698400-1764705600@nsscvolleyball.com
SUMMARY:13U-14U Practice
DESCRIPTION:Practice is at Sportsplex unless otherwise noted below \n13 Black-L – court #2b \n13 Black-S  – court #5a \n13 White – court #5b \n13 Gray – court #4b \n14 Nike – court #1a \n14 Black-L – court #1b \n14 Black-S – court #6a \n14 White – court #6b \n14 Gray – court #2a
URL:https://nsscvolleyball.com/event/13u-14u-practice-2-4-2/
LOCATION:Sportsplex\, 526 Jim Drury Way\, Cape Girardeau\, MO\, 63701\, United States
CATEGORIES:Girls 13,Girls 13 Black-L,Girls 13 Black-S,Girls 13 Gray,Girls 13 White,Girls 14,Girls 14 Black-L,Girls 14 Black-S,Girls 14 Gray,Girls 14 Nike,Girls 14 White
END:VEVENT
BEGIN:VEVENT
DTSTART;TZID=America/Chicago:20251130T153000
DTEND;TZID=America/Chicago:20251130T173000
DTSTAMP:20260419T232244
CREATED:20251130T122709Z
LAST-MODIFIED:20251130T122710Z
UID:10007181-1764516600-1764523800@nsscvolleyball.com
SUMMARY:Practice
DESCRIPTION:Practice is at Sportsplex unless otherwise noted below \n13 Black-S – 1a \n13 White – 1b \n13 Gray –  5a \n14 Nike – 5b \n14 Black-L – 6a \n14 Black-S – 6b \n14 White – at OSAGE \n14 Gray – at OSAGE \n15 Pink – 2a \n15 Slate – 2b
URL:https://nsscvolleyball.com/event/practice-8-3/
LOCATION:Sportsplex\, 526 Jim Drury Way\, Cape Girardeau\, MO\, 63701\, United States
CATEGORIES:Girls 13 Black-S,Girls 13 Gray,Girls 13 White,Girls 14 Black-L,Girls 14 Black-S,Girls 14 Gray,Girls 14 Nike,Girls 14 White,Girls 15 Pink,Girls 15 Slate
END:VEVENT
BEGIN:VEVENT
DTSTART;TZID=America/Chicago:20251125T180000
DTEND;TZID=America/Chicago:20251125T200000
DTSTAMP:20260419T232244
CREATED:20251029T233036Z
LAST-MODIFIED:20251114T183154Z
UID:10007140-1764093600-1764100800@nsscvolleyball.com
SUMMARY:13U-14U Practice
DESCRIPTION:Practice is at Sportsplex unless otherwise noted below \n13 Black-L 4b \n13 Black-S 2a \n13 White 2b \n13 Gray 5a \n14 Nike 1a \n14 Black-L 1b \n14 Black-S 6a \n14 White 6b \n14 Gray – 5b
URL:https://nsscvolleyball.com/event/13u-14u-practice-2/
LOCATION:Sportsplex\, 526 Jim Drury Way\, Cape Girardeau\, MO\, 63701\, United States
CATEGORIES:Girls 13,Girls 13 Black-L,Girls 13 Black-S,Girls 13 Gray,Girls 13 White,Girls 14,Girls 14 Black-L,Girls 14 Black-S,Girls 14 Gray,Girls 14 Nike,Girls 14 White
END:VEVENT
BEGIN:VEVENT
DTSTART;TZID=America/Chicago:20251123T153000
DTEND;TZID=America/Chicago:20251123T173000
DTSTAMP:20260419T232244
CREATED:20251109T162911Z
LAST-MODIFIED:20251119T154348Z
UID:10007177-1763911800-1763919000@nsscvolleyball.com
SUMMARY:Practice
DESCRIPTION:3:30-5:30 PM – at Sportsplex \n13 Black-S –  court 1b \n13 White -court 1a \n13 Gray -court 1a \n14 Nike -court 2a \n14 Black-L – court 2a \n14 Black-S –  court 2b \n14 White – court 5b \n14 Gray – court  5a \n15 Pink – court 6a \n15 Slate – court 6b
URL:https://nsscvolleyball.com/event/practice-6/
LOCATION:Sportsplex\, 526 Jim Drury Way\, Cape Girardeau\, MO\, 63701\, United States
CATEGORIES:Girls 13 Black-S,Girls 13 Gray,Girls 13 White,Girls 14 Black-L,Girls 14 Black-S,Girls 14 Gray,Girls 14 Nike,Girls 14 White,Girls 15 Pink,Girls 15 Slate
END:VEVENT
BEGIN:VEVENT
DTSTART;TZID=America/Chicago:20251118T180000
DTEND;TZID=America/Chicago:20251118T200000
DTSTAMP:20260419T232244
CREATED:20251109T172535Z
LAST-MODIFIED:20251117T181508Z
UID:10007139-1763488800-1763496000@nsscvolleyball.com
SUMMARY:13U-14U Practice
DESCRIPTION:Practice is at Sportsplex unless otherwise noted below \n13 Black-L 2b \n13 Black-S 1a \n13 White 1b \n13 Gray 2a \n14 Nike 4b \n14 Black-L 5a \n14 Black-S 5b \n14 White 6a \n14 Gray – 6b
URL:https://nsscvolleyball.com/event/13u-14u-practice-2-3/
LOCATION:Sportsplex\, 526 Jim Drury Way\, Cape Girardeau\, MO\, 63701\, United States
CATEGORIES:Girls 13,Girls 13 Black-L,Girls 13 Black-S,Girls 13 Gray,Girls 13 White,Girls 14,Girls 14 Black-L,Girls 14 Black-S,Girls 14 Gray,Girls 14 Nike,Girls 14 White
END:VEVENT
BEGIN:VEVENT
DTSTART;TZID=America/Chicago:20251116T153000
DTEND;TZID=America/Chicago:20251116T173000
DTSTAMP:20260419T232244
CREATED:20251109T160602Z
LAST-MODIFIED:20251116T201735Z
UID:10007173-1763307000-1763314200@nsscvolleyball.com
SUMMARY:Practice
DESCRIPTION:Time TBD based on basketball tournament this day – Tentative 3:30-5:30 PM  – all teams are at Sportsplex Courts unless otherwise noted below \n13 Black-S – – OSAGE CENTER \n13 White – – OSAGE CENTER \n13 Gray – 2b \n14 Long Season – Court 1 \n14 Short Season – Courts 6\, 2\, 5 \n 
URL:https://nsscvolleyball.com/event/practice-4/
LOCATION:MO
CATEGORIES:Girls 13 Black-S,Girls 13 Gray,Girls 13 White,Girls 14 Black-L,Girls 14 Black-S,Girls 14 Gray,Girls 14 Nike,Girls 14 White,Girls 15 Pink,Girls 15 Slate
END:VEVENT
BEGIN:VEVENT
DTSTART;TZID=America/Chicago:20251111T180000
DTEND;TZID=America/Chicago:20251111T200000
DTSTAMP:20260419T232244
CREATED:20251109T165607Z
LAST-MODIFIED:20251109T165746Z
UID:10006994-1762884000-1762891200@nsscvolleyball.com
SUMMARY:13U-14U Practice
DESCRIPTION:Girls 13U-14U Practice at the Sportsplex. \n13U – Courts 2a\, 2b\, 5a \n14U – Courts 1a\, 2a\, 6a\, 6b
URL:https://nsscvolleyball.com/event/13u-14u-practice-2-2/
LOCATION:Sportsplex\, 526 Jim Drury Way\, Cape Girardeau\, MO\, 63701\, United States
CATEGORIES:Girls 13,Girls 13 Black-L,Girls 13 Black-S,Girls 13 Gray,Girls 13 White,Girls 14,Girls 14 Black-L,Girls 14 Gray,Girls 14 Nike,Girls 14 White
END:VEVENT
END:VCALENDAR