BEGIN:VCALENDAR
VERSION:2.0
PRODID:-//NSSC Volleyball Club | Cape Girardeau, MO - ECPv6.15.20//NONSGML v1.0//EN
CALSCALE:GREGORIAN
METHOD:PUBLISH
X-ORIGINAL-URL:https://nsscvolleyball.com
X-WR-CALDESC:Events for NSSC Volleyball Club | Cape Girardeau, MO
REFRESH-INTERVAL;VALUE=DURATION:PT1H
X-Robots-Tag:noindex
X-PUBLISHED-TTL:PT1H
BEGIN:VTIMEZONE
TZID:America/Chicago
BEGIN:DAYLIGHT
TZOFFSETFROM:-0600
TZOFFSETTO:-0500
TZNAME:CDT
DTSTART:20250309T080000
END:DAYLIGHT
BEGIN:STANDARD
TZOFFSETFROM:-0500
TZOFFSETTO:-0600
TZNAME:CST
DTSTART:20251102T070000
END:STANDARD
BEGIN:DAYLIGHT
TZOFFSETFROM:-0600
TZOFFSETTO:-0500
TZNAME:CDT
DTSTART:20260308T080000
END:DAYLIGHT
BEGIN:STANDARD
TZOFFSETFROM:-0500
TZOFFSETTO:-0600
TZNAME:CST
DTSTART:20261101T070000
END:STANDARD
BEGIN:DAYLIGHT
TZOFFSETFROM:-0600
TZOFFSETTO:-0500
TZNAME:CDT
DTSTART:20270314T080000
END:DAYLIGHT
BEGIN:STANDARD
TZOFFSETFROM:-0500
TZOFFSETTO:-0600
TZNAME:CST
DTSTART:20271107T070000
END:STANDARD
END:VTIMEZONE
BEGIN:VEVENT
DTSTART;TZID=America/Chicago:20260113T180000
DTEND;TZID=America/Chicago:20260113T200000
DTSTAMP:20260420T092938
CREATED:20260107T200120Z
LAST-MODIFIED:20260110T021915Z
UID:10007147-1768327200-1768334400@nsscvolleyball.com
SUMMARY:6-8 PM Practice
DESCRIPTION:13 Black-S – 2A \n13 White – 2A \n14 White – 2B
URL:https://nsscvolleyball.com/event/13u-14u-practice-2-4-8/
LOCATION:Sportsplex\, 526 Jim Drury Way\, Cape Girardeau\, MO\, 63701\, United States
CATEGORIES:Girls 13 Black-S,Girls 13 White,Girls 14 White
END:VEVENT
END:VCALENDAR