BEGIN:VCALENDAR
VERSION:2.0
PRODID:-//NSSC Volleyball Club | Cape Girardeau, MO - ECPv6.15.20//NONSGML v1.0//EN
CALSCALE:GREGORIAN
METHOD:PUBLISH
X-ORIGINAL-URL:https://nsscvolleyball.com
X-WR-CALDESC:Events for NSSC Volleyball Club | Cape Girardeau, MO
REFRESH-INTERVAL;VALUE=DURATION:PT1H
X-Robots-Tag:noindex
X-PUBLISHED-TTL:PT1H
BEGIN:VTIMEZONE
TZID:America/Chicago
BEGIN:DAYLIGHT
TZOFFSETFROM:-0600
TZOFFSETTO:-0500
TZNAME:CDT
DTSTART:20240310T080000
END:DAYLIGHT
BEGIN:STANDARD
TZOFFSETFROM:-0500
TZOFFSETTO:-0600
TZNAME:CST
DTSTART:20241103T070000
END:STANDARD
BEGIN:DAYLIGHT
TZOFFSETFROM:-0600
TZOFFSETTO:-0500
TZNAME:CDT
DTSTART:20250309T080000
END:DAYLIGHT
BEGIN:STANDARD
TZOFFSETFROM:-0500
TZOFFSETTO:-0600
TZNAME:CST
DTSTART:20251102T070000
END:STANDARD
BEGIN:DAYLIGHT
TZOFFSETFROM:-0600
TZOFFSETTO:-0500
TZNAME:CDT
DTSTART:20260308T080000
END:DAYLIGHT
BEGIN:STANDARD
TZOFFSETFROM:-0500
TZOFFSETTO:-0600
TZNAME:CST
DTSTART:20261101T070000
END:STANDARD
END:VTIMEZONE
BEGIN:VEVENT
DTSTART;TZID=America/Chicago:20251202T180000
DTEND;TZID=America/Chicago:20251202T200000
DTSTAMP:20260420T110947
CREATED:20251130T144623Z
LAST-MODIFIED:20251130T144625Z
UID:10007141-1764698400-1764705600@nsscvolleyball.com
SUMMARY:13U-14U Practice
DESCRIPTION:Practice is at Sportsplex unless otherwise noted below \n13 Black-L – court #2b \n13 Black-S  – court #5a \n13 White – court #5b \n13 Gray – court #4b \n14 Nike – court #1a \n14 Black-L – court #1b \n14 Black-S – court #6a \n14 White – court #6b \n14 Gray – court #2a
URL:https://nsscvolleyball.com/event/13u-14u-practice-2-4-2/
LOCATION:Sportsplex\, 526 Jim Drury Way\, Cape Girardeau\, MO\, 63701\, United States
CATEGORIES:Girls 13,Girls 13 Black-L,Girls 13 Black-S,Girls 13 Gray,Girls 13 White,Girls 14,Girls 14 Black-L,Girls 14 Black-S,Girls 14 Gray,Girls 14 Nike,Girls 14 White
END:VEVENT
BEGIN:VEVENT
DTSTART;TZID=America/Chicago:20251207T123000
DTEND;TZID=America/Chicago:20251207T160000
DTSTAMP:20260420T110947
CREATED:20251115T155615Z
LAST-MODIFIED:20251130T145030Z
UID:10007236-1765110600-1765123200@nsscvolleyball.com
SUMMARY:2-4 PM Practice
DESCRIPTION:For the December 7th practice – please have your athlete arrive 90 minutes early – at 12:30pm for scorekeeping training. They will need to bring an iPad or Laptop with them to complete this training. They cannot practice without it being done. They may complete ahead of time at home as well.  \n\nLogin to their SportsEngine Account\n> Go to Credentials\n\n\n> USA Volleyball Academy (Launch)\n\n\n> Select Player (Launch)\n\n\n> Complete all six video trainings\n\n12:30p-2p – Scorekeeping training (they need device and their Sportsengine Login information) \n2-4p – Practice \n_________________ \n11 Nike – 6a \n12 NIke – 6b \n13 Black-L – 5b
URL:https://nsscvolleyball.com/event/2-4-pm-practice-3/
LOCATION:Sportsplex\, 526 Jim Drury Way\, Cape Girardeau\, MO\, 63701\, United States
CATEGORIES:Girls 11 Nike,Girls 12 Nike,Girls 13 Black-L
END:VEVENT
BEGIN:VEVENT
DTSTART;TZID=America/Chicago:20251207T140000
DTEND;TZID=America/Chicago:20251207T173000
DTSTAMP:20260420T110947
CREATED:20251115T160952Z
LAST-MODIFIED:20251130T205950Z
UID:10007312-1765116000-1765128600@nsscvolleyball.com
SUMMARY:Practice
DESCRIPTION:For the December 7th practice – please have your athlete arrive 90 minutes early – at 2pm for scorekeeping training. They will need to bring an iPad or Laptop with them to complete this training. They cannot practice without it being done. They may complete ahead of time at home as well.  \n\nLogin to their SportsEngine Account\n> Go to Credentials\n\n\n> USA Volleyball Academy (Launch)\n\n\n> Select Player (Launch)\n\n\n> Complete all six video trainings\n\n2p-3:30p – Scorekeeping training (they need device and their Sportsengine Login information) \n3:30p – Practice \n_________________ \n13 Black-S –  2a \n13 White – 2b \n13 Gray – 2b \n14 Nike – 1a \n14 Black-L – 1a \n14 Black-S – 1b \n14 White – 5b \n14 Gray – 5a \n15 Pink – 6a \n15 Slate – 6b
URL:https://nsscvolleyball.com/event/practice-8-2/
LOCATION:Sportsplex\, 526 Jim Drury Way\, Cape Girardeau\, MO\, 63701\, United States
CATEGORIES:Girls 13 Black-S,Girls 13 Gray,Girls 13 White,Girls 14 Black-L,Girls 14 Black-S,Girls 14 Gray,Girls 14 Nike,Girls 14 White,Girls 15 Pink,Girls 15 Slate
END:VEVENT
BEGIN:VEVENT
DTSTART;TZID=America/Chicago:20251209T180000
DTEND;TZID=America/Chicago:20251209T200000
DTSTAMP:20260420T110947
CREATED:20251202T234153Z
LAST-MODIFIED:20251202T234154Z
UID:10007142-1765303200-1765310400@nsscvolleyball.com
SUMMARY:13U-14U Practice
DESCRIPTION:Practice is at Sportsplex unless otherwise noted below \n13 Black-L – court #2b \n13 Black-S  – court #5a \n13 White – court #5b \n13 Gray – court #4b \n14 Nike – court #1a \n14 Black-L – court #1b \n14 Black-S – court #6a \n14 White – court #6a \n14 Gray – court #2a
URL:https://nsscvolleyball.com/event/13u-14u-practice-2-4-4/
LOCATION:Sportsplex\, 526 Jim Drury Way\, Cape Girardeau\, MO\, 63701\, United States
CATEGORIES:Girls 13,Girls 13 Black-L,Girls 13 Black-S,Girls 13 Gray,Girls 13 White,Girls 14,Girls 14 Black-L,Girls 14 Black-S,Girls 14 Gray,Girls 14 Nike,Girls 14 White
END:VEVENT
BEGIN:VEVENT
DTSTART;VALUE=DATE:20251213
DTEND;VALUE=DATE:20251214
DTSTAMP:20260420T110947
CREATED:20251007T221559Z
LAST-MODIFIED:20251210T233134Z
UID:10006849-1765584000-1765670399@nsscvolleyball.com
SUMMARY:Sportsplex Blast Jefferson College Holiday Bash I
DESCRIPTION:USAV Full Day Format \n\nGateway (GW)\n\nHost: NSSC VOLLEYBALL CLUB\nLocation: Cape Girardeau Sportsplex\n\n \n\n \nSchedule: \nhttps://www.advancedeventsystems.com/events/41429
URL:https://nsscvolleyball.com/event/sportsplex-blast-jefferson-college-holiday-bash-i/
LOCATION:Sportsplex\, 526 Jim Drury Way\, Cape Girardeau\, MO\, 63701\, United States
CATEGORIES:Boys 12 Nike,Girls 10,Girls 10 Black,Girls 10 White,Girls 11,Girls 11 Black,Girls 11 Gray,Girls 11 Nike,Girls 11 White,Girls 12,Girls 12 Black,Girls 12 Nike,Girls 13,Girls 13 Black-L,Girls 13 Black-S,Girls 13 Gray,Girls 13 White,Girls 14,Girls 14 Black-L,Girls 14 Black-S,Girls 14 Gray,Girls 14 Nike,Girls 14 White
END:VEVENT
BEGIN:VEVENT
DTSTART;TZID=America/Chicago:20251216T163000
DTEND;TZID=America/Chicago:20251216T180000
DTSTAMP:20260420T110947
CREATED:20251114T182104Z
LAST-MODIFIED:20251118T161333Z
UID:10007310-1765902600-1765908000@nsscvolleyball.com
SUMMARY:📸 Media Day
DESCRIPTION:It’s time for team photos! Cheekwood Photography will be at practices December 16 to take individual and team pictures for the 2025–2026 season. \n\n4:30pm – Individual photos\n5:30pm – Team photos\n6:00pm – Team practice\n\n  \n📸 Here’s what to know: Girls 13U-14U \n\nIndividual photos are optional\, but everyone must be present for the team photo.\nUniforms will be handed out on Sunday\, December 14\, so athletes should arrive wearing their full uniform—jersey\, shorts\, and kneepads.\nPhoto forms will be filled out on site when you arrive—no need to complete anything in advance.\n\nIf all Jerseys are not in by this date we will move it to the next week. \n 
URL:https://nsscvolleyball.com/event/%f0%9f%93%b8-media-day-2/
LOCATION:Sportsplex\, 526 Jim Drury Way\, Cape Girardeau\, MO\, 63701\, United States
CATEGORIES:Girls 13,Girls 13 Black-L,Girls 13 Black-S,Girls 13 Gray,Girls 13 White,Girls 14,Girls 14 Black-L,Girls 14 Black-S,Girls 14 Gray,Girls 14 Nike,Girls 14 White
END:VEVENT
BEGIN:VEVENT
DTSTART;TZID=America/Chicago:20251216T180000
DTEND;TZID=America/Chicago:20251216T200000
DTSTAMP:20260420T110947
CREATED:20251203T123103Z
LAST-MODIFIED:20251203T123105Z
UID:10007143-1765908000-1765915200@nsscvolleyball.com
SUMMARY:13U-14U Practice
DESCRIPTION:Practice is at Sportsplex unless otherwise noted below \n13 Black-L – court #2b \n13 Black-S  – court #5a \n13 White – court #5b \n13 Gray – court #4b \n14 Nike – court #1a \n14 Black-L – court #1b \n14 Black-S – court #6a \n14 White – court #6b \n14 Gray – court #2a
URL:https://nsscvolleyball.com/event/13u-14u-practice-2-4-5/
LOCATION:Sportsplex\, 526 Jim Drury Way\, Cape Girardeau\, MO\, 63701\, United States
CATEGORIES:Girls 13,Girls 13 Black-L,Girls 13 Black-S,Girls 13 Gray,Girls 13 White,Girls 14,Girls 14 Black-L,Girls 14 Black-S,Girls 14 Gray,Girls 14 Nike,Girls 14 White
END:VEVENT
BEGIN:VEVENT
DTSTART;TZID=America/Chicago:20251221T140000
DTEND;TZID=America/Chicago:20251221T160000
DTSTAMP:20260420T110947
CREATED:20251203T123808Z
LAST-MODIFIED:20251220T203822Z
UID:10007238-1766325600-1766332800@nsscvolleyball.com
SUMMARY:Holiday Cheer Practice
DESCRIPTION:Everyone will be practicing at the Sportsplex! Each NSSC club team is invited to dress up in a holiday theme for their Sunday practice. From cozy PJ vibes to creative reindeer formations—we’re bringing joy to the court before the holiday break. \n\n\nPhotos will be taken on Sunday at the beginning of practice\, and voting will take place during the practice slot on social media. Families\, friends\, and fans can cast their vote by liking their favorite team photo on Instagram and Facebook. 🎁🏐\n\n\n\n\nThe team with the most combined likes wins a fun team treat and\, of course\, major bragging rights heading into the new year!\n\n\n11 Nike- court 6a \n12 NIke – court 6b \n13 Black-L- court 5b
URL:https://nsscvolleyball.com/event/2-4-pm-practice-15/
LOCATION:Sportsplex\, 526 Jim Drury Way\, Cape Girardeau\, MO\, 63701\, United States
CATEGORIES:Girls 11 Nike,Girls 12 Nike,Girls 13 Black-L
END:VEVENT
BEGIN:VEVENT
DTSTART;TZID=America/Chicago:20251221T153000
DTEND;TZID=America/Chicago:20251221T173000
DTSTAMP:20260420T110947
CREATED:20251203T123922Z
LAST-MODIFIED:20251220T204018Z
UID:10007314-1766331000-1766338200@nsscvolleyball.com
SUMMARY:Holiday Cheer Practice
DESCRIPTION:Everyone will be practicing at the Sportsplex! Each NSSC club team is invited to dress up in a holiday theme for their Sunday practice. From cozy PJ vibes to creative reindeer formations—we’re bringing joy to the court before the holiday break. \n\n\nPhotos will be taken on Sunday at the beginning of practice\, and voting will take place during the practice slot on social media. Families\, friends\, and fans can cast their vote by liking their favorite team photo on Instagram and Facebook. 🎁🏐\n\n\n\n\nThe team with the most combined likes wins a fun team treat and\, of course\, major bragging rights heading into the new year!\n\n\n13 Black-S – 2a \n13 White – 2b \n13 Gray – 5a \n14 Nike – 1a \n14 Black-L – 6a \n14 Black-S – 1b \n14 White – 6b \n14 Gray – 5b \n15 Pink – 5a \n15 Slate – 2a
URL:https://nsscvolleyball.com/event/practice-8-12/
LOCATION:Sportsplex\, 526 Jim Drury Way\, Cape Girardeau\, MO\, 63701\, United States
CATEGORIES:Girls 13 Black-S,Girls 13 Gray,Girls 13 White,Girls 14 Black-L,Girls 14 Black-S,Girls 14 Gray,Girls 14 Nike,Girls 14 White,Girls 15 Pink,Girls 15 Slate
END:VEVENT
BEGIN:VEVENT
DTSTART;TZID=America/Chicago:20251222T110000
DTEND;TZID=America/Chicago:20251222T130000
DTSTAMP:20260420T110947
CREATED:20251130T160701Z
LAST-MODIFIED:20251203T124851Z
UID:10007144-1766401200-1766408400@nsscvolleyball.com
SUMMARY:Practice
DESCRIPTION:The week of Christmas – Practice for entire club is Monday\, Dec. 22nd – Practice is at Sportsplex unless otherwise noted below \n13 Black-L – court #2b \n13 Black-S  – court #4b \n13 White – court #6a \n13 Gray – court #6b \n14 Nike – court #2a \n14 Black-L – court #5b \n14 Black-S – court #1b \n14 White – court #3b \n14 Gray – court #1a \n15 Yellow – court #3a \n15 Slate – court #4a \n15 Pink  – court #5a
URL:https://nsscvolleyball.com/event/13u-14u-practice-2-4-3/
LOCATION:Sportsplex\, 526 Jim Drury Way\, Cape Girardeau\, MO\, 63701\, United States
CATEGORIES:Girls 13,Girls 13 Black-L,Girls 13 Black-S,Girls 13 Gray,Girls 13 White,Girls 14,Girls 14 Black-L,Girls 14 Black-S,Girls 14 Gray,Girls 14 Nike,Girls 14 White,Girls 15 Pink,Girls 15 Slate,Girls 15 Yellow
END:VEVENT
BEGIN:VEVENT
DTSTART;TZID=America/Chicago:20251228T140000
DTEND;TZID=America/Chicago:20251228T160000
DTSTAMP:20260420T110947
CREATED:20251203T125351Z
LAST-MODIFIED:20251203T125352Z
UID:10007239-1766930400-1766937600@nsscvolleyball.com
SUMMARY:2-4 PM Practice
DESCRIPTION:At Sportsplex unless otherwise noted \n11 Nike- court 6a \n12 NIke – court 6b \n13 Black-L- court 5b
URL:https://nsscvolleyball.com/event/2-4-pm-practice-16/
LOCATION:Sportsplex\, 526 Jim Drury Way\, Cape Girardeau\, MO\, 63701\, United States
CATEGORIES:Girls 11 Nike,Girls 12 Nike,Girls 13 Black-L
END:VEVENT
BEGIN:VEVENT
DTSTART;TZID=America/Chicago:20251228T153000
DTEND;TZID=America/Chicago:20251228T173000
DTSTAMP:20260420T110947
CREATED:20251203T125439Z
LAST-MODIFIED:20251203T125440Z
UID:10007315-1766935800-1766943000@nsscvolleyball.com
SUMMARY:Practice
DESCRIPTION:Practice is at Sportsplex unless otherwise noted below \n13 Black-S – 5b \n13 White -1b \n13 Gray -1a \n14 Nike -OSAGE CENTER \n14 Black-L – 2a \n14 Black-S -OSAGE CENTER \n14 White – 2b \n14 Gray -5a \n15 Pink – 6a \n15 Slate – 6b
URL:https://nsscvolleyball.com/event/practice-8-13/
LOCATION:Sportsplex\, 526 Jim Drury Way\, Cape Girardeau\, MO\, 63701\, United States
CATEGORIES:Girls 13 Black-S,Girls 13 Gray,Girls 13 White,Girls 14 Black-L,Girls 14 Black-S,Girls 14 Gray,Girls 14 Nike,Girls 14 White,Girls 15 Pink,Girls 15 Slate
END:VEVENT
BEGIN:VEVENT
DTSTART;TZID=America/Chicago:20251229T110000
DTEND;TZID=America/Chicago:20251229T130000
DTSTAMP:20260420T110947
CREATED:20251203T125944Z
LAST-MODIFIED:20251203T131100Z
UID:10007145-1767006000-1767013200@nsscvolleyball.com
SUMMARY:Practice
DESCRIPTION:Practice is at Sportsplex unless otherwise noted below – This practice is 11am-1PM \n13 Black-L – court #2b \n13 Black-S  – court #4b \n13 White – court #6a \n13 Gray – court #6b \n14 Nike – court #2a \n14 Black-L – court #5b \n14 Black-S – court #1b \n14 White – court #3b \n14 Gray – court #1a \n15 Yellow – 3a \n15 Slate – 4a \n15 Pink – 5a
URL:https://nsscvolleyball.com/event/13u-14u-practice-2-4-6/
LOCATION:Sportsplex\, 526 Jim Drury Way\, Cape Girardeau\, MO\, 63701\, United States
CATEGORIES:Girls 13,Girls 13 Black-L,Girls 13 Black-S,Girls 13 Gray,Girls 13 White,Girls 14,Girls 14 Black-L,Girls 14 Black-S,Girls 14 Gray,Girls 14 Nike,Girls 14 White,Girls 15 Pink,Girls 15 Slate,Girls 15 Yellow
END:VEVENT
END:VCALENDAR