BEGIN:VCALENDAR
VERSION:2.0
PRODID:-//NSSC Volleyball Club | Cape Girardeau, MO - ECPv6.15.20//NONSGML v1.0//EN
CALSCALE:GREGORIAN
METHOD:PUBLISH
X-WR-CALNAME:NSSC Volleyball Club | Cape Girardeau, MO
X-ORIGINAL-URL:https://nsscvolleyball.com
X-WR-CALDESC:Events for NSSC Volleyball Club | Cape Girardeau, MO
REFRESH-INTERVAL;VALUE=DURATION:PT1H
X-Robots-Tag:noindex
X-PUBLISHED-TTL:PT1H
BEGIN:VTIMEZONE
TZID:America/Chicago
BEGIN:DAYLIGHT
TZOFFSETFROM:-0600
TZOFFSETTO:-0500
TZNAME:CDT
DTSTART:20250309T080000
END:DAYLIGHT
BEGIN:STANDARD
TZOFFSETFROM:-0500
TZOFFSETTO:-0600
TZNAME:CST
DTSTART:20251102T070000
END:STANDARD
BEGIN:DAYLIGHT
TZOFFSETFROM:-0600
TZOFFSETTO:-0500
TZNAME:CDT
DTSTART:20260308T080000
END:DAYLIGHT
BEGIN:STANDARD
TZOFFSETFROM:-0500
TZOFFSETTO:-0600
TZNAME:CST
DTSTART:20261101T070000
END:STANDARD
BEGIN:DAYLIGHT
TZOFFSETFROM:-0600
TZOFFSETTO:-0500
TZNAME:CDT
DTSTART:20270314T080000
END:DAYLIGHT
BEGIN:STANDARD
TZOFFSETFROM:-0500
TZOFFSETTO:-0600
TZNAME:CST
DTSTART:20271107T070000
END:STANDARD
END:VTIMEZONE
BEGIN:VEVENT
DTSTART;VALUE=DATE:20260301
DTEND;VALUE=DATE:20260302
DTSTAMP:20260421T134346
CREATED:20251109T193937Z
LAST-MODIFIED:20260226T113010Z
UID:10007208-1772323200-1772409599@nsscvolleyball.com
SUMMARY:Jefferson College Series
DESCRIPTION:NSSC 11 Black\, 11 Nike \nJefferson College\, 1000 Viking Dr. Hillsboro\, MO 63090. \n————————————— \nThe doors will open at 7:30 AM\nR1’s (up refs) will be provided on both courts.\nAdmission adults $10\, children under 12 free\, we have online ticket purchase available. Here is a link https://events.hometownticketing.com/boxoffice/jefferson/L2VtYmVkL2V2ZW50LzEzNw==\nCoolers must stay in the front lobby.\nYou may bring your own chairs.\nWe will have concession stand available ( cash or credit card acceptable). Also\, we will have a coffee truck outside.\n\nSchedule attached (image)
URL:https://nsscvolleyball.com/event/jefferson-college-series/
LOCATION:Jefferson College\, 1000 Viking Drive\, Hillsboro\, MO\, 63050\, United States
CATEGORIES:Girls 11 Black,Girls 11 Nike
END:VEVENT
BEGIN:VEVENT
DTSTART;TZID=America/Chicago:20260302T180000
DTEND;TZID=America/Chicago:20260302T193000
DTSTAMP:20260421T134346
CREATED:20260301T235453Z
LAST-MODIFIED:20260302T153506Z
UID:10007083-1772474400-1772479800@nsscvolleyball.com
SUMMARY:10U-12U Practice
DESCRIPTION:Girls 10U-12U Practice at the Sportsplex unless otherwise noted below. \n\n\n\n\n\n10 Black\nOSAGE\n\n\n10 White\nOSAGE\n\n\n11 Nike\n1A\n\n\n11 Black\n1b\n\n\n11 White\n2b\n\n\n11 Gray\nOSAGE\n\n\n12 Nike\n4a\n\n\n12 Black\n4b
URL:https://nsscvolleyball.com/event/10u-12u-practice-2-18/
LOCATION:Sportsplex\, 526 Jim Drury Way\, Cape Girardeau\, MO\, 63701\, United States
CATEGORIES:Girls 10,Girls 10 Black,Girls 10 White,Girls 11,Girls 11 Black,Girls 11 Gray,Girls 11 Nike,Girls 11 White,Girls 12,Girls 12 Black,Girls 12 Nike
END:VEVENT
BEGIN:VEVENT
DTSTART;VALUE=DATE:20260307
DTEND;VALUE=DATE:20260309
DTSTAMP:20260421T134346
CREATED:20251102T132344Z
LAST-MODIFIED:20260306T132944Z
UID:10007005-1772841600-1773014399@nsscvolleyball.com
SUMMARY:Sportsplex Blast March Bash
DESCRIPTION:Schedule – \nhttps://www.advancedeventsystems.com/events/44326 \n  \nAM waive will be 11’s\, 13’s\, 15’s beginning at 8am. PM waive will be 12’s\, 14’s\, 16’s beginning at 2:30 pm. Doors will open one hour prior to the first match of the day. All matches played on Day 1 and Day 2 will be best of three to 25 points with a third if needed to 15 points. Minimum 5 matches guaranteed. \nAdmission will be taken for spectators ages 12 and up.  Students under the age of 12 will be admitted free. Single day admission will be $12 or a weekend tournament pass can be purchased for $20.
URL:https://nsscvolleyball.com/event/sportsplex-blast-march-bash/
LOCATION:Sportsplex\, 526 Jim Drury Way\, Cape Girardeau\, MO\, 63701\, United States
CATEGORIES:Girls 11 Black,Girls 11 Gray,Girls 11 Nike,Girls 11 White,Girls 12 Black,Girls 13 Black-L,Girls 15 Nike,Girls 15 Pink,Girls 15 White,Girls 16 Black
END:VEVENT
BEGIN:VEVENT
DTSTART;TZID=America/Chicago:20260309T180000
DTEND;TZID=America/Chicago:20260309T193000
DTSTAMP:20260421T134346
CREATED:20260302T000300Z
LAST-MODIFIED:20260302T000506Z
UID:10007084-1773079200-1773084600@nsscvolleyball.com
SUMMARY:10U-12U Practice
DESCRIPTION:Girls 10U-12U Practice at the Sportsplex unless otherwise noted below. \n\n\n\n\n\n10 Black\n1B\n\n\n10 White\n1A\n\n\n11 Nike\nOSAGE\n\n\n11 Black\nOSAGE\n\n\n11 White\n2A\n\n\n11 Gray\n1B\n\n\n12 Nike\nOSAGE\n\n\n12 Black\n2B
URL:https://nsscvolleyball.com/event/10u-12u-practice-2-19/
LOCATION:Sportsplex\, 526 Jim Drury Way\, Cape Girardeau\, MO\, 63701\, United States
CATEGORIES:Girls 10,Girls 10 Black,Girls 10 White,Girls 11,Girls 11 Black,Girls 11 Gray,Girls 11 Nike,Girls 11 White,Girls 12,Girls 12 Black,Girls 12 Nike
END:VEVENT
BEGIN:VEVENT
DTSTART;TZID=America/Chicago:20260315T140000
DTEND;TZID=America/Chicago:20260315T160000
DTSTAMP:20260421T134346
CREATED:20260314T000003Z
LAST-MODIFIED:20260314T000004Z
UID:10007250-1773583200-1773590400@nsscvolleyball.com
SUMMARY:2-4 PM Practice
DESCRIPTION:at OSAGE \n11 Nike- court 4 \n12 NIke – court 4 \n 
URL:https://nsscvolleyball.com/event/2-4-pm-practice-5-2/
LOCATION:The Osage Center – Cape Girardeau\, 1625 N Kingshighway St\, Cape Girardeau\, 63701\, United States
CATEGORIES:Girls 11 Nike,Girls 12 Nike
END:VEVENT
BEGIN:VEVENT
DTSTART;TZID=America/Chicago:20260316T180000
DTEND;TZID=America/Chicago:20260316T193000
DTSTAMP:20260421T134346
CREATED:20260302T000608Z
LAST-MODIFIED:20260316T185757Z
UID:10007085-1773684000-1773689400@nsscvolleyball.com
SUMMARY:10U-12U Practice
DESCRIPTION:Girls 10U-12U Practice at the Sportsplex unless otherwise noted below.\ \n\n\n\n\n\n10 Black\n1A\n\n\n10 White\n1B\n\n\n11 Nike\n2A\n\n\n11 Black\n4A\n\n\n11 White\n4B\n\n\n11 Gray\nOSAGE\n\n\n12 Nike\n2B\n\n\n12 Black\nOSAGE
URL:https://nsscvolleyball.com/event/10u-12u-practice-2-20/
LOCATION:Sportsplex\, 526 Jim Drury Way\, Cape Girardeau\, MO\, 63701\, United States
CATEGORIES:Girls 10,Girls 10 Black,Girls 10 White,Girls 11,Girls 11 Black,Girls 11 Gray,Girls 11 Nike,Girls 11 White,Girls 12,Girls 12 Black,Girls 12 Nike
END:VEVENT
BEGIN:VEVENT
DTSTART;TZID=America/Chicago:20260318T183000
DTEND;TZID=America/Chicago:20260318T203000
DTSTAMP:20260421T134346
CREATED:20260316T171732Z
LAST-MODIFIED:20260318T164031Z
UID:10007507-1773858600-1773865800@nsscvolleyball.com
SUMMARY:11 Nike Practice
DESCRIPTION:11 Nike Practice – Court 1A \nSportsplex
URL:https://nsscvolleyball.com/event/11-nike-practice/
LOCATION:Sportsplex\, 526 Jim Drury Way\, Cape Girardeau\, MO\, 63701\, United States
CATEGORIES:Girls 11 Nike
END:VEVENT
BEGIN:VEVENT
DTSTART;VALUE=DATE:20260320
DTEND;VALUE=DATE:20260323
DTSTAMP:20260421T134346
CREATED:20251109T222403Z
LAST-MODIFIED:20260217T023056Z
UID:10007221-1773964800-1774223999@nsscvolleyball.com
SUMMARY:Nike MEQ National Qualifier
DESCRIPTION:America Center Convention\n\n701 Convention Center PlazaSt. Louis\, MO 63101\n\nschedule – https://www.advancedeventsystems.com/events/40900 \n\n11 Nike will be competing in the 11 National Division\n12 Nike will be competing in the 12 American Division\n14 Nike will be competing in the 14 Liberty Division\n\nFor 12s\, they expect 1 National and American and 2 USA bids and for 11s\, 1 National Bid. \nMEQ Weekend #2 St. Louis (3/20-3/22) \nStart Times for day 1 of MEQ #2 in St. Louis. These are tentative\, but we will do our best to stay within the general guidelines. \n8 AM:\nAll Open\n11 National\, 12 National\n13 Liberty\, 14 Liberty\n13 USA \n230 PM\n14 American\n14 Select\n12 USA \n8 AM or 230 PM  (depending on seeding):\n13 American\n12 American \n  \nCompetitive Divisions:\nThe order of strength for nationals will be Open (13-18s)\, National\, USA\, Liberty\, American\, Freedom (from regions only) and Patriot. \n\nOpen: The highest level of competition\, designed for teams looking to compete against the best in the country.\nUSA: A high-level division\, typically one level below Open.\nNational: A high-level division for 11s-17s\, with 11s-12s earning bids at qualifiers/regions\, and 13s-18s primarily through region events.\nLiberty: A competitive level that requires a bid earned at a Qualifier.\nAmerican: A mid-level division allowing teams to compete at a national level\, with bids earned at qualifiers or regional events.\nFreedom: A division for 14s-17s\, with bids earned through regional events.\nPatriot: A division that does not require a bid to participate in the National Championship; it is open to teams that want to compete without having to qualify.
URL:https://nsscvolleyball.com/event/nike-meq-national-qualifier-2/
LOCATION:America Center\, 701 Convention Plaza\, St. Louis\, 63101\, United States
CATEGORIES:Girls 11 Nike,Girls 12 Nike,Girls 14 Nike
END:VEVENT
BEGIN:VEVENT
DTSTART;TZID=America/Chicago:20260323T180000
DTEND;TZID=America/Chicago:20260323T193000
DTSTAMP:20260421T134347
CREATED:20260323T152926Z
LAST-MODIFIED:20260323T152927Z
UID:10007086-1774288800-1774294200@nsscvolleyball.com
SUMMARY:10U-12U Practice
DESCRIPTION:Girls 10U-12U Practice at the Sportsplex unless otherwise noted below.
URL:https://nsscvolleyball.com/event/10u-12u-practice-2-21/
LOCATION:Sportsplex\, 526 Jim Drury Way\, Cape Girardeau\, MO\, 63701\, United States
CATEGORIES:Girls 10 Black,Girls 11 Nike,Girls 12,Girls 12 Black,Girls 12 Nike
END:VEVENT
BEGIN:VEVENT
DTSTART;TZID=America/Chicago:20260329T173000
DTEND;TZID=America/Chicago:20260329T193000
DTSTAMP:20260421T134347
CREATED:20251130T213911Z
LAST-MODIFIED:20260325T145319Z
UID:10007345-1774805400-1774812600@nsscvolleyball.com
SUMMARY:Sunday Practice
DESCRIPTION:at Sportsplex  \n10 Black – \n11 Nike – \n14 Nike – \n17 Nike – \n 
URL:https://nsscvolleyball.com/event/practice-9-5-11/
LOCATION:Sportsplex\, 526 Jim Drury Way\, Cape Girardeau\, MO\, 63701\, United States
CATEGORIES:Girls 10 Black,Girls 11 Nike,Girls 14 Nike,Girls 17 Nike
END:VEVENT
BEGIN:VEVENT
DTSTART;TZID=America/Chicago:20260330T180000
DTEND;TZID=America/Chicago:20260330T193000
DTSTAMP:20260421T134347
CREATED:20260325T142142Z
LAST-MODIFIED:20260325T142143Z
UID:10007496-1774893600-1774899000@nsscvolleyball.com
SUMMARY:Practice
DESCRIPTION:10 Black – 1a \n11 Nike – 1b \n12 NIke – 6a
URL:https://nsscvolleyball.com/event/11-12-nike-practice-3/
LOCATION:Sportsplex\, 526 Jim Drury Way\, Cape Girardeau\, MO\, 63701\, United States
CATEGORIES:Girls 10 Black,Girls 11 Nike,Girls 12 Nike
END:VEVENT
END:VCALENDAR