BEGIN:VCALENDAR
VERSION:2.0
PRODID:-//NSSC Volleyball Club | Cape Girardeau, MO - ECPv6.15.20//NONSGML v1.0//EN
CALSCALE:GREGORIAN
METHOD:PUBLISH
X-WR-CALNAME:NSSC Volleyball Club | Cape Girardeau, MO
X-ORIGINAL-URL:https://nsscvolleyball.com
X-WR-CALDESC:Events for NSSC Volleyball Club | Cape Girardeau, MO
REFRESH-INTERVAL;VALUE=DURATION:PT1H
X-Robots-Tag:noindex
X-PUBLISHED-TTL:PT1H
BEGIN:VTIMEZONE
TZID:America/Chicago
BEGIN:DAYLIGHT
TZOFFSETFROM:-0600
TZOFFSETTO:-0500
TZNAME:CDT
DTSTART:20250309T080000
END:DAYLIGHT
BEGIN:STANDARD
TZOFFSETFROM:-0500
TZOFFSETTO:-0600
TZNAME:CST
DTSTART:20251102T070000
END:STANDARD
BEGIN:DAYLIGHT
TZOFFSETFROM:-0600
TZOFFSETTO:-0500
TZNAME:CDT
DTSTART:20260308T080000
END:DAYLIGHT
BEGIN:STANDARD
TZOFFSETFROM:-0500
TZOFFSETTO:-0600
TZNAME:CST
DTSTART:20261101T070000
END:STANDARD
BEGIN:DAYLIGHT
TZOFFSETFROM:-0600
TZOFFSETTO:-0500
TZNAME:CDT
DTSTART:20270314T080000
END:DAYLIGHT
BEGIN:STANDARD
TZOFFSETFROM:-0500
TZOFFSETTO:-0600
TZNAME:CST
DTSTART:20271107T070000
END:STANDARD
END:VTIMEZONE
BEGIN:VEVENT
DTSTART;VALUE=DATE:20260221
DTEND;VALUE=DATE:20260223
DTSTAMP:20260425T052309
CREATED:20251007T222755Z
LAST-MODIFIED:20260218T152335Z
UID:10006853-1771632000-1771804799@nsscvolleyball.com
SUMMARY:Stratman Sports February '25 Grand Prix
DESCRIPTION:AAU Two Day Format\nOzark\n\n\nHost: Stratman Sports\nLocation: Legacy VTC\n\nAddress \n601 Gravois Bluffs Blvd G\, Fenton\, MO 63026\n \nSchedule:\n\nhttps://www.advancedeventsystems.com/events/44211
URL:https://nsscvolleyball.com/event/stratman-sports-february-25-grand-prix/
LOCATION:Legacy VTC – Fenton\, MO\, 601 Gravois Bluffs Blvd STE G\, Fenton\, MO\, 63026\, United States
CATEGORIES:Boys 12 Nike
END:VEVENT
END:VCALENDAR