BEGIN:VCALENDAR
VERSION:2.0
PRODID:-//NSSC Volleyball Club | Cape Girardeau, MO - ECPv6.15.20//NONSGML v1.0//EN
CALSCALE:GREGORIAN
METHOD:PUBLISH
X-WR-CALNAME:NSSC Volleyball Club | Cape Girardeau, MO
X-ORIGINAL-URL:https://nsscvolleyball.com
X-WR-CALDESC:Events for NSSC Volleyball Club | Cape Girardeau, MO
REFRESH-INTERVAL;VALUE=DURATION:PT1H
X-Robots-Tag:noindex
X-PUBLISHED-TTL:PT1H
BEGIN:VTIMEZONE
TZID:America/Chicago
BEGIN:DAYLIGHT
TZOFFSETFROM:-0600
TZOFFSETTO:-0500
TZNAME:CDT
DTSTART:20240310T080000
END:DAYLIGHT
BEGIN:STANDARD
TZOFFSETFROM:-0500
TZOFFSETTO:-0600
TZNAME:CST
DTSTART:20241103T070000
END:STANDARD
BEGIN:DAYLIGHT
TZOFFSETFROM:-0600
TZOFFSETTO:-0500
TZNAME:CDT
DTSTART:20250309T080000
END:DAYLIGHT
BEGIN:STANDARD
TZOFFSETFROM:-0500
TZOFFSETTO:-0600
TZNAME:CST
DTSTART:20251102T070000
END:STANDARD
BEGIN:DAYLIGHT
TZOFFSETFROM:-0600
TZOFFSETTO:-0500
TZNAME:CDT
DTSTART:20260308T080000
END:DAYLIGHT
BEGIN:STANDARD
TZOFFSETFROM:-0500
TZOFFSETTO:-0600
TZNAME:CST
DTSTART:20261101T070000
END:STANDARD
END:VTIMEZONE
BEGIN:VEVENT
DTSTART;TZID=America/Chicago:20251107T180000
DTEND;TZID=America/Chicago:20251107T210000
DTSTAMP:20260423T224014
CREATED:20251020T124846Z
LAST-MODIFIED:20251020T124950Z
UID:10006856-1762538400-1762549200@nsscvolleyball.com
SUMMARY:NSSC Volleyball Club Night at SEMO Volleyball Game
DESCRIPTION:🏐 NSSC Club Night at SEMO Women’s Volleyball\nFriday\, November 7th | SEMO vs. Lindenwood | Game starts at 6:00 PM | Houck Field House \nJoin us for a special evening celebrating the NSSC Volleyball family at the SEMO Women’s Volleyball game! This is more than just a game—it’s a chance to come together\, cheer loud\, and give our athletes a moment they’ll never forget. \nHere’s what makes this night extra special: \n\nFree Youth Ticket Offer: Every paid adult ticket comes with a free youth ticket when purchased online.\n🎟 Get your tickets at: semoredhawks.com/tickets\nNational Anthem Performance by “Double Take” — NSSC’s own Will and Wyatt Stinnett (Boys 18 Nike).\nHigh 5 Tunnel featuring NSSC athletes! This is a team favorite and a fun way for kids to be part of the action.\n\nWhether you’re a returning family or just starting your volleyball journey\, we’d love to see you there. Mark your calendar\, grab your tickets\, and let’s pack the gym with NSSC energy! \n💬 Questions? Reach out to your coach or one of our club directors—we’ll make sure you’ve got all the details. \nLet’s show up strong—on and off the court.
URL:https://nsscvolleyball.com/event/nssc-volleyball-club-night-at-semo-volleyball-game/
LOCATION:Houck Field House\, 400 Houck Pl.\, Cape Girardeau\, 63701\, United States
CATEGORIES:Boys 12 Nike,Boys 18 Nike,Girls 10,Girls 11,Girls 12,Girls 13,Girls 14,Girls 15,Girls 16,Girls 17 Black,Girls 17 Nike,Girls 18 Black
END:VEVENT
BEGIN:VEVENT
DTSTART;TZID=America/Chicago:20251104T180000
DTEND;TZID=America/Chicago:20251104T200000
DTSTAMP:20260423T224014
CREATED:20251103T221605Z
LAST-MODIFIED:20251104T151028Z
UID:10007008-1762279200-1762286400@nsscvolleyball.com
SUMMARY:Boys 12 Practice
DESCRIPTION:Court 5b
URL:https://nsscvolleyball.com/event/boys-12-practice/
LOCATION:MO
CATEGORIES:Boys 12 Nike
END:VEVENT
BEGIN:VEVENT
DTSTART;TZID=America/Chicago:20250909T180000
DTEND;TZID=America/Chicago:20250909T200000
DTSTAMP:20260423T224014
CREATED:20250902T125859Z
LAST-MODIFIED:20250902T125859Z
UID:10006838-1757440800-1757448000@nsscvolleyball.com
SUMMARY:Boys 10U-14U Open Gym
DESCRIPTION:This two-hour clinic is for boys 10u-14u. There are four total open gym dates to help prepare the athletes for our NSSC Tryouts. Cost is $5 – pay at the door. Please RSVP online prior to arriving!  \nFor more information: https://nsscvolleyball.com/pre-tryout-skills-clinics/ \n 
URL:https://nsscvolleyball.com/event/boys-10u-14u-open-gym/
LOCATION:Sportsplex\, 526 Jim Drury Way\, Cape Girardeau\, MO\, 63701\, United States
CATEGORIES:Boys 12 Nike,Boys 18 Nike,Trainings
END:VEVENT
BEGIN:VEVENT
DTSTART;TZID=America/Chicago:20250902T180000
DTEND;TZID=America/Chicago:20250902T200000
DTSTAMP:20260423T224014
CREATED:20250729T160345Z
LAST-MODIFIED:20250729T160620Z
UID:10006836-1756836000-1756843200@nsscvolleyball.com
SUMMARY:Boys 10U-18U Open Gym
DESCRIPTION:This two-hour clinic is for boys 10u-18u. There are four total open gym dates to help prepare the athletes for our NSSC Tryouts. Cost is $5 – pay at the door. Please RSVP online prior to arriving!  \nFor more information: https://nsscvolleyball.com/pre-tryout-skills-clinics/ \n 
URL:https://nsscvolleyball.com/event/boys-10u-18u-open-gym-4/
LOCATION:Sportsplex\, 526 Jim Drury Way\, Cape Girardeau\, MO\, 63701\, United States
CATEGORIES:Boys 12 Nike,Boys 18 Nike,Trainings
END:VEVENT
BEGIN:VEVENT
DTSTART;TZID=America/Chicago:20250821T180000
DTEND;TZID=America/Chicago:20250821T200000
DTSTAMP:20260423T224014
CREATED:20250729T155301Z
LAST-MODIFIED:20250729T155740Z
UID:10006835-1755799200-1755806400@nsscvolleyball.com
SUMMARY:Boys 10U-18U Open Gym
DESCRIPTION:This two-hour clinic is for boys 10u-18u. There are four total open gym dates to help prepare the athletes for our NSSC Tryouts. Cost is $5 – pay at the door. Please RSVP online prior to arriving!  \nFor more information: https://nsscvolleyball.com/pre-tryout-skills-clinics/ \n 
URL:https://nsscvolleyball.com/event/boys-10u-18u-open-gym-3/
LOCATION:Sportsplex\, 526 Jim Drury Way\, Cape Girardeau\, MO\, 63701\, United States
CATEGORIES:Boys 12 Nike,Boys 18 Nike,Trainings
END:VEVENT
BEGIN:VEVENT
DTSTART;TZID=America/Chicago:20250819T180000
DTEND;TZID=America/Chicago:20250819T200000
DTSTAMP:20260423T224014
CREATED:20250729T154748Z
LAST-MODIFIED:20250729T160551Z
UID:10006834-1755626400-1755633600@nsscvolleyball.com
SUMMARY:Boys 10U-18U Open Gym
DESCRIPTION:This two-hour clinic is for boys 10u-18u. There are four total open gym dates to help prepare the athletes for our NSSC Tryouts. Cost is $5 – pay at the door. Please RSVP online prior to arriving!  \nFor more information: https://nsscvolleyball.com/pre-tryout-skills-clinics/ \n 
URL:https://nsscvolleyball.com/event/boys-10u-18u-open-gym-2/
LOCATION:Sportsplex\, 526 Jim Drury Way\, Cape Girardeau\, MO\, 63701\, United States
CATEGORIES:Boys 12 Nike,Boys 18 Nike,Trainings
END:VEVENT
BEGIN:VEVENT
DTSTART;TZID=America/Chicago:20250814T180000
DTEND;TZID=America/Chicago:20250814T200000
DTSTAMP:20260423T224014
CREATED:20250729T154316Z
LAST-MODIFIED:20250729T155759Z
UID:10006833-1755194400-1755201600@nsscvolleyball.com
SUMMARY:Boys 10U-18U Open Gym
DESCRIPTION:This two-hour clinic is for boys 10u-18u. There are four total open gym dates to help prepare the athletes for our NSSC Tryouts. Cost is $5 – pay at the door. Please RSVP online prior to arriving!  \nFor more information: https://nsscvolleyball.com/pre-tryout-skills-clinics/ \n 
URL:https://nsscvolleyball.com/event/boys-10u-18u-open-gym/
LOCATION:Sportsplex\, 526 Jim Drury Way\, Cape Girardeau\, MO\, 63701\, United States
CATEGORIES:Boys 12 Nike,Boys 18 Nike,Trainings
END:VEVENT
BEGIN:VEVENT
DTSTART;TZID=America/Chicago:20250731T180000
DTEND;TZID=America/Chicago:20250731T200000
DTSTAMP:20260423T224014
CREATED:20250609T164423Z
LAST-MODIFIED:20250729T092812Z
UID:10006815-1753984800-1753992000@nsscvolleyball.com
SUMMARY:7/31/25 Boys Clinic (9u-14u)
DESCRIPTION: Time: 6-8 PM\n📍 Location: The Sportsplex\, Cape Girardeau\, MO \nPLEASE DO NOT REFRESH SCREEN WHEN YOU PROCESS YOUR PAYMENT. CHECK YOUR EMAIL FOR A RECEIPT. AS MANY TIMES AS THE CONFIRMATION SCREEN WILL NOT APPEAR\, BUT YOUR ORDER WILL GO THROUGH. To view purchased tickets\, go to MY ACCOUNT on the top left navigation bar\, then scroll down to view your tickets.
URL:https://nsscvolleyball.com/event/7-31-25-boys-clinic-9u-14u/
LOCATION:Sportsplex\, 526 Jim Drury Way\, Cape Girardeau\, MO\, 63701\, United States
CATEGORIES:Boys 12 Nike,Trainings
END:VEVENT
BEGIN:VEVENT
DTSTART;TZID=America/Chicago:20250717T180000
DTEND;TZID=America/Chicago:20250717T200000
DTSTAMP:20260423T224014
CREATED:20250609T161154Z
LAST-MODIFIED:20250729T092813Z
UID:10006813-1752775200-1752782400@nsscvolleyball.com
SUMMARY:7/17/25 Boys Clinic (9u-14u)
DESCRIPTION: Time: 6-8 PM\n📍 Location: The Sportsplex\, Cape Girardeau\, MO \n  \nPLEASE DO NOT REFRESH SCREEN WHEN YOU PROCESS YOUR PAYMENT. CHECK YOUR EMAIL FOR A RECEIPT. AS MANY TIMES AS THE CONFIRMATION SCREEN WILL NOT APPEAR\, BUT YOUR ORDER WILL GO THROUGH. To view purchased tickets\, go to MY ACCOUNT on the top left navigation bar\, then scroll down to view your tickets.
URL:https://nsscvolleyball.com/event/boys-clinic-9u-14u/
LOCATION:Sportsplex\, 526 Jim Drury Way\, Cape Girardeau\, MO\, 63701\, United States
CATEGORIES:Boys 12 Nike,Trainings
END:VEVENT
BEGIN:VEVENT
DTSTART;TZID=America/Chicago:20250618T083000
DTEND;TZID=America/Chicago:20250618T130000
DTSTAMP:20260423T224014
CREATED:20250409T004345Z
LAST-MODIFIED:20250409T205741Z
UID:10006802-1750235400-1750251600@nsscvolleyball.com
SUMMARY:NSSC 3-Day Volleyball Camp
DESCRIPTION:June 16th\, 17th\, 18th at the Sportsplex\, Cape Girardeau \nGrades 4-6 attend 8:30 AM – 10:30 AM \nGrades 7-8 attend 11:00 AM – 1:00 PM \n$100 Includes 3 Days of Camp + T-Shirt \nTotal $103 ($100 + $3 service fee) \n 
URL:https://nsscvolleyball.com/event/nssc-volleyball-camp/2025-06-18/
LOCATION:Sportsplex\, 526 Jim Drury Way\, Cape Girardeau\, MO\, 63701\, United States
CATEGORIES:Boys 12 Nike,Girls 10,Girls 11,Girls 12,Girls 13,Girls 14
END:VEVENT
BEGIN:VEVENT
DTSTART;TZID=America/Chicago:20250617T083000
DTEND;TZID=America/Chicago:20250617T130000
DTSTAMP:20260423T224014
CREATED:20250409T004345Z
LAST-MODIFIED:20250409T205741Z
UID:10006801-1750149000-1750165200@nsscvolleyball.com
SUMMARY:NSSC 3-Day Volleyball Camp
DESCRIPTION:June 16th\, 17th\, 18th at the Sportsplex\, Cape Girardeau \nGrades 4-6 attend 8:30 AM – 10:30 AM \nGrades 7-8 attend 11:00 AM – 1:00 PM \n$100 Includes 3 Days of Camp + T-Shirt \nTotal $103 ($100 + $3 service fee) \n 
URL:https://nsscvolleyball.com/event/nssc-volleyball-camp/2025-06-17/
LOCATION:Sportsplex\, 526 Jim Drury Way\, Cape Girardeau\, MO\, 63701\, United States
CATEGORIES:Boys 12 Nike,Girls 10,Girls 11,Girls 12,Girls 13,Girls 14
END:VEVENT
BEGIN:VEVENT
DTSTART;TZID=America/Chicago:20250616T083000
DTEND;TZID=America/Chicago:20250616T130000
DTSTAMP:20260423T224014
CREATED:20250409T004345Z
LAST-MODIFIED:20250409T205741Z
UID:10006800-1750062600-1750078800@nsscvolleyball.com
SUMMARY:NSSC 3-Day Volleyball Camp
DESCRIPTION:June 16th\, 17th\, 18th at the Sportsplex\, Cape Girardeau \nGrades 4-6 attend 8:30 AM – 10:30 AM \nGrades 7-8 attend 11:00 AM – 1:00 PM \n$100 Includes 3 Days of Camp + T-Shirt \nTotal $103 ($100 + $3 service fee) \n 
URL:https://nsscvolleyball.com/event/nssc-volleyball-camp/2025-06-16/
LOCATION:Sportsplex\, 526 Jim Drury Way\, Cape Girardeau\, MO\, 63701\, United States
CATEGORIES:Boys 12 Nike,Girls 10,Girls 11,Girls 12,Girls 13,Girls 14
END:VEVENT
END:VCALENDAR