BEGIN:VCALENDAR
VERSION:2.0
PRODID:-//NSSC Volleyball Club | Cape Girardeau, MO - ECPv6.15.20//NONSGML v1.0//EN
CALSCALE:GREGORIAN
METHOD:PUBLISH
X-ORIGINAL-URL:https://nsscvolleyball.com
X-WR-CALDESC:Events for NSSC Volleyball Club | Cape Girardeau, MO
REFRESH-INTERVAL;VALUE=DURATION:PT1H
X-Robots-Tag:noindex
X-PUBLISHED-TTL:PT1H
BEGIN:VTIMEZONE
TZID:America/Chicago
BEGIN:DAYLIGHT
TZOFFSETFROM:-0600
TZOFFSETTO:-0500
TZNAME:CDT
DTSTART:20250309T080000
END:DAYLIGHT
BEGIN:STANDARD
TZOFFSETFROM:-0500
TZOFFSETTO:-0600
TZNAME:CST
DTSTART:20251102T070000
END:STANDARD
BEGIN:DAYLIGHT
TZOFFSETFROM:-0600
TZOFFSETTO:-0500
TZNAME:CDT
DTSTART:20260308T080000
END:DAYLIGHT
BEGIN:STANDARD
TZOFFSETFROM:-0500
TZOFFSETTO:-0600
TZNAME:CST
DTSTART:20261101T070000
END:STANDARD
BEGIN:DAYLIGHT
TZOFFSETFROM:-0600
TZOFFSETTO:-0500
TZNAME:CDT
DTSTART:20270314T080000
END:DAYLIGHT
BEGIN:STANDARD
TZOFFSETFROM:-0500
TZOFFSETTO:-0600
TZNAME:CST
DTSTART:20271107T070000
END:STANDARD
END:VTIMEZONE
BEGIN:VEVENT
DTSTART;VALUE=DATE:20260307
DTEND;VALUE=DATE:20260309
DTSTAMP:20260420T034556
CREATED:20251102T132344Z
LAST-MODIFIED:20260306T132944Z
UID:10007005-1772841600-1773014399@nsscvolleyball.com
SUMMARY:Sportsplex Blast March Bash
DESCRIPTION:Schedule – \nhttps://www.advancedeventsystems.com/events/44326 \n  \nAM waive will be 11’s\, 13’s\, 15’s beginning at 8am. PM waive will be 12’s\, 14’s\, 16’s beginning at 2:30 pm. Doors will open one hour prior to the first match of the day. All matches played on Day 1 and Day 2 will be best of three to 25 points with a third if needed to 15 points. Minimum 5 matches guaranteed. \nAdmission will be taken for spectators ages 12 and up.  Students under the age of 12 will be admitted free. Single day admission will be $12 or a weekend tournament pass can be purchased for $20.
URL:https://nsscvolleyball.com/event/sportsplex-blast-march-bash/
LOCATION:Sportsplex\, 526 Jim Drury Way\, Cape Girardeau\, MO\, 63701\, United States
CATEGORIES:Girls 11 Black,Girls 11 Gray,Girls 11 Nike,Girls 11 White,Girls 12 Black,Girls 13 Black-L,Girls 15 Nike,Girls 15 Pink,Girls 15 White,Girls 16 Black
END:VEVENT
BEGIN:VEVENT
DTSTART;VALUE=DATE:20260307
DTEND;VALUE=DATE:20260309
DTSTAMP:20260420T034556
CREATED:20251109T195726Z
LAST-MODIFIED:20260304T110144Z
UID:10007211-1772841600-1773014399@nsscvolleyball.com
SUMMARY:Red Plains Rendezvous
DESCRIPTION:Location: Allison Sports Town\n\n209 Airport BlvdSpringfield\, MO 65802\n\nschedule – https://www.advancedeventsystems.com/events/41110
URL:https://nsscvolleyball.com/event/red-plains-rendezvous/
LOCATION:MO
CATEGORIES:Girls 14 Nike
END:VEVENT
BEGIN:VEVENT
DTSTART;VALUE=DATE:20260308
DTEND;VALUE=DATE:20260309
DTSTAMP:20260420T034556
CREATED:20251108T054044Z
LAST-MODIFIED:20251108T054037Z
UID:10007171-1772928000-1773014399@nsscvolleyball.com
SUMMARY:Stratman Sports Series
DESCRIPTION:NOTE: 10s are at Northwest High School\, 17 Nike at Beal Center\n\n\n\nUSAV Full Day Format\nGateway (GW)\n\nHost: Stratman Sports\n\n————-\n\nThe Beal Center\n\n150 N. Eatherton Rd.Chesterfield\, MO 63005\n \n\nNorthwest High School\n6005 Cedar Hill Rd\, Cedar Hill\, MO 63016\n\n \n\nSchedule – https://www.advancedeventsystems.com/events/44250\n \nFull concession stand available. NO OUTSIDE FOOD OR DRINK (NO COOLERS!) 
URL:https://nsscvolleyball.com/event/stratman-sports-series-4/
LOCATION:MO
CATEGORIES:Girls 10,Girls 10 Black,Girls 10 White,Girls 17 Nike
END:VEVENT
BEGIN:VEVENT
DTSTART;VALUE=DATE:20260308
DTEND;VALUE=DATE:20260309
DTSTAMP:20260420T034556
CREATED:20251109T200454Z
LAST-MODIFIED:20260303T003102Z
UID:10007212-1772928000-1773014399@nsscvolleyball.com
SUMMARY:Stratman Sports Series
DESCRIPTION:Legacy VTC\n\n601 Gravois Bluffs Blvd STE GFenton\, MO 63026\n\nSchedule – \nhttps://www.advancedeventsystems.com/events/44252 \n  \nFormat:  Teams play a minimum of 8 sets and a minimum of 2 teams from each pool advance to playoffs.  Play begins at 8:00 AM; Doors Open at 7:00 AM. \nAdmissions:  Admission will be taken for adult spectators.  Single day admission will be $10.  Youth spectators under 10 will be admitted free.  There is no charge for parking. \nFirst Aid/Trainer:  A certified trainer is scheduled to be onsite. \nLive Streaming services available: https://www.legacyvtc.com/livestream \nConcession Stand:  https://www.legacyvtc.com/concessions\nNO OUTSIDE FOOD OR DRINK (NO COOLERS!) will be allowed inside Legacy VTC.
URL:https://nsscvolleyball.com/event/stratman-sports-series-12/
LOCATION:Legacy VTC – Fenton\, MO\, 601 Gravois Bluffs Blvd STE G\, Fenton\, MO\, 63026\, United States
CATEGORIES:Girls 12 Nike,Girls 14 Black-L
END:VEVENT
BEGIN:VEVENT
DTSTART;VALUE=DATE:20260308
DTEND;VALUE=DATE:20260309
DTSTAMP:20260420T034556
CREATED:20251109T201637Z
LAST-MODIFIED:20251109T201637Z
UID:10007214-1772928000-1773014399@nsscvolleyball.com
SUMMARY:Stratman Sports Series
DESCRIPTION:Metro East Sportsplex\nAddress \n2346 Mascoutah Ave.Belleville\, IL 62220\n \n\nSchedule – https://www.advancedeventsystems.com/events/44254
URL:https://nsscvolleyball.com/event/stratman-sports-series-14/
LOCATION:Metro East Sportsplex\, 2346 Mascoutah Ave.\, Belleville\, IL\, 62220\, United States
CATEGORIES:Girls 15 Black
END:VEVENT
BEGIN:VEVENT
DTSTART;VALUE=DATE:20260308
DTEND;VALUE=DATE:20260309
DTSTAMP:20260420T034556
CREATED:20251109T222128Z
LAST-MODIFIED:20260305T223823Z
UID:10007220-1772928000-1773014399@nsscvolleyball.com
SUMMARY:Jefferson College 16s
DESCRIPTION:The doors will open at 7:30 AM\nR1’s (up refs) will be provided on both courts.\nAdmission adults $10\, children under 12 free\, we have online ticket purchase available. Here is a link https://events.hometownticketing.com/boxoffice/jefferson/L2VtYmVkL2V2ZW50LzEzNw==\nCoolers must stay in the front lobby.\nYou may bring your own chairs.\nWe will have concession stand available ( cash or credit card acceptable).\n\nSchedule (attached)
URL:https://nsscvolleyball.com/event/jefferson-college-series-2/
LOCATION:Jefferson College\, 1000 Viking Drive\, Hillsboro\, MO\, 63050\, United States
CATEGORIES:Girls 16 White
END:VEVENT
BEGIN:VEVENT
DTSTART;TZID=America/Chicago:20260308T173000
DTEND;TZID=America/Chicago:20260308T193000
DTSTAMP:20260420T034556
CREATED:20251130T213036Z
LAST-MODIFIED:20251130T213037Z
UID:10007342-1772991000-1772998200@nsscvolleyball.com
SUMMARY:Practice
DESCRIPTION:Practice is at Sportsplex unless otherwise noted below \n16 Nike \n17 White
URL:https://nsscvolleyball.com/event/practice-9-5-8/
LOCATION:MO
CATEGORIES:Girls 16 Nike,Girls 17 White
END:VEVENT
END:VCALENDAR