BEGIN:VCALENDAR
VERSION:2.0
PRODID:-//NSSC Volleyball Club | Cape Girardeau, MO - ECPv6.15.20//NONSGML v1.0//EN
CALSCALE:GREGORIAN
METHOD:PUBLISH
X-ORIGINAL-URL:https://nsscvolleyball.com
X-WR-CALDESC:Events for NSSC Volleyball Club | Cape Girardeau, MO
REFRESH-INTERVAL;VALUE=DURATION:PT1H
X-Robots-Tag:noindex
X-PUBLISHED-TTL:PT1H
BEGIN:VTIMEZONE
TZID:America/Chicago
BEGIN:DAYLIGHT
TZOFFSETFROM:-0600
TZOFFSETTO:-0500
TZNAME:CDT
DTSTART:20250309T080000
END:DAYLIGHT
BEGIN:STANDARD
TZOFFSETFROM:-0500
TZOFFSETTO:-0600
TZNAME:CST
DTSTART:20251102T070000
END:STANDARD
BEGIN:DAYLIGHT
TZOFFSETFROM:-0600
TZOFFSETTO:-0500
TZNAME:CDT
DTSTART:20260308T080000
END:DAYLIGHT
BEGIN:STANDARD
TZOFFSETFROM:-0500
TZOFFSETTO:-0600
TZNAME:CST
DTSTART:20261101T070000
END:STANDARD
BEGIN:DAYLIGHT
TZOFFSETFROM:-0600
TZOFFSETTO:-0500
TZNAME:CDT
DTSTART:20270314T080000
END:DAYLIGHT
BEGIN:STANDARD
TZOFFSETFROM:-0500
TZOFFSETTO:-0600
TZNAME:CST
DTSTART:20271107T070000
END:STANDARD
END:VTIMEZONE
BEGIN:VEVENT
DTSTART;VALUE=DATE:20260301
DTEND;VALUE=DATE:20260302
DTSTAMP:20260420T163728
CREATED:20251109T193937Z
LAST-MODIFIED:20260226T113010Z
UID:10007208-1772323200-1772409599@nsscvolleyball.com
SUMMARY:Jefferson College Series
DESCRIPTION:NSSC 11 Black\, 11 Nike \nJefferson College\, 1000 Viking Dr. Hillsboro\, MO 63090. \n————————————— \nThe doors will open at 7:30 AM\nR1’s (up refs) will be provided on both courts.\nAdmission adults $10\, children under 12 free\, we have online ticket purchase available. Here is a link https://events.hometownticketing.com/boxoffice/jefferson/L2VtYmVkL2V2ZW50LzEzNw==\nCoolers must stay in the front lobby.\nYou may bring your own chairs.\nWe will have concession stand available ( cash or credit card acceptable). Also\, we will have a coffee truck outside.\n\nSchedule attached (image)
URL:https://nsscvolleyball.com/event/jefferson-college-series/
LOCATION:Jefferson College\, 1000 Viking Drive\, Hillsboro\, MO\, 63050\, United States
CATEGORIES:Girls 11 Black,Girls 11 Nike
END:VEVENT
BEGIN:VEVENT
DTSTART;VALUE=DATE:20260301
DTEND;VALUE=DATE:20260302
DTSTAMP:20260420T163728
CREATED:20251109T194751Z
LAST-MODIFIED:20260224T174937Z
UID:10007209-1772323200-1772409599@nsscvolleyball.com
SUMMARY:Stratman Sports Series
DESCRIPTION:Center St. Louis\n\n6727 Langley Ave.Affton\, MO 63123\n\nSchedule – \nhttps://www.advancedeventsystems.com/events/44248 \n  \n\nFormat:  Teams play a minimum of 8 sets and a minimum of 2 teams from each pool advance to playoffs.  Play begins at 8:00 AM; Doors Open at 7:00 AM. \nAdmissions & Parking:  Admission will be taken for adult spectators.  Single day admission will be $10.  Youth spectators under 10 will be admitted free. There is no charge for parking. \nConcession Stand:  Full concession stand available. NO OUTSIDE FOOD OR DRINK (NO COOLERS!) will be allowed inside Center St. Louis. \nGeneral Tournament Policies: https://www.stratmansports.com/tournamentpolicies \nFacility Policies:  https://www.stratmansports.com/page/show/3463138-center-st-louis-affton-mo- \n\n\nEvent Policy\nTeams will not be accepted into the tournament until payment has been received. \nVenue Rules \n\nFacility Access: Opens at 7 am.\nFood & Drink: Only bottled drinks are allowed on the team’s sideline. All other food and drinks must be consumed in designated areas.  Venue has a strict NO OUTSIDE FOOD OR DRINK POLICY.\n\n\n 
URL:https://nsscvolleyball.com/event/stratman-sports-series-10/
LOCATION:Center St Louis\, 6727 Langley Ave\, St. Louis\, 63126\, United States
CATEGORIES:Girls 16 Nike
END:VEVENT
BEGIN:VEVENT
DTSTART;VALUE=DATE:20260301
DTEND;VALUE=DATE:20260302
DTSTAMP:20260420T163728
CREATED:20251109T194936Z
LAST-MODIFIED:20260224T171034Z
UID:10007210-1772323200-1772409599@nsscvolleyball.com
SUMMARY:Stratman Sports Series
DESCRIPTION:Stratman Sports Series – 3/1/26 – Belleville \nMetro East Sportsplex\nAddress \n2346 Mascoutah Ave.Belleville\, IL 62220\n\n  \nSchedule – \nhttps://www.advancedeventsystems.com/events/44246 \n  \n\nOverview:  This single-day event will be played at the Metro East Sportsplex.  Metro East Sportsplex has up to 4 hardwood courts and ample spectator seating. \nFormat:  Teams play a minimum of 8 sets and a minimum of 2 teams from each pool advance to playoffs.  Play begins at 8:00 AM; Doors Open at 7:00 AM. \nAdmissions & Parking:  Admission will be taken for adult spectators.  Single day admission will be $10.  Youth spectators under 10 will be admitted free. There is no charge for parking. \nConcession Stand:  Full concession stand available. NO OUTSIDE FOOD OR DRINK (NO COOLERS!) will be allowed inside Metro East Sportsplex. \nGeneral Tournament Policies: https://www.stratmansports.com/tournamentpolicies \nFacility Policies:  https://www.stratmansports.com/page/show/3901135-metro-east-sportsplex-belleville-il- \n\n\nEvent Policy\nTeams will not be accepted into the tournament until payment has been received. \nVenue Rules \n\nFacility Access: Opens at 7 am.\nFood & Drink: Only bottled drinks are allowed on the team’s sideline. All other food and drinks must be consumed in designated areas.  Venue has a strict NO OUTSIDE FOOD OR DRINK POLICY.
URL:https://nsscvolleyball.com/event/stratman-sports-series-11/
LOCATION:Metro East Sportsplex\, 2346 Mascoutah Ave.\, Belleville\, IL\, 62220\, United States
CATEGORIES:Girls 17 Nike,Girls 18 Black
END:VEVENT
BEGIN:VEVENT
DTSTART;VALUE=DATE:20260301
DTEND;VALUE=DATE:20260302
DTSTAMP:20260420T163728
CREATED:20260129T030003Z
LAST-MODIFIED:20260224T121849Z
UID:10007436-1772323200-1772409599@nsscvolleyball.com
SUMMARY:Perryville Tournament
DESCRIPTION:10 Black Schedule: https://events.teamsnap.com/events/46995/results/division \n  \n*5 Team Pool Play Matches will be two sets to 19. NO CAP. \n*Tournament Play will be best two out of three to 19. Third set to 15. NO CAP. \n*Championship will be to 19 or 25. Teams must agree. Third set to 15. NO CAP. \n* Only the TOP 3 Teams will advance to Tournament Play! \n*For this tournament\, we will be awarding first and second place medals. \n  \n*There WILL be a small concession stand available for this tournament. \nYou are still welcome to bring food into our gyms. Please be respectful and clean up after your teams. \n  \n*Doors open at 7:00AM. \nElementary School Address: 605 Schindler Rd\, Perryville\, MO 63775\, USA
URL:https://nsscvolleyball.com/event/perryville-tournament/
LOCATION:Perryville\, MO\, Perryville\, MO\, United States
CATEGORIES:Girls 10 Black
END:VEVENT
END:VCALENDAR